BEGIN:VCALENDAR
VERSION:2.0
PRODID:-//The Jersey Bee - ECPv6.15.12.2//NONSGML v1.0//EN
CALSCALE:GREGORIAN
METHOD:PUBLISH
X-WR-CALNAME:The Jersey Bee
X-ORIGINAL-URL:https://jerseybee.org
X-WR-CALDESC:Events for The Jersey Bee
REFRESH-INTERVAL;VALUE=DURATION:PT1H
X-Robots-Tag:noindex
X-PUBLISHED-TTL:PT1H
BEGIN:VTIMEZONE
TZID:America/Toronto
BEGIN:DAYLIGHT
TZOFFSETFROM:-0500
TZOFFSETTO:-0400
TZNAME:EDT
DTSTART:20230312T070000
END:DAYLIGHT
BEGIN:STANDARD
TZOFFSETFROM:-0400
TZOFFSETTO:-0500
TZNAME:EST
DTSTART:20231105T060000
END:STANDARD
BEGIN:DAYLIGHT
TZOFFSETFROM:-0500
TZOFFSETTO:-0400
TZNAME:EDT
DTSTART:20240310T070000
END:DAYLIGHT
BEGIN:STANDARD
TZOFFSETFROM:-0400
TZOFFSETTO:-0500
TZNAME:EST
DTSTART:20241103T060000
END:STANDARD
BEGIN:DAYLIGHT
TZOFFSETFROM:-0500
TZOFFSETTO:-0400
TZNAME:EDT
DTSTART:20250309T070000
END:DAYLIGHT
BEGIN:STANDARD
TZOFFSETFROM:-0400
TZOFFSETTO:-0500
TZNAME:EST
DTSTART:20251102T060000
END:STANDARD
END:VTIMEZONE
BEGIN:VEVENT
DTSTART;VALUE=DATE:20240204
DTEND;VALUE=DATE:20240205
DTSTAMP:20260425T080607
CREATED:20240201T160906Z
LAST-MODIFIED:20240201T160906Z
UID:10000949-1707004800-1707091199@jerseybee.org
SUMMARY:SOMA Justice February 2024 "BIPOC Black Joy Yoga"
DESCRIPTION:SOMA Justice plans a “BIPOC Black Joy Yoga” on Sundays throughout February in Maplewood. Classes are at 9:30 a.m. at the 1978 Maplewood Arts Center. Preregistration is required. \nFrom SOMA Justice. \nThis information is accurate as of when it was published. Check with the event coordinator for the latest details.
URL:https://jerseybee.org/event/soma-justice-february-2024-bipoc-black-joy-yoga/
CATEGORIES:Maplewood,South Orange
ATTACH;FMTTYPE=image/jpeg:https://jerseybee.org/wp-content/uploads/2023/09/SingleBee_3.jpeg
END:VEVENT
BEGIN:VEVENT
DTSTART;VALUE=DATE:20240204
DTEND;VALUE=DATE:20240205
DTSTAMP:20260425T080607
CREATED:20240201T163639Z
LAST-MODIFIED:20240201T163639Z
UID:10000954-1707004800-1707091199@jerseybee.org
SUMMARY:SOMA Cross Cultural Works "2024 Lunar Fest"
DESCRIPTION:SOMA Cross Cultural Works plans 2024 “Lunar Fest” on Feb. 4 to celebrate the year of the dragon. The event will run from 12-4 p.m.\, at The Woodland\, 60 Woodland Rd. in Maplewood. The program will include a lion dance\, children’s activities\, and food trucks.  \nFrom Lunar Fest NJ. \nThis information is accurate as of when it was published. Check with the event coordinator for the latest details.
URL:https://jerseybee.org/event/soma-cross-cultural-works-2024-lunar-fest/
CATEGORIES:Essex County,Maplewood,South Orange
ATTACH;FMTTYPE=image/jpeg:https://jerseybee.org/wp-content/uploads/2023/09/Artboard-1_1.jpeg
END:VEVENT
BEGIN:VEVENT
DTSTART;VALUE=DATE:20240205
DTEND;VALUE=DATE:20240206
DTSTAMP:20260425T080607
CREATED:20240129T215737Z
LAST-MODIFIED:20240129T215737Z
UID:10000882-1707091200-1707177599@jerseybee.org
SUMMARY:Bloomfield Library Monday Night Book Club February 2024 Meeting
DESCRIPTION:Bloomfield library’s Monday night book club meeting planned for Feb. 5. Members will discuss “The Guest Room” by Chris Bohjalian at 6:30 p.m. at the library. \nFrom Bloomfield Public Library. \nThis information is accurate as of when it was published. Check with the event coordinator for the latest details.
URL:https://jerseybee.org/event/bloomfield-library-monday-night-book-club-february-2024-meeting/
CATEGORIES:Bloomfield
ATTACH;FMTTYPE=image/jpeg:https://jerseybee.org/wp-content/uploads/2023/09/Artboard-1_1.jpeg
END:VEVENT
BEGIN:VEVENT
DTSTART;VALUE=DATE:20240205
DTEND;VALUE=DATE:20240206
DTSTAMP:20260425T080607
CREATED:20240129T220139Z
LAST-MODIFIED:20240129T220139Z
UID:10000883-1707091200-1707177599@jerseybee.org
SUMMARY:SMAPA Spring 2024 "Breakdancing for Beginners" Class Registration Deadline
DESCRIPTION:SMAPA to host “Breakdancing for Beginners” for ages 7+ starting Feb. 5 in Montclair. Classes are Tuesdays from 4-5 p.m. for ages 7-11 and from 5-6 p.m. for teenagers at 14 S Park St. The program ends on June 9. Online registration is required. \nFrom Sharon Miller’s Academy for Performing Arts. \nThis information is accurate as of when it was published. Check with the event coordinator for the latest details.
URL:https://jerseybee.org/event/smapa-spring-2024-breakdancing-for-beginners-class-registration-deadline/
CATEGORIES:Glen Ridge,Montclair
ATTACH;FMTTYPE=image/jpeg:https://jerseybee.org/wp-content/uploads/2023/09/SingleBee_2.jpeg
END:VEVENT
BEGIN:VEVENT
DTSTART;VALUE=DATE:20240205
DTEND;VALUE=DATE:20240206
DTSTAMP:20260425T080607
CREATED:20240201T151318Z
LAST-MODIFIED:20240201T151318Z
UID:10000935-1707091200-1707177599@jerseybee.org
SUMMARY:West Orange Library 2024 "AARP Free Tax Assistance"
DESCRIPTION:West Orange library to host “AARP Free Tax Assistance” starting on Feb. 5. The event\, scheduled from 10 a.m. to 1 p.m.\, will offer free tax assistance to West Orange residents on Mondays and Wednesdays until Apr. 15. Residents must bring photo id and social security cards for everyone listed on the tax return. Appointments by phone are required. \nFrom West Orange Public Library. \nThis information is accurate as of when it was published. Check with the event coordinator for the latest details.
URL:https://jerseybee.org/event/west-orange-library-2024-aarp-free-tax-assistance/
ATTACH;FMTTYPE=image/jpeg:https://jerseybee.org/wp-content/uploads/2023/09/SingleBee_7.jpeg
END:VEVENT
BEGIN:VEVENT
DTSTART;VALUE=DATE:20240205
DTEND;VALUE=DATE:20240206
DTSTAMP:20260425T080607
CREATED:20240201T151729Z
LAST-MODIFIED:20240201T151729Z
UID:10000936-1707091200-1707177599@jerseybee.org
SUMMARY:South Orange Recreation Spring 2024 Pierro Gallery Art Submission Deadline
DESCRIPTION:South Orange recreation is seeking art submissions for the Pierro Gallery’s spring 2024 exhibit by Feb. 5. The spring show is showcasing South Orange artists and is limited to residents. Artwork submissions are accepted online. \nFrom South Orange Recreation and Cultural Affairs. \nThis information is accurate as of when it was published. Check with the event coordinator for the latest details.
URL:https://jerseybee.org/event/south-orange-recreation-spring-2024-pierro-gallery-art-submission-deadline/
CATEGORIES:South Orange
ATTACH;FMTTYPE=image/jpeg:https://jerseybee.org/wp-content/uploads/2023/09/SingleBee_8.jpeg
END:VEVENT
BEGIN:VEVENT
DTSTART;VALUE=DATE:20240205
DTEND;VALUE=DATE:20240206
DTSTAMP:20260425T080607
CREATED:20240201T153028Z
LAST-MODIFIED:20240201T153028Z
UID:10000942-1707091200-1707177599@jerseybee.org
SUMMARY:Park Avenue Elementary School February 2024 Health Screenings with Cooperman Barnabas Medical Center
DESCRIPTION:Park Avenue Elementary School to host free health screenings with Cooperman Barnabas Medical Center in Orange on Feb. 5. Services include stroke screenings\, cholesterol screenings\, blood pressure checks\, and glucose readings from 10 a.m. to 12 p.m. \nFrom Orange Public Schools. \nThis information is accurate as of when it was published. Check with the event coordinator for the latest details.
URL:https://jerseybee.org/event/park-avenue-elementary-school-february-2024-health-screenings-with-cooperman-barnabas-medical-center/
ATTACH;FMTTYPE=image/jpeg:https://jerseybee.org/wp-content/uploads/2023/09/SingleBee_6.jpeg
END:VEVENT
BEGIN:VEVENT
DTSTART;VALUE=DATE:20240205
DTEND;VALUE=DATE:20240206
DTSTAMP:20260425T080607
CREATED:20240201T153225Z
LAST-MODIFIED:20240201T153225Z
UID:10000944-1707091200-1707177599@jerseybee.org
SUMMARY:Mountainside Medical Center February 2024 "Infant Care and Safety" Class
DESCRIPTION:Mountainside Medical Center to host “Infant Care and Safety” for expectant parents on Feb. 5 in Montclair. The class is from 7-9:30 p.m. and covers care\, safety\, growth\, and development of infants. The class is designed for parents after their seventh month of pregnancy. Preregistration is required. \nFrom Mountainside Medical Center. \nThis information is accurate as of when it was published. Check with the event coordinator for the latest details.
URL:https://jerseybee.org/event/mountainside-medical-center-february-2024-infant-care-and-safety-class/
CATEGORIES:Bloomfield,Glen Ridge,Montclair,Nutley
ATTACH;FMTTYPE=image/jpeg:https://jerseybee.org/wp-content/uploads/2023/09/SingleBee_2.jpeg
END:VEVENT
BEGIN:VEVENT
DTSTART;VALUE=DATE:20240205
DTEND;VALUE=DATE:20240206
DTSTAMP:20260425T080607
CREATED:20240201T181319Z
LAST-MODIFIED:20240201T181319Z
UID:10000956-1707091200-1707177599@jerseybee.org
SUMMARY:East Orange Family Success Center's "February 2024 Farmers Market"
DESCRIPTION:East Orange Family Success Center plans free farmers market on Feb. 5. The market will be held from 4-6 p.m. at the East Orange Family Success Center\, 132 South Harrison St. in East Orange. Fresh fruit and vegetables will be available\, and free children’s books will be distributed. Preregistration is required\, and participants must bring their own bags. \nFrom East Orange Family Success Center. \nThis information is accurate as of when it was published. Check with the event coordinator for the latest details.
URL:https://jerseybee.org/event/east-orange-family-success-centers-february-2024-farmers-market/
CATEGORIES:East Orange
ATTACH;FMTTYPE=image/jpeg:https://jerseybee.org/wp-content/uploads/2023/09/SingleBee_5.jpeg
END:VEVENT
BEGIN:VEVENT
DTSTART;VALUE=DATE:20240205
DTEND;VALUE=DATE:20240210
DTSTAMP:20260425T080607
CREATED:20240205T205447Z
LAST-MODIFIED:20240205T205447Z
UID:10000974-1707091200-1707523199@jerseybee.org
SUMMARY:Brookdale School February 2024 "Souper Bowl" Drive
DESCRIPTION:Brookdale Elementary School seeks canned soup donations for its “Souper Bowl” drive until Feb. 9 in Bloomfield. Items can be dropped off outside of the main office. All cans will go toward the Bloomfield High School food pantry. \nFrom Bloomfield Public Schools. \nThis information is accurate as of when it was published. Check with the event coordinator for the latest details.
URL:https://jerseybee.org/event/brookdale-school-february-2024-souper-bowl-drive/
CATEGORIES:Volunteering and Activism
ATTACH;FMTTYPE=image/jpeg:https://jerseybee.org/wp-content/uploads/2023/09/SingleBee_3.jpeg
END:VEVENT
BEGIN:VEVENT
DTSTART;VALUE=DATE:20240206
DTEND;VALUE=DATE:20240207
DTSTAMP:20260425T080607
CREATED:20240129T220536Z
LAST-MODIFIED:20240129T220536Z
UID:10000885-1707177600-1707263999@jerseybee.org
SUMMARY:Yantacaw Elementary School February 2024 Scholastic Book Fair
DESCRIPTION:Yantacaw Elementary School plans a Scholastic Book Fair on Feb. 6 in Nutley. The event is from 7-8:30 p.m. during and after the PTO meeting.  \nFrom Yantacaw Elementary School – PTO. \nThis information is accurate as of when it was published. Check with the event coordinator for the latest details.
URL:https://jerseybee.org/event/yantacaw-elementary-school-february-2024-scholastic-book-fair/
ATTACH;FMTTYPE=image/jpeg:https://jerseybee.org/wp-content/uploads/2023/09/Artboard-1_1.jpeg
END:VEVENT
BEGIN:VEVENT
DTSTART;VALUE=DATE:20240206
DTEND;VALUE=DATE:20240207
DTSTAMP:20260425T080607
CREATED:20240131T184454Z
LAST-MODIFIED:20240131T184454Z
UID:10000903-1707177600-1707263999@jerseybee.org
SUMMARY:Newark's People Assembly 2024 "Citizen Power Leadership Workshop: Central Ward"
DESCRIPTION:Newark’s People Assembly plans 2024 virtual “Citizen Power Leadership Workshop” for Central Ward residents Feb. 6. The forums begin at 6 p.m. and\, residents are invited to share concerns and learn about city resources. Preregistration is required. \nFrom Newark City. \nThis information is accurate as of when it was published. Check with the event coordinator for the latest details.
URL:https://jerseybee.org/event/newarks-people-assembly-2024-citizen-power-leadership-workshop-central-ward/
ATTACH;FMTTYPE=image/jpeg:https://jerseybee.org/wp-content/uploads/2023/09/SingleBee_9.jpeg
END:VEVENT
BEGIN:VEVENT
DTSTART;VALUE=DATE:20240206
DTEND;VALUE=DATE:20240207
DTSTAMP:20260425T080607
CREATED:20240201T150726Z
LAST-MODIFIED:20240201T150726Z
UID:10000934-1707177600-1707263999@jerseybee.org
SUMMARY:Women's Club of Glen Ridge February 2024 Meeting
DESCRIPTION:Women’s Club of Glen Ridge plans its monthly meeting on Feb. 6. The meeting is from 7-9 p.m. at 219 Ridgewood Ave. and will include a dinner followed by updates on the efforts of Neighbor to Neighbor Network and N.J. Mental Health Players. Registration is accepted online. \nFrom Women’s Club of Glen Ridge. \nThis information is accurate as of when it was published. Check with the event coordinator for the latest details.
URL:https://jerseybee.org/event/womens-club-of-glen-ridge-february-2024-meeting/
CATEGORIES:Bloomfield,Glen Ridge,Montclair
ATTACH;FMTTYPE=image/jpeg:https://jerseybee.org/wp-content/uploads/2023/09/SingleBee_9.jpeg
END:VEVENT
BEGIN:VEVENT
DTSTART;VALUE=DATE:20240206
DTEND;VALUE=DATE:20240207
DTSTAMP:20260425T080607
CREATED:20240201T152256Z
LAST-MODIFIED:20240201T152256Z
UID:10000939-1707177600-1707263999@jerseybee.org
SUMMARY:Newark Public Safety February 2024 "Seventh Precinct Business Meeting"
DESCRIPTION:Newark public safety plans “Precinct’s Business Meeting” Feb. 6 with Seventh Precinct officers. The meeting begins at 6 p.m. at St. Francis Xavier Church’s cafeteria and is open to the public. \nFrom Newark Public Safety. \nThis information is accurate as of when it was published. Check with the event coordinator for the latest details.
URL:https://jerseybee.org/event/newark-public-safety-february-2024-seventh-precinct-business-meeting/
CATEGORIES:Newark
ATTACH;FMTTYPE=image/jpeg:https://jerseybee.org/wp-content/uploads/2023/09/SingleBee_10.jpeg
END:VEVENT
BEGIN:VEVENT
DTSTART;VALUE=DATE:20240206
DTEND;VALUE=DATE:20240207
DTSTAMP:20260425T080607
CREATED:20240201T152646Z
LAST-MODIFIED:20240201T152646Z
UID:10000941-1707177600-1707263999@jerseybee.org
SUMMARY:Nutley February 2024 "Public Hearing for Glotzbach Memorial Park Improvements"
DESCRIPTION:Nutley to host “Public Hearing for Glotzbach Memorial Park Improvements” on Feb. 6. The hearing begins at 7 p.m. at Nutley Commission Chambers. The project includes installation of synthetic turf on the park’s tennis courts. Members of the public are encouraged to attend the public hearing with questions and feedback. \nFrom TAPinto Nutley. \nThis information is accurate as of when it was published. Check with the event coordinator for the latest details.
URL:https://jerseybee.org/event/nutley-february-2024-public-hearing-for-glotzbach-memorial-park-improvements/
CATEGORIES:Nutley
ATTACH;FMTTYPE=image/jpeg:https://jerseybee.org/wp-content/uploads/2023/09/SingleBee_8.jpeg
END:VEVENT
BEGIN:VEVENT
DTSTART;VALUE=DATE:20240206
DTEND;VALUE=DATE:20240207
DTSTAMP:20260425T080607
CREATED:20240201T153222Z
LAST-MODIFIED:20240201T153222Z
UID:10000943-1707177600-1707263999@jerseybee.org
SUMMARY:Mountainside Medical Center February 2024 "Maternity Tour"
DESCRIPTION:Mountainside Medical Center plans a tour of its birthing center on Feb. 6 in Montclair. The tour is from 5:30-6:15 p.m. for parents who plan to deliver at Mountainside. Registration is required. \nFrom Mountainside Medical Center. \nThis information is accurate as of when it was published. Check with the event coordinator for the latest details.
URL:https://jerseybee.org/event/mountainside-medical-center-february-2024-maternity-tour/
CATEGORIES:Belleville,Bloomfield,Glen Ridge,Montclair,Nutley
ATTACH;FMTTYPE=image/jpeg:https://jerseybee.org/wp-content/uploads/2023/09/Artboard-1_1.jpeg
END:VEVENT
BEGIN:VEVENT
DTSTART;VALUE=DATE:20240206
DTEND;VALUE=DATE:20240207
DTSTAMP:20260425T080607
CREATED:20240201T162749Z
LAST-MODIFIED:20240201T162749Z
UID:10000953-1707177600-1707263999@jerseybee.org
SUMMARY:Maplewood Library's "February 2024 Comic Club Meeting"
DESCRIPTION:Maplewood library plans “Comic Club” meeting for children age 5-12 on Feb. 6 at the Hilton Branch. The meeting is scheduled from 3:30-4:30 p.m.\, will include drawing\, writing\, and creating graphic novels. Preregistration is required. \nFrom Maplewood Public Library. \nThis information is accurate as of when it was published. Check with the event coordinator for the latest details.
URL:https://jerseybee.org/event/maplewood-librarys-february-2024-comic-club-meeting/
CATEGORIES:Irvington,Maplewood
ATTACH;FMTTYPE=image/jpeg:https://jerseybee.org/wp-content/uploads/2023/09/SingleBee_10.jpeg
END:VEVENT
BEGIN:VEVENT
DTSTART;VALUE=DATE:20240206
DTEND;VALUE=DATE:20240207
DTSTAMP:20260425T080607
CREATED:20240201T170431Z
LAST-MODIFIED:20240201T170431Z
UID:10000955-1707177600-1707263999@jerseybee.org
SUMMARY:South Orange Library "Tax Prep with AARP"
DESCRIPTION:South Orange library host “Tax Prep with AARP” starting Feb. 6 at the Skate House\, 5 Mead St. in South Orange. Volunteers will be available to help South Orange residents file their tax returns on Tuesdays and Thursdays until Apr. 11. Preregistration is required by phone. \nFrom South Orange Public Library. \nThis information is accurate as of when it was published. Check with the event coordinator for the latest details.
URL:https://jerseybee.org/event/south-orange-library-tax-prep-with-aarp/
ATTACH;FMTTYPE=image/jpeg:https://jerseybee.org/wp-content/uploads/2023/09/Artboard-1_1.jpeg
END:VEVENT
BEGIN:VEVENT
DTSTART;VALUE=DATE:20240206
DTEND;VALUE=DATE:20240207
DTSTAMP:20260425T080607
CREATED:20240205T194901Z
LAST-MODIFIED:20240205T194901Z
UID:10000965-1707177600-1707263999@jerseybee.org
SUMMARY:South Orange Library February 2024 "Toddler Tuesdays" and "Wednesday Wigglers" Story Times
DESCRIPTION:South Orange library to host virtual “Toddler Tuesdays” and “Wednesday Wigglers” story time events throughout February. The events are weekly at 11 a.m. In-person readings will resume in spring 2024. \nFrom South Orange Public Library. \nThis information is accurate as of when it was published. Check with the event coordinator for the latest details.
URL:https://jerseybee.org/event/south-orange-library-february-2024-toddler-tuesdays-and-wednesday-wigglers-story-times/
CATEGORIES:South Orange
ATTACH;FMTTYPE=image/jpeg:https://jerseybee.org/wp-content/uploads/2023/09/SingleBee_3.jpeg
END:VEVENT
BEGIN:VEVENT
DTSTART;VALUE=DATE:20240206
DTEND;VALUE=DATE:20240207
DTSTAMP:20260425T080607
CREATED:20240205T200545Z
LAST-MODIFIED:20240205T200545Z
UID:10000968-1707177600-1707263999@jerseybee.org
SUMMARY:Glen Ridge Library February 2024 "Young Adult Cookie Decorating"
DESCRIPTION:Glen Ridge library to host a “Young Adult Cookie Decorating” event on Feb. 6 for student in grades 6+. The event begins at 3:15 p.m. and registration is required. \nFrom Glen Ridge Public Library. \nThis information is accurate as of when it was published. Check with the event coordinator for the latest details.
URL:https://jerseybee.org/event/glen-ridge-library-february-2024-young-adult-cookie-decorating/
CATEGORIES:Glen Ridge
ATTACH;FMTTYPE=image/jpeg:https://jerseybee.org/wp-content/uploads/2023/09/SingleBee_7.jpeg
END:VEVENT
BEGIN:VEVENT
DTSTART;VALUE=DATE:20240206
DTEND;VALUE=DATE:20240207
DTSTAMP:20260425T080607
CREATED:20240205T200618Z
LAST-MODIFIED:20240205T200618Z
UID:10000970-1707177600-1707263999@jerseybee.org
SUMMARY:Gordon Parks Academy February 2024 Parent Academy "Social Emotional Development"
DESCRIPTION:Gordon Parks Academy to host Parent Academy “Social Emotional Development” session on Feb. 6 in East Orange. The session begins at 6 p.m. and aims to give parents and caregivers resources and training that can be utilized in their child’s academic and social development. Preregistration is required. \nFrom Gordon Parks Academy. \nThis information is accurate as of when it was published. Check with the event coordinator for the latest details.
URL:https://jerseybee.org/event/gordon-parks-academy-february-2024-parent-academy-social-emotional-development/
ATTACH;FMTTYPE=image/jpeg:https://jerseybee.org/wp-content/uploads/2023/09/SingleBee_4.jpeg
END:VEVENT
BEGIN:VEVENT
DTSTART;VALUE=DATE:20240206
DTEND;VALUE=DATE:20240207
DTSTAMP:20260425T080607
CREATED:20240205T200749Z
LAST-MODIFIED:20240205T200749Z
UID:10000971-1707177600-1707263999@jerseybee.org
SUMMARY:Rosa Parks Community School February 2024 "Managing Seasonal Allergies" Webinar
DESCRIPTION:Rosa Parks Community School plans a “Managing Seasonal Allergies” webinar on Feb. 6. Cooperman Barnabus Medical Center will lead the informational session at 6 p.m. Preregistration is required. \nFrom Rosa Parks Community School. \nThis information is accurate as of when it was published. Check with the event coordinator for the latest details.
URL:https://jerseybee.org/event/rosa-parks-community-school-february-2024-managing-seasonal-allergies-webinar/
ATTACH;FMTTYPE=image/jpeg:https://jerseybee.org/wp-content/uploads/2023/09/SingleBee_10.jpeg
END:VEVENT
BEGIN:VEVENT
DTSTART;VALUE=DATE:20240206
DTEND;VALUE=DATE:20240207
DTSTAMP:20260425T080607
CREATED:20240205T204719Z
LAST-MODIFIED:20240205T204719Z
UID:10000973-1707177600-1707263999@jerseybee.org
SUMMARY:Montclair Library February 2024 "Celebrating James Baldwin" Class with Ada Mackenzie-Thomas
DESCRIPTION:Montclair library to host a “Celebrating James Baldwin” virtual class for adults starting Feb. 6. Ada Mackenzie-Thomas will lead the class from 6:15-7:45 p.m. Attendees will read three of Baldwin’s books and discuss his influence and activism. Class will meet on Tuesdays until Feb. 20. \nFrom Montclair Public Library. \nThis information is accurate as of when it was published. Check with the event coordinator for the latest details.
URL:https://jerseybee.org/event/montclair-library-february-2024-celebrating-james-baldwin-class-with-ada-mackenzie-thomas/
ATTACH;FMTTYPE=image/jpeg:https://jerseybee.org/wp-content/uploads/2023/09/SingleBee_10.jpeg
END:VEVENT
BEGIN:VEVENT
DTSTART;VALUE=DATE:20240206
DTEND;VALUE=DATE:20240207
DTSTAMP:20260425T080607
CREATED:20240205T210454Z
LAST-MODIFIED:20240205T210454Z
UID:10000977-1707177600-1707263999@jerseybee.org
SUMMARY:Lakeland Bank\, N.J. Citizen Action February 2024 Virtual "First-Time Homebuyer Seminar"
DESCRIPTION:Lakeland Bank and N.J. Citizen Action to host a free\, virtual “First-Time Homebuyer Seminar” on Feb. 6. The event\, scheduled from 11:30 a.m. to 12:30 p.m.\, will provide information on the home buying process\, affordable mortgage programs\, fair housing\, and avoiding predatory lending. Preregistration is required and can be completed online. \nFrom New Jersey Citizen Action. \nThis information is accurate as of when it was published. Check with the event coordinator for the latest details.
URL:https://jerseybee.org/event/lakeland-bank-n-j-citizen-action-february-2024-virtual-first-time-homebuyer-seminar/
CATEGORIES:Resources
ATTACH;FMTTYPE=image/jpeg:https://jerseybee.org/wp-content/uploads/2023/09/SingleBee_10.jpeg
END:VEVENT
BEGIN:VEVENT
DTSTART;VALUE=DATE:20240206
DTEND;VALUE=DATE:20240207
DTSTAMP:20260425T080607
CREATED:20240206T222217Z
LAST-MODIFIED:20240206T222217Z
UID:10000995-1707177600-1707263999@jerseybee.org
SUMMARY:South Orange Library February 2024 "Bingo Book Challenge"
DESCRIPTION:South Orange library plans “Bingo Book Challenge” through the month February. Players can win a gift card from a local Black-owned business once completing the challenge. Library card holders can sign up online. \nFrom South Orange Public Library. \nThis information is accurate as of when it was published. Check with the event coordinator for the latest details.
URL:https://jerseybee.org/event/south-orange-library-february-2024-bingo-book-challenge/
CATEGORIES:South Orange
ATTACH;FMTTYPE=image/jpeg:https://jerseybee.org/wp-content/uploads/2023/09/SingleBee_8.jpeg
END:VEVENT
BEGIN:VEVENT
DTSTART;VALUE=DATE:20240207
DTEND;VALUE=DATE:20240208
DTSTAMP:20260425T080607
CREATED:20240205T192013Z
LAST-MODIFIED:20240205T192013Z
UID:10000960-1707264000-1707350399@jerseybee.org
SUMMARY:Maplewood Library February 2024 "Kids Ink Painting Workshop"
DESCRIPTION:Maplewood library plans “Kids Ink Painting Workshop” for ages 5-12 on Feb. 7 at the Hilton Branch. The event\, scheduled from 4:30-5:45 p.m.\, will feature a hands-on ink painting workshop led by Mandarin teacher and artist\, Manman Huang. Registration is required. \nFrom Maplewood Public Library. \nThis information is accurate as of when it was published. Check with the event coordinator for the latest details.
URL:https://jerseybee.org/event/maplewood-library-february-2024-kids-ink-painting-workshop/
CATEGORIES:Irvington,Maplewood
ATTACH;FMTTYPE=image/jpeg:https://jerseybee.org/wp-content/uploads/2023/09/SingleBee_2.jpeg
END:VEVENT
BEGIN:VEVENT
DTSTART;VALUE=DATE:20240207
DTEND;VALUE=DATE:20240208
DTSTAMP:20260425T080608
CREATED:20240205T192014Z
LAST-MODIFIED:20240205T192014Z
UID:10000961-1707264000-1707350399@jerseybee.org
SUMMARY:Technology High School February 2024 "FAFSA Completion Workshop" Sessions
DESCRIPTION:Technology High School to host “FAFSA Completion Workshop” for grade 12 students and families on Feb. 7 and Feb. 15 in Newark. The workshop is from 9:30-11:30 a.m. and 12:30-2:30 p.m. on Feb. 7\, and from 2-4 p.m. and 5-7 p.m. on Feb. 15. A representative from the N.J. Education Assistance Authority will lead the workshops. All financial aid information must be complete. Registration is required. \nFrom Technology High School. \nThis information is accurate as of when it was published. Check with the event coordinator for the latest details.
URL:https://jerseybee.org/event/technology-high-school-february-2024-fafsa-completion-workshop-sessions/
CATEGORIES:Resources
ATTACH;FMTTYPE=image/jpeg:https://jerseybee.org/wp-content/uploads/2023/09/Artboard-1_1.jpeg
END:VEVENT
BEGIN:VEVENT
DTSTART;VALUE=DATE:20240207
DTEND;VALUE=DATE:20240208
DTSTAMP:20260425T080608
CREATED:20240205T192227Z
LAST-MODIFIED:20240205T192227Z
UID:10000962-1707264000-1707350399@jerseybee.org
SUMMARY:Forest Street Community School February 2024 "World Read Aloud Day Celebration"
DESCRIPTION:Forest Street Community School to host “World Read Aloud Day Celebration” for students\, teachers\, and families on Feb. 7 in Orange. The event\, scheduled from 9-11 a.m.\, will feature storytelling and a read-aloud. Preregistration is required. \nFrom Orange Public Schools. \nThis information is accurate as of when it was published. Check with the event coordinator for the latest details.
URL:https://jerseybee.org/event/forest-street-community-school-february-2024-world-read-aloud-day-celebration/
ATTACH;FMTTYPE=image/jpeg:https://jerseybee.org/wp-content/uploads/2023/09/SingleBee_5.jpeg
END:VEVENT
BEGIN:VEVENT
DTSTART;VALUE=DATE:20240207
DTEND;VALUE=DATE:20240208
DTSTAMP:20260425T080608
CREATED:20240205T194147Z
LAST-MODIFIED:20240205T194147Z
UID:10000964-1707264000-1707350399@jerseybee.org
SUMMARY:Hawthorne Avenue Elementary School February 2024 "Kids Who Code"
DESCRIPTION:Hawthorne Avenue Elementary School to host “Kids Who Code” for students in grades 3-5 starting on on Feb. 7 in Newark. The event is from 3-4 p.m. and held every Wednesday. Students will receive one-on-one guidance\, learn problem solving skills\, and coding curriculum. Register online. \nFrom Hawthorne Avenue Elementary School. \nThis information is accurate as of when it was published. Check with the event coordinator for the latest details.
URL:https://jerseybee.org/event/hawthorne-avenue-elementary-school-february-2024-kids-who-code/
ATTACH;FMTTYPE=image/jpeg:https://jerseybee.org/wp-content/uploads/2023/09/Artboard-1_1.jpeg
END:VEVENT
BEGIN:VEVENT
DTSTART;VALUE=DATE:20240207
DTEND;VALUE=DATE:20240208
DTSTAMP:20260425T080608
CREATED:20240205T194904Z
LAST-MODIFIED:20240205T194904Z
UID:10000966-1707264000-1707350399@jerseybee.org
SUMMARY:African American Chamber of Commerce "Pathway to Homeownership" February 2024 Webinar
DESCRIPTION:African American Chamber of Commerce to host a webinar series on the “Pathway to Homeownership” starting Feb. 7. The webinar is in partnership with N.J. Home and Mortgage Finance Agency\, and is held monthly at 6 p.m. Attendees will learn about available programs\, receive one-on-one assistance\, and ask questions during a Q&A. Preregistration is required. \nFrom African American Chamber of Commerce of New Jersey. \nThis information is accurate as of when it was published. Check with the event coordinator for the latest details.
URL:https://jerseybee.org/event/african-american-chamber-of-commerce-pathway-to-homeownership-february-2024-webinar/
CATEGORIES:Orange
ATTACH;FMTTYPE=image/jpeg:https://jerseybee.org/wp-content/uploads/2023/09/SingleBee_4.jpeg
END:VEVENT
END:VCALENDAR