BEGIN:VCALENDAR
VERSION:2.0
PRODID:-//The Jersey Bee - ECPv6.15.12.2//NONSGML v1.0//EN
CALSCALE:GREGORIAN
METHOD:PUBLISH
X-ORIGINAL-URL:https://jerseybee.org
X-WR-CALDESC:Events for The Jersey Bee
REFRESH-INTERVAL;VALUE=DURATION:PT1H
X-Robots-Tag:noindex
X-PUBLISHED-TTL:PT1H
BEGIN:VTIMEZONE
TZID:America/Toronto
BEGIN:DAYLIGHT
TZOFFSETFROM:-0500
TZOFFSETTO:-0400
TZNAME:EDT
DTSTART:20230312T070000
END:DAYLIGHT
BEGIN:STANDARD
TZOFFSETFROM:-0400
TZOFFSETTO:-0500
TZNAME:EST
DTSTART:20231105T060000
END:STANDARD
BEGIN:DAYLIGHT
TZOFFSETFROM:-0500
TZOFFSETTO:-0400
TZNAME:EDT
DTSTART:20240310T070000
END:DAYLIGHT
BEGIN:STANDARD
TZOFFSETFROM:-0400
TZOFFSETTO:-0500
TZNAME:EST
DTSTART:20241103T060000
END:STANDARD
BEGIN:DAYLIGHT
TZOFFSETFROM:-0500
TZOFFSETTO:-0400
TZNAME:EDT
DTSTART:20250309T070000
END:DAYLIGHT
BEGIN:STANDARD
TZOFFSETFROM:-0400
TZOFFSETTO:-0500
TZNAME:EST
DTSTART:20251102T060000
END:STANDARD
END:VTIMEZONE
BEGIN:VEVENT
DTSTART;VALUE=DATE:20240202
DTEND;VALUE=DATE:20240203
DTSTAMP:20260423T062807
CREATED:20240131T201931Z
LAST-MODIFIED:20240131T201931Z
UID:10000924-1706832000-1706918399@jerseybee.org
SUMMARY:Newark School District 2024-25 Enrollment Application Deadline
DESCRIPTION:Newark school district is accepting 2024-2025 school year applications until Feb. 2. Enrollment is available online. \nFrom Newark Board of Education. \nThis information is accurate as of when it was published. Check with the event coordinator for the latest details.
URL:https://jerseybee.org/event/newark-school-district-2024-25-enrollment-application-deadline/
ATTACH;FMTTYPE=image/jpeg:https://jerseybee.org/wp-content/uploads/2023/09/SingleBee_2.jpeg
END:VEVENT
BEGIN:VEVENT
DTSTART;VALUE=DATE:20240202
DTEND;VALUE=DATE:20240203
DTSTAMP:20260423T062807
CREATED:20240131T202520Z
LAST-MODIFIED:20240131T202520Z
UID:10000930-1706832000-1706918399@jerseybee.org
SUMMARY:La Casa de Don Pedro 2024 African American Heritage Trivia Game
DESCRIPTION:La Casa de Don Pedro plans African American heritage trivia game for families on Feb. 2 and Feb. 15 in Newark. The event is from 3:30-4:30 p.m. at 282 First Ave. in Newark. \nFrom La Casa De Don Pedro. \nThis information is accurate as of when it was published. Check with the event coordinator for the latest details.
URL:https://jerseybee.org/event/la-casa-de-don-pedro-2024-african-american-heritage-trivia-game/
CATEGORIES:Irvington,Newark,Orange
ATTACH;FMTTYPE=image/jpeg:https://jerseybee.org/wp-content/uploads/2023/09/SingleBee_6.jpeg
END:VEVENT
BEGIN:VEVENT
DTSTART;VALUE=DATE:20240202
DTEND;VALUE=DATE:20240217
DTSTAMP:20260423T062807
CREATED:20240131T185115Z
LAST-MODIFIED:20240131T185115Z
UID:10000909-1706832000-1708127999@jerseybee.org
SUMMARY:Mountainside Medical Center February 2024 "Give Kids a Smile"
DESCRIPTION:Mountainside Medical Center to host “Give Kids a Smile” program on Feb. 2 and 16 in Montclair. The event will be held at the Mountainside Dental Department located at One Bay Ave. from 8 a.m. to 12 p.m. The program\, designed to provide free dental care for children 12 years old and younger\, aims to serve children who may have limited access to dental care. Advance appointments are required. \nFrom Mountainside Medical Center. \nThis information is accurate as of when it was published. Check with the event coordinator for the latest details.
URL:https://jerseybee.org/event/mountainside-medical-center-february-2024-give-kids-a-smile/
CATEGORIES:Bloomfield,Glen Ridge,Montclair
ATTACH;FMTTYPE=image/jpeg:https://jerseybee.org/wp-content/uploads/2023/09/SingleBee_6.jpeg
END:VEVENT
BEGIN:VEVENT
DTSTART;VALUE=DATE:20240202
DTEND;VALUE=DATE:20240412
DTSTAMP:20260423T062807
CREATED:20240131T184701Z
LAST-MODIFIED:20240131T184701Z
UID:10000906-1706832000-1712879999@jerseybee.org
SUMMARY:Irvington Library "AARP Free Tax Return Preparation"
DESCRIPTION:Irvington library to host “AARP Free Tax Return Preparation” from Feb. 2 to April 11. The event\, scheduled by appointment only\, will offer 2022 and 2023 tax return preparation services.  \nFrom Irvington Public Library. \nThis information is accurate as of when it was published. Check with the event coordinator for the latest details.
URL:https://jerseybee.org/event/irvington-library-aarp-free-tax-return-preparation/
ATTACH;FMTTYPE=image/jpeg:https://jerseybee.org/wp-content/uploads/2023/09/SingleBee_9.jpeg
END:VEVENT
BEGIN:VEVENT
DTSTART;VALUE=DATE:20240203
DTEND;VALUE=DATE:20240204
DTSTAMP:20260423T062807
CREATED:20240129T203113Z
LAST-MODIFIED:20240129T203113Z
UID:10000874-1706918400-1707004799@jerseybee.org
SUMMARY:Bloomfield Library Spring 2024 "Citizenship Exam Preparation Classes"
DESCRIPTION:Bloomfield library to host free “Citizenship Exam Preparation Classes” starting on Feb. 3. The event\, scheduled from 9 a.m. to 1 p.m.\, will meet Saturdays through April 6. Preregistration is required. \nFrom Bloomfield Public Library. \nThis information is accurate as of when it was published. Check with the event coordinator for the latest details.
URL:https://jerseybee.org/event/bloomfield-library-spring-2024-citizenship-exam-preparation-classes/
CATEGORIES:Resources
ATTACH;FMTTYPE=image/jpeg:https://jerseybee.org/wp-content/uploads/2023/09/SingleBee_10.jpeg
END:VEVENT
BEGIN:VEVENT
DTSTART;VALUE=DATE:20240203
DTEND;VALUE=DATE:20240204
DTSTAMP:20260423T062807
CREATED:20240130T163254Z
LAST-MODIFIED:20240130T163254Z
UID:10000897-1706918400-1707004799@jerseybee.org
SUMMARY:Isaiah House 2024 "House of Love"
DESCRIPTION:Isaiah House\, an East Orange nonprofit that provides services for unhoused families\, plans “House of Love” fundraiser on Feb. 3 in South Orange. The event\, scheduled from 7-11 p.m.\, will feature cocktails\, food trucks\, desserts\, and a DJ at First Presbyterian and Trinity Church\, located at 111 Irvington Ave. in South Orange . Preregistration is required and can be completed online. \nFrom Isaiah House. \nThis information is accurate as of when it was published. Check with the event coordinator for the latest details.
URL:https://jerseybee.org/event/isaiah-house-2024-house-of-love/
CATEGORIES:East Orange,Essex County,South Orange
ATTACH;FMTTYPE=image/jpeg:https://jerseybee.org/wp-content/uploads/2023/09/SingleBee_10.jpeg
END:VEVENT
BEGIN:VEVENT
DTSTART;VALUE=DATE:20240203
DTEND;VALUE=DATE:20240204
DTSTAMP:20260423T062807
CREATED:20240131T185115Z
LAST-MODIFIED:20240131T185115Z
UID:10000908-1706918400-1707004799@jerseybee.org
SUMMARY:West Orange Chamber of Commerce February 2024 Yoga Class
DESCRIPTION:West Orange Chamber of Commerce members to host a free yoga class on Feb. 3. Hope Therapeutic Services and BellsFit60 LLC will host the class from 10-11 a.m. with instructor Cristina Nicolau at BellsFit60\, 270 Pleasant Way in West Orange. Attendees must bring their own mat. Online registration required. \nFrom West Orange Chamber of Commerce. \nThis information is accurate as of when it was published. Check with the event coordinator for the latest details.
URL:https://jerseybee.org/event/west-orange-chamber-of-commerce-february-2024-yoga-class/
ATTACH;FMTTYPE=image/jpeg:https://jerseybee.org/wp-content/uploads/2023/09/SingleBee_5.jpeg
END:VEVENT
BEGIN:VEVENT
DTSTART;VALUE=DATE:20240203
DTEND;VALUE=DATE:20240204
DTSTAMP:20260423T062807
CREATED:20240131T185909Z
LAST-MODIFIED:20240131T185909Z
UID:10000910-1706918400-1707004799@jerseybee.org
SUMMARY:Gallery at Green Door Studio 2024 "To Palestine with Love" Art Exhibition Opens
DESCRIPTION:Gallery at Green Door Studio\, a Millburn-based art school\, to open “To Palestine with Love” art exhibition on Feb. 3. The exhibit can be viewed through February on Wednesdays through Saturdays from 11 a.m. to 2 p.m. or by appointment. It features a curated selection of visual art including paintings\, sculptures\, and photographs. Tickets can be purchased online and all proceeds will benefit HEAL Palestine\, a nonprofit dedicated to helping Gaza’s children. \nFrom Millburn-Short Hills Patch. \nThis information is accurate as of when it was published. Check with the event coordinator for the latest details.
URL:https://jerseybee.org/event/gallery-at-green-door-studio-2024-to-palestine-with-love-art-exhibition-opens/
CATEGORIES:Maplewood,South Orange
ATTACH;FMTTYPE=image/jpeg:https://jerseybee.org/wp-content/uploads/2023/09/Artboard-1_1.jpeg
END:VEVENT
BEGIN:VEVENT
DTSTART;VALUE=DATE:20240203
DTEND;VALUE=DATE:20240204
DTSTAMP:20260423T062807
CREATED:20240131T191125Z
LAST-MODIFIED:20240131T191125Z
UID:10000916-1706918400-1707004799@jerseybee.org
SUMMARY:East Orange February 2024 "Second Ward Community Meeting"
DESCRIPTION:East Orange plans “Second Ward Community Meeting” on Feb. 3. Council members will discuss public safety\, quality of life issues\, resident concerns\, code enforcement\, and parking at 11 a.m. at Ted Green Halsted Plaza\, 160 Halsted St. Advanced questions and concerns from the public are encouraged. \nFrom East Orange City. \nThis information is accurate as of when it was published. Check with the event coordinator for the latest details.
URL:https://jerseybee.org/event/east-orange-february-2024-second-ward-community-meeting/
ATTACH;FMTTYPE=image/jpeg:https://jerseybee.org/wp-content/uploads/2023/09/SingleBee_4.jpeg
END:VEVENT
BEGIN:VEVENT
DTSTART;VALUE=DATE:20240203
DTEND;VALUE=DATE:20240204
DTSTAMP:20260423T062807
CREATED:20240131T194705Z
LAST-MODIFIED:20240131T194705Z
UID:10000918-1706918400-1707004799@jerseybee.org
SUMMARY:Nutley Library' 2024 "Take Your Child to the Library Day"
DESCRIPTION:Nutley library to host “Take Your Child to the Library Day” event on Feb. 3. The event\, scheduled from 10:30 a.m. to 3 p.m.\, will feature story time\, crafts\, and activities all day. \nFrom Nutley Public Library. \nThis information is accurate as of when it was published. Check with the event coordinator for the latest details.
URL:https://jerseybee.org/event/nutley-library-2024-take-your-child-to-the-library-day/
CATEGORIES:Nutley
ATTACH;FMTTYPE=image/jpeg:https://jerseybee.org/wp-content/uploads/2023/09/Artboard-1_1.jpeg
END:VEVENT
BEGIN:VEVENT
DTSTART;VALUE=DATE:20240203
DTEND;VALUE=DATE:20240204
DTSTAMP:20260423T062807
CREATED:20240131T194904Z
LAST-MODIFIED:20240131T194904Z
UID:10000920-1706918400-1707004799@jerseybee.org
SUMMARY:South Orange February 2024 "Erasing South Orange Borders Run-Walk" Dates
DESCRIPTION:South Orange to host “Erasing South Orange Borders Run-Walk” on Saturdays starting Feb. 3. The run begins at 8 a.m. and the walk begins at 10 a.m.\, hosted by resident and founder of Erasing Essex’s Borders Stephanie Lawson Muhammad. Each route covers 3.1 miles and participants will explore South Orange borders that have historically impacted African Americans. The events are held each Saturday in February. Preregistration is required. \nFrom South Orange Village Township. \nThis information is accurate as of when it was published. Check with the event coordinator for the latest details.
URL:https://jerseybee.org/event/south-orange-february-2024-erasing-south-orange-borders-run-walk-dates/
CATEGORIES:Maplewood,South Orange
ATTACH;FMTTYPE=image/jpeg:https://jerseybee.org/wp-content/uploads/2023/09/Artboard-1_1.jpeg
END:VEVENT
BEGIN:VEVENT
DTSTART;VALUE=DATE:20240203
DTEND;VALUE=DATE:20240204
DTSTAMP:20260423T062807
CREATED:20240131T202121Z
LAST-MODIFIED:20240131T202121Z
UID:10000927-1706918400-1707004799@jerseybee.org
SUMMARY:Montclair Library February 2024 "Open Book/Open Mind" with Ayana Mathis
DESCRIPTION:Montclair library plans a free “Open Book/Open Mind” event with author Ayana Mathis on Feb. 3 in the Main Branch. The event is from 4-5:30 p.m. and doors open at 3:30 p.m. There will be a Q&A followed by a book signing. The event will discuss Mathis’s newest novel\, “The Unsettled.” \nFrom Montclair Public Library. \nThis information is accurate as of when it was published. Check with the event coordinator for the latest details.
URL:https://jerseybee.org/event/montclair-library-february-2024-open-book-open-mind-with-ayana-mathis/
CATEGORIES:Bloomfield,Glen Ridge,Montclair
ATTACH;FMTTYPE=image/jpeg:https://jerseybee.org/wp-content/uploads/2023/09/SingleBee_3.jpeg
END:VEVENT
BEGIN:VEVENT
DTSTART;VALUE=DATE:20240203
DTEND;VALUE=DATE:20240204
DTSTAMP:20260423T062807
CREATED:20240131T202121Z
LAST-MODIFIED:20240131T202121Z
UID:10000928-1706918400-1707004799@jerseybee.org
SUMMARY:East Orange Recreation 2024 "Winter Indoor Tennis" Registration Open
DESCRIPTION:East Orange recreation is accepting players of all ages for its winter indoor tennis session through March 29. Games are Mondays and Wednesdays from 6-7 p.m. for ages 8-17 and from 7-8 p.m. at Mildred Barry Garvin School. All ages play between 11 a.m. and 1 p.m. on Saturdays at the Hart Middle Complex Gym. Admission is $10 for children\, $20 for adults\, and free for seniors. Registration is available online. \nFrom East Orange City. \nThis information is accurate as of when it was published. Check with the event coordinator for the latest details.
URL:https://jerseybee.org/event/east-orange-recreation-2024-winter-indoor-tennis-registration-open/
CATEGORIES:East Orange
ATTACH;FMTTYPE=image/jpeg:https://jerseybee.org/wp-content/uploads/2023/09/Artboard-1_1.jpeg
END:VEVENT
BEGIN:VEVENT
DTSTART;VALUE=DATE:20240203
DTEND;VALUE=DATE:20240204
DTSTAMP:20260423T062807
CREATED:20240131T202329Z
LAST-MODIFIED:20240131T202329Z
UID:10000929-1706918400-1707004799@jerseybee.org
SUMMARY:West Orange Library "Take Your Child to the Library Day: Bilingual Story Time"
DESCRIPTION:West Orange library plans a bilingual story time celebrating\n“Take Your Child to the Library Day” on Feb. 3. The reading begins at 11 a.m. and honors educator Pura Belpré. \nFrom West Orange Public Library. \nThis information is accurate as of when it was published. Check with the event coordinator for the latest details.
URL:https://jerseybee.org/event/west-orange-library-take-your-child-to-the-library-day-bilingual-story-time/
CATEGORIES:West Orange
ATTACH;FMTTYPE=image/jpeg:https://jerseybee.org/wp-content/uploads/2023/09/SingleBee_8.jpeg
END:VEVENT
BEGIN:VEVENT
DTSTART;VALUE=DATE:20240203
DTEND;VALUE=DATE:20240204
DTSTAMP:20260423T062807
CREATED:20240201T145727Z
LAST-MODIFIED:20240201T145727Z
UID:10000932-1706918400-1707004799@jerseybee.org
SUMMARY:East Orange February 2024 "Free Shred Day"
DESCRIPTION:East Orange to host “Free Shred Day” on Feb. 3. The event is from 8 a.m. to 2 p.m. at City Hall. Residents can bring an unlimited amount of paper items or documents that require shredding. No appointments are required. \nFrom East Orange City. \nThis information is accurate as of when it was published. Check with the event coordinator for the latest details.
URL:https://jerseybee.org/event/east-orange-february-2024-free-shred-day/
CATEGORIES:East Orange
ATTACH;FMTTYPE=image/jpeg:https://jerseybee.org/wp-content/uploads/2023/09/SingleBee_5.jpeg
END:VEVENT
BEGIN:VEVENT
DTSTART;VALUE=DATE:20240203
DTEND;VALUE=DATE:20240204
DTSTAMP:20260423T062807
CREATED:20240201T150137Z
LAST-MODIFIED:20240201T150137Z
UID:10000933-1706918400-1707004799@jerseybee.org
SUMMARY:League of Women Voters of Montclair and Livingston 2024 "TCSYale's The Basics"
DESCRIPTION:League of Women Voters of Montclair and Livingston to host “TCSYale’s The Basics” on Feb. 3 in Livingston. The event\, scheduled from 11 a.m. to 3 p.m.\, will offer training for individuals interested in running for office\, working on a campaign\, or leading community issues. Preregistration is required and a light lunch will be served. \nFrom The Campaign School at Yale University. \nThis information is accurate as of when it was published. Check with the event coordinator for the latest details.
URL:https://jerseybee.org/event/league-of-women-voters-of-montclair-and-livingston-2024-tcsyales-the-basics/
CATEGORIES:Essex County
ATTACH;FMTTYPE=image/jpeg:https://jerseybee.org/wp-content/uploads/2023/09/SingleBee_5.jpeg
END:VEVENT
BEGIN:VEVENT
DTSTART;VALUE=DATE:20240203
DTEND;VALUE=DATE:20240204
DTSTAMP:20260423T062807
CREATED:20240201T151732Z
LAST-MODIFIED:20240201T151732Z
UID:10000937-1706918400-1707004799@jerseybee.org
SUMMARY:Bloomfield Library 2024 Black History Month Celebration: Concert with Reggie
DESCRIPTION:Bloomfield library plans a free concert with Reggie on Feb. 3. The concert commemorates Black History Month and will begin at 2 p.m. Reggie will perform jazz\, soul\, and Motown music. \nFrom Bloomfield Public Library. \nThis information is accurate as of when it was published. Check with the event coordinator for the latest details.
URL:https://jerseybee.org/event/bloomfield-library-2024-black-history-month-celebration-concert-with-reggie/
CATEGORIES:Bloomfield,East Orange
ATTACH;FMTTYPE=image/jpeg:https://jerseybee.org/wp-content/uploads/2023/09/Artboard-1_1.jpeg
END:VEVENT
BEGIN:VEVENT
DTSTART;VALUE=DATE:20240203
DTEND;VALUE=DATE:20240204
DTSTAMP:20260423T062807
CREATED:20240201T153557Z
LAST-MODIFIED:20240201T153557Z
UID:10000945-1706918400-1707004799@jerseybee.org
SUMMARY:Reveal 2 Heal Consulting Services February 2024 "Courageous Conversations: What Parents and Children Should Know" Workshop Series
DESCRIPTION:Reveal 2 Heal Consulting Services\, a Maplewood-based mental health counseling provider\, to host “Courageous Conversations: What Parents and Children Should Know” workshop series starting Feb. 3. The series is every Saturday through March 30 from 10 a.m. to 12 p.m. at 2115 Millburn Ave.\, Suite 104 in Maplewood. Preregistration is required.  \nFrom Reveal 2 Heal Consulting Services. \nThis information is accurate as of when it was published. Check with the event coordinator for the latest details.
URL:https://jerseybee.org/event/reveal-2-heal-consulting-services-february-2024-courageous-conversations-what-parents-and-children-should-know-workshop-series/
CATEGORIES:Maplewood,South Orange
ATTACH;FMTTYPE=image/jpeg:https://jerseybee.org/wp-content/uploads/2023/09/SingleBee_6.jpeg
END:VEVENT
BEGIN:VEVENT
DTSTART;VALUE=DATE:20240203
DTEND;VALUE=DATE:20240204
DTSTAMP:20260423T062807
CREATED:20240201T160905Z
LAST-MODIFIED:20240201T160905Z
UID:10000948-1706918400-1707004799@jerseybee.org
SUMMARY:Belleville Library 2024 "Ice Cream For Breakfast"
DESCRIPTION:Belleville library to host “Ice Cream For Breakfast” on Feb. 3 for “Take your Child to the Library” day. The event\, scheduled from 10-11 a.m.\, will feature free ice cream treats while supplies last. \nFrom Belleville Public Library. \nThis information is accurate as of when it was published. Check with the event coordinator for the latest details.
URL:https://jerseybee.org/event/belleville-library-2024-ice-cream-for-breakfast/
CATEGORIES:Belleville
ATTACH;FMTTYPE=image/jpeg:https://jerseybee.org/wp-content/uploads/2023/09/SingleBee_7.jpeg
END:VEVENT
BEGIN:VEVENT
DTSTART;VALUE=DATE:20240203
DTEND;VALUE=DATE:20240204
DTSTAMP:20260423T062807
CREATED:20240201T161139Z
LAST-MODIFIED:20240201T161139Z
UID:10000950-1706918400-1707004799@jerseybee.org
SUMMARY:NJSDA February 2024 "Short Plays Reading"
DESCRIPTION:NJSDA to host a free “Short Plays Reading” on Feb. 3 in Montclair. The event begins at 7 p.m. at St. John’s Episcopal Church’s Parish Hall. It will feature plays written by NJSDA students Jennifer Marsden\, Mavis Johnson\, Kuma Lin\, Willow McCalla\, Raquel Fernandes\, Melinda DelPizzo\, and Naman Rawal. There will be a Q&A session with the authors after the reading. \nFrom New Jersey School of Dramatic Arts. \nThis information is accurate as of when it was published. Check with the event coordinator for the latest details.
URL:https://jerseybee.org/event/njsda-february-2024-short-plays-reading/
CATEGORIES:Bloomfield,Glen Ridge,Montclair
ATTACH;FMTTYPE=image/jpeg:https://jerseybee.org/wp-content/uploads/2023/09/SingleBee_10.jpeg
END:VEVENT
BEGIN:VEVENT
DTSTART;VALUE=DATE:20240203
DTEND;VALUE=DATE:20240204
DTSTAMP:20260423T062807
CREATED:20240201T161308Z
LAST-MODIFIED:20240201T161308Z
UID:10000951-1706918400-1707004799@jerseybee.org
SUMMARY:Newark Museum of Art February 2024 "Family First Saturday"
DESCRIPTION:Newark Museum of Art plans a “Family First Saturday” Black History Month event on Feb. 3. The event\, scheduled from 10 a.m. to 5 p.m.\, will feature a special performance by NJTap\, a family drop-In activity honoring the Harlem Renaissance\, planetarium shows\, music-making\, and the “Animal Kingdom” exhibition. Tickets available online. \nFrom Newark Museum of Art. \nThis information is accurate as of when it was published. Check with the event coordinator for the latest details.
URL:https://jerseybee.org/event/newark-museum-of-art-february-2024-family-first-saturday/
CATEGORIES:Essex County,Newark
ATTACH;FMTTYPE=image/jpeg:https://jerseybee.org/wp-content/uploads/2023/09/SingleBee_10.jpeg
END:VEVENT
BEGIN:VEVENT
DTSTART;VALUE=DATE:20240203
DTEND;VALUE=DATE:20240204
DTSTAMP:20260423T062807
CREATED:20240201T161524Z
LAST-MODIFIED:20240201T161524Z
UID:10000952-1706918400-1707004799@jerseybee.org
SUMMARY:Newark Library February 2024 "Multi-Family Investment Real Estate Seminar"
DESCRIPTION:Newark library plans “Multi-Family Investment Real Estate Seminar” on Feb. 3 in the Branch Brook location. Mortgage adviser Sam Adjangba and sales associate Tyrone Lowman will facilitate the program from 11 a.m. to 1 p.m. It will include key strategies\, insights\, and considerations for multi-family real estate investments. Registration is required by phone. \nFrom Newark Public Library. \nThis information is accurate as of when it was published. Check with the event coordinator for the latest details.
URL:https://jerseybee.org/event/newark-library-february-2024-multi-family-investment-real-estate-seminar/
ATTACH;FMTTYPE=image/jpeg:https://jerseybee.org/wp-content/uploads/2023/09/SingleBee_4.jpeg
END:VEVENT
BEGIN:VEVENT
DTSTART;VALUE=DATE:20240204
DTEND;VALUE=DATE:20240205
DTSTAMP:20260423T062807
CREATED:20240201T152446Z
LAST-MODIFIED:20240201T152446Z
UID:10000940-1707004800-1707091199@jerseybee.org
SUMMARY:Montclair Library February 2024 "Storytime: Celebrating Jerry Pinkney"
DESCRIPTION:Montclair library to host “Storytime: Celebrating Jerry Pinkney” for ages 5+ on Feb. 4 in the Main Branch. The event\, scheduled from 2-3 p.m.\, will feature a reading of Jerry Pinkney’s stories followed by a craft.  \nFrom Montclair Public Library. \nThis information is accurate as of when it was published. Check with the event coordinator for the latest details.
URL:https://jerseybee.org/event/montclair-library-february-2024-storytime-celebrating-jerry-pinkney/
CATEGORIES:Montclair
ATTACH;FMTTYPE=image/jpeg:https://jerseybee.org/wp-content/uploads/2023/09/SingleBee_8.jpeg
END:VEVENT
BEGIN:VEVENT
DTSTART;VALUE=DATE:20240204
DTEND;VALUE=DATE:20240205
DTSTAMP:20260423T062807
CREATED:20240201T153748Z
LAST-MODIFIED:20240201T153748Z
UID:10000946-1707004800-1707091199@jerseybee.org
SUMMARY:Glen Ridge February 2024 Community Concert: City Wind Trio
DESCRIPTION:Glen Ridge plans a community concert with City Wind Trio on Feb. 4. The concert begins at 3 p.m. at Glen Ridge Congregational Church. Admission is $10-25. \nFrom The Bloomfield Pulse. \nThis information is accurate as of when it was published. Check with the event coordinator for the latest details.
URL:https://jerseybee.org/event/glen-ridge-february-2024-community-concert-city-wind-trio/
CATEGORIES:Bloomfield,Glen Ridge,Montclair
ATTACH;FMTTYPE=image/jpeg:https://jerseybee.org/wp-content/uploads/2023/09/SingleBee_9.jpeg
END:VEVENT
BEGIN:VEVENT
DTSTART;VALUE=DATE:20240204
DTEND;VALUE=DATE:20240205
DTSTAMP:20260423T062807
CREATED:20240201T160906Z
LAST-MODIFIED:20240201T160906Z
UID:10000949-1707004800-1707091199@jerseybee.org
SUMMARY:SOMA Justice February 2024 "BIPOC Black Joy Yoga"
DESCRIPTION:SOMA Justice plans a “BIPOC Black Joy Yoga” on Sundays throughout February in Maplewood. Classes are at 9:30 a.m. at the 1978 Maplewood Arts Center. Preregistration is required. \nFrom SOMA Justice. \nThis information is accurate as of when it was published. Check with the event coordinator for the latest details.
URL:https://jerseybee.org/event/soma-justice-february-2024-bipoc-black-joy-yoga/
CATEGORIES:Maplewood,South Orange
ATTACH;FMTTYPE=image/jpeg:https://jerseybee.org/wp-content/uploads/2023/09/SingleBee_3.jpeg
END:VEVENT
BEGIN:VEVENT
DTSTART;VALUE=DATE:20240204
DTEND;VALUE=DATE:20240205
DTSTAMP:20260423T062807
CREATED:20240201T163639Z
LAST-MODIFIED:20240201T163639Z
UID:10000954-1707004800-1707091199@jerseybee.org
SUMMARY:SOMA Cross Cultural Works "2024 Lunar Fest"
DESCRIPTION:SOMA Cross Cultural Works plans 2024 “Lunar Fest” on Feb. 4 to celebrate the year of the dragon. The event will run from 12-4 p.m.\, at The Woodland\, 60 Woodland Rd. in Maplewood. The program will include a lion dance\, children’s activities\, and food trucks.  \nFrom Lunar Fest NJ. \nThis information is accurate as of when it was published. Check with the event coordinator for the latest details.
URL:https://jerseybee.org/event/soma-cross-cultural-works-2024-lunar-fest/
CATEGORIES:Essex County,Maplewood,South Orange
ATTACH;FMTTYPE=image/jpeg:https://jerseybee.org/wp-content/uploads/2023/09/Artboard-1_1.jpeg
END:VEVENT
BEGIN:VEVENT
DTSTART;VALUE=DATE:20240205
DTEND;VALUE=DATE:20240206
DTSTAMP:20260423T062807
CREATED:20240129T215737Z
LAST-MODIFIED:20240129T215737Z
UID:10000882-1707091200-1707177599@jerseybee.org
SUMMARY:Bloomfield Library Monday Night Book Club February 2024 Meeting
DESCRIPTION:Bloomfield library’s Monday night book club meeting planned for Feb. 5. Members will discuss “The Guest Room” by Chris Bohjalian at 6:30 p.m. at the library. \nFrom Bloomfield Public Library. \nThis information is accurate as of when it was published. Check with the event coordinator for the latest details.
URL:https://jerseybee.org/event/bloomfield-library-monday-night-book-club-february-2024-meeting/
CATEGORIES:Bloomfield
ATTACH;FMTTYPE=image/jpeg:https://jerseybee.org/wp-content/uploads/2023/09/Artboard-1_1.jpeg
END:VEVENT
BEGIN:VEVENT
DTSTART;VALUE=DATE:20240205
DTEND;VALUE=DATE:20240206
DTSTAMP:20260423T062807
CREATED:20240129T220139Z
LAST-MODIFIED:20240129T220139Z
UID:10000883-1707091200-1707177599@jerseybee.org
SUMMARY:SMAPA Spring 2024 "Breakdancing for Beginners" Class Registration Deadline
DESCRIPTION:SMAPA to host “Breakdancing for Beginners” for ages 7+ starting Feb. 5 in Montclair. Classes are Tuesdays from 4-5 p.m. for ages 7-11 and from 5-6 p.m. for teenagers at 14 S Park St. The program ends on June 9. Online registration is required. \nFrom Sharon Miller’s Academy for Performing Arts. \nThis information is accurate as of when it was published. Check with the event coordinator for the latest details.
URL:https://jerseybee.org/event/smapa-spring-2024-breakdancing-for-beginners-class-registration-deadline/
CATEGORIES:Glen Ridge,Montclair
ATTACH;FMTTYPE=image/jpeg:https://jerseybee.org/wp-content/uploads/2023/09/SingleBee_2.jpeg
END:VEVENT
BEGIN:VEVENT
DTSTART;VALUE=DATE:20240205
DTEND;VALUE=DATE:20240206
DTSTAMP:20260423T062807
CREATED:20240201T151318Z
LAST-MODIFIED:20240201T151318Z
UID:10000935-1707091200-1707177599@jerseybee.org
SUMMARY:West Orange Library 2024 "AARP Free Tax Assistance"
DESCRIPTION:West Orange library to host “AARP Free Tax Assistance” starting on Feb. 5. The event\, scheduled from 10 a.m. to 1 p.m.\, will offer free tax assistance to West Orange residents on Mondays and Wednesdays until Apr. 15. Residents must bring photo id and social security cards for everyone listed on the tax return. Appointments by phone are required. \nFrom West Orange Public Library. \nThis information is accurate as of when it was published. Check with the event coordinator for the latest details.
URL:https://jerseybee.org/event/west-orange-library-2024-aarp-free-tax-assistance/
ATTACH;FMTTYPE=image/jpeg:https://jerseybee.org/wp-content/uploads/2023/09/SingleBee_7.jpeg
END:VEVENT
BEGIN:VEVENT
DTSTART;VALUE=DATE:20240205
DTEND;VALUE=DATE:20240206
DTSTAMP:20260423T062807
CREATED:20240201T151729Z
LAST-MODIFIED:20240201T151729Z
UID:10000936-1707091200-1707177599@jerseybee.org
SUMMARY:South Orange Recreation Spring 2024 Pierro Gallery Art Submission Deadline
DESCRIPTION:South Orange recreation is seeking art submissions for the Pierro Gallery’s spring 2024 exhibit by Feb. 5. The spring show is showcasing South Orange artists and is limited to residents. Artwork submissions are accepted online. \nFrom South Orange Recreation and Cultural Affairs. \nThis information is accurate as of when it was published. Check with the event coordinator for the latest details.
URL:https://jerseybee.org/event/south-orange-recreation-spring-2024-pierro-gallery-art-submission-deadline/
CATEGORIES:South Orange
ATTACH;FMTTYPE=image/jpeg:https://jerseybee.org/wp-content/uploads/2023/09/SingleBee_8.jpeg
END:VEVENT
END:VCALENDAR