BEGIN:VCALENDAR
VERSION:2.0
PRODID:-//The Jersey Bee - ECPv6.15.12.2//NONSGML v1.0//EN
CALSCALE:GREGORIAN
METHOD:PUBLISH
X-WR-CALNAME:The Jersey Bee
X-ORIGINAL-URL:https://jerseybee.org
X-WR-CALDESC:Events for The Jersey Bee
REFRESH-INTERVAL;VALUE=DURATION:PT1H
X-Robots-Tag:noindex
X-PUBLISHED-TTL:PT1H
BEGIN:VTIMEZONE
TZID:America/Toronto
BEGIN:DAYLIGHT
TZOFFSETFROM:-0500
TZOFFSETTO:-0400
TZNAME:EDT
DTSTART:20230312T070000
END:DAYLIGHT
BEGIN:STANDARD
TZOFFSETFROM:-0400
TZOFFSETTO:-0500
TZNAME:EST
DTSTART:20231105T060000
END:STANDARD
BEGIN:DAYLIGHT
TZOFFSETFROM:-0500
TZOFFSETTO:-0400
TZNAME:EDT
DTSTART:20240310T070000
END:DAYLIGHT
BEGIN:STANDARD
TZOFFSETFROM:-0400
TZOFFSETTO:-0500
TZNAME:EST
DTSTART:20241103T060000
END:STANDARD
BEGIN:DAYLIGHT
TZOFFSETFROM:-0500
TZOFFSETTO:-0400
TZNAME:EDT
DTSTART:20250309T070000
END:DAYLIGHT
BEGIN:STANDARD
TZOFFSETFROM:-0400
TZOFFSETTO:-0500
TZNAME:EST
DTSTART:20251102T060000
END:STANDARD
END:VTIMEZONE
BEGIN:VEVENT
DTSTART;VALUE=DATE:20240504
DTEND;VALUE=DATE:20240505
DTSTAMP:20260423T075005
CREATED:20240501T180500Z
LAST-MODIFIED:20240501T180500Z
UID:10002078-1714780800-1714867199@jerseybee.org
SUMMARY:East Side Mags 2024 "Free Comic Book Day"
DESCRIPTION:East Side Mags to host “Free Comic Book Day” event on May 4 in Montclair. There will be food vendors\, local artists\, a comic book sale\, and giveaways from 9 a.m. to 7 p.m. at 491 Bloomfield Ave. \nFrom East Side Mags. \nThis information is accurate as of when it was published. Check with the event coordinator for the latest details.
URL:https://jerseybee.org/event/east-side-mags-2024-free-comic-book-day/
CATEGORIES:Bloomfield,Glen Ridge,Montclair
ATTACH;FMTTYPE=image/jpeg:https://jerseybee.org/wp-content/uploads/2023/09/SingleBee_4.jpeg
END:VEVENT
BEGIN:VEVENT
DTSTART;VALUE=DATE:20240504
DTEND;VALUE=DATE:20240505
DTSTAMP:20260423T075005
CREATED:20240501T180501Z
LAST-MODIFIED:20240501T180501Z
UID:10002079-1714780800-1714867199@jerseybee.org
SUMMARY:Irvington 2024 "Spring Clean Recycling Clothing Drive"
DESCRIPTION:Irvington plans “Spring Clean Recycling Clothing Drive” on May 4. Items accepted from 8 a.m. to 2 p.m. at Township Hall. Items must be clean\, odorless\, and kept dry in a closed plastic bag. Accepted items include clothing\, footwear\, linens\, accessories\, luggage\, stuffed animals\, and small toys. \nFrom Irvington Township. \nThis information is accurate as of when it was published. Check with the event coordinator for the latest details.
URL:https://jerseybee.org/event/irvington-2024-spring-clean-recycling-clothing-drive/
ATTACH;FMTTYPE=image/jpeg:https://jerseybee.org/wp-content/uploads/2023/09/SingleBee_8.jpeg
END:VEVENT
BEGIN:VEVENT
DTSTART;VALUE=DATE:20240504
DTEND;VALUE=DATE:20240505
DTSTAMP:20260423T075005
CREATED:20240501T180502Z
LAST-MODIFIED:20240501T180502Z
UID:10002080-1714780800-1714867199@jerseybee.org
SUMMARY:West Orange Recreation May 2024 "Mommy and Me Tea"
DESCRIPTION:West Orange recreation to host “Mommy and Me Tea” on May 4. The event\, scheduled from 12-3 p.m. at Toby Katz Center\, will feature crafts\, snacks\, and activities. Registration is $15. Registration is available online. \nFrom West Orange Recreation Department. \nThis information is accurate as of when it was published. Check with the event coordinator for the latest details.
URL:https://jerseybee.org/event/west-orange-recreation-may-2024-mommy-and-me-tea/
CATEGORIES:West Orange
ATTACH;FMTTYPE=image/jpeg:https://jerseybee.org/wp-content/uploads/2023/09/SingleBee_3.jpeg
END:VEVENT
BEGIN:VEVENT
DTSTART;VALUE=DATE:20240504
DTEND;VALUE=DATE:20240505
DTSTAMP:20260423T075005
CREATED:20240501T180715Z
LAST-MODIFIED:20240501T180715Z
UID:10002081-1714780800-1714867199@jerseybee.org
SUMMARY:Albright's Daughter May 2024 Prom\, Formal Attire Giveaway
DESCRIPTION:Albright’s Daughter\, a community services organization based in East Orange\, plans a prom and formal attire giveaway on May 4 in Orange. There will be free suits\, gowns\, shoes\, and accessories for middle and high school graduates from 12-3 p.m. at the Upper Fieldhouse. Attendees have a chance to win a free hairstyle or haircut appointment. \nFrom Albright’s Daughter. \nThis information is accurate as of when it was published. Check with the event coordinator for the latest details.
URL:https://jerseybee.org/event/albrights-daughter-may-2024-prom-formal-attire-giveaway/
CATEGORIES:Orange,Resources
ATTACH;FMTTYPE=image/jpeg:https://jerseybee.org/wp-content/uploads/2023/09/SingleBee_7.jpeg
END:VEVENT
BEGIN:VEVENT
DTSTART;VALUE=DATE:20240504
DTEND;VALUE=DATE:20240505
DTSTAMP:20260423T075005
CREATED:20240501T180927Z
LAST-MODIFIED:20240501T180927Z
UID:10002082-1714780800-1714867199@jerseybee.org
SUMMARY:Maplewood Library May 2024 "Free Comic Book Day"
DESCRIPTION:Maplewood library plans “Free Comic Book Day” event on May 4 in the Hilton Branch. Events begin at 10:30 a.m. and include free comic book selections\, discussions with the teen librarian\, drawing tutorials\, and giveaways.  \nFrom Maplewood Public Library. \nThis information is accurate as of when it was published. Check with the event coordinator for the latest details.
URL:https://jerseybee.org/event/maplewood-library-may-2024-free-comic-book-day/
CATEGORIES:Irvington,Maplewood,South Orange
ATTACH;FMTTYPE=image/jpeg:https://jerseybee.org/wp-content/uploads/2023/09/SingleBee_2.jpeg
END:VEVENT
BEGIN:VEVENT
DTSTART;VALUE=DATE:20240504
DTEND;VALUE=DATE:20240505
DTSTAMP:20260423T075005
CREATED:20240501T180928Z
LAST-MODIFIED:20240501T180928Z
UID:10002084-1714780800-1714867199@jerseybee.org
SUMMARY:Forest Street Community School May 2024 "Mother's Day Tea"
DESCRIPTION:Forest Street Community School to host “Mother’s Day Tea” free event on May 4 in Orange. The event\, scheduled from 11 a.m. to 2 p.m.\, will include a hat fashion show. Preregistration is required. \nFrom Orange Public Schools. \nThis information is accurate as of when it was published. Check with the event coordinator for the latest details.
URL:https://jerseybee.org/event/forest-street-community-school-may-2024-mothers-day-tea/
ATTACH;FMTTYPE=image/jpeg:https://jerseybee.org/wp-content/uploads/2023/09/SingleBee_3.jpeg
END:VEVENT
BEGIN:VEVENT
DTSTART;VALUE=DATE:20240504
DTEND;VALUE=DATE:20240505
DTSTAMP:20260423T075005
CREATED:20240501T183129Z
LAST-MODIFIED:20240501T183129Z
UID:10002085-1714780800-1714867199@jerseybee.org
SUMMARY:Montclair Film May 2024 "The Rocky Horror Picture Show" Showing
DESCRIPTION:Montclair Film plans “The Rocky Horror Picture Show” showing by The Ordinary kids on May 4. The show begins at 9:30 p.m. at The Clairidge\, 486 Bloomfield Ave. The event will be Star Wars themed. Costumes encouraged. Tickets available online for purchase. \nFrom Montclair Film. \nThis information is accurate as of when it was published. Check with the event coordinator for the latest details.
URL:https://jerseybee.org/event/montclair-film-may-2024-the-rocky-horror-picture-show-showing/
CATEGORIES:Bloomfield,Glen Ridge,Montclair
ATTACH;FMTTYPE=image/jpeg:https://jerseybee.org/wp-content/uploads/2023/09/SingleBee_8.jpeg
END:VEVENT
BEGIN:VEVENT
DTSTART;VALUE=DATE:20240504
DTEND;VALUE=DATE:20240505
DTSTAMP:20260423T075005
CREATED:20240501T183720Z
LAST-MODIFIED:20240501T183720Z
UID:10002090-1714780800-1714867199@jerseybee.org
SUMMARY:Belleville May 2024 Community Clean-Up Day
DESCRIPTION:Belleville plans a community clean-up on May 4. Attendees will meet at Belleville Senior Center at 11 a.m. Locations will be assigned and supplies are provided. Registration is not required. \nFrom Belleville Township. \nThis information is accurate as of when it was published. Check with the event coordinator for the latest details.
URL:https://jerseybee.org/event/belleville-may-2024-community-clean-up-day/
ATTACH;FMTTYPE=image/jpeg:https://jerseybee.org/wp-content/uploads/2023/09/SingleBee_7.jpeg
END:VEVENT
BEGIN:VEVENT
DTSTART;VALUE=DATE:20240504
DTEND;VALUE=DATE:20240505
DTSTAMP:20260423T075005
CREATED:20240501T183934Z
LAST-MODIFIED:20240501T183934Z
UID:10002091-1714780800-1714867199@jerseybee.org
SUMMARY:Nutley Library May 2024 "Free Comic Book Day"
DESCRIPTION:Nutley library plans “Free Comic Book Day” event on May 4. It begins at 11 a.m. and will include free comic giveaways\, crafts\, and a screening of “Spider-Man: Across the Spider-Verse.” Registration is not required. \nFrom Nutley Public Library. \nThis information is accurate as of when it was published. Check with the event coordinator for the latest details.
URL:https://jerseybee.org/event/nutley-library-may-2024-free-comic-book-day/
CATEGORIES:Nutley
ATTACH;FMTTYPE=image/jpeg:https://jerseybee.org/wp-content/uploads/2023/09/SingleBee_4.jpeg
END:VEVENT
BEGIN:VEVENT
DTSTART;VALUE=DATE:20240504
DTEND;VALUE=DATE:20240505
DTSTAMP:20260423T075005
CREATED:20240501T191126Z
LAST-MODIFIED:20240501T191126Z
UID:10002095-1714780800-1714867199@jerseybee.org
SUMMARY:HUUB May 2024 "Wind Down Concert"
DESCRIPTION:HUUB plans a “Wind Down Concert” for children on May 4 in Orange. There will be performances by Nyallha\, Kernard Reid\, and Jhette from 6-9 p.m. at 35 Cleveland St. \nFrom The HUUB. \nThis information is accurate as of when it was published. Check with the event coordinator for the latest details.
URL:https://jerseybee.org/event/huub-may-2024-wind-down-concert/
CATEGORIES:East Orange,Orange
ATTACH;FMTTYPE=image/jpeg:https://jerseybee.org/wp-content/uploads/2023/09/SingleBee_3.jpeg
END:VEVENT
BEGIN:VEVENT
DTSTART;VALUE=DATE:20240504
DTEND;VALUE=DATE:20240505
DTSTAMP:20260423T075005
CREATED:20240502T192717Z
LAST-MODIFIED:20240502T192717Z
UID:10002103-1714780800-1714867199@jerseybee.org
SUMMARY:West Orange Library May 2024 "World Exploration: Japan"
DESCRIPTION:West Orange library to host “World Exploration: Japan” for grades K-5 on May 4. The event\, scheduled from 11 a.m. to 12 p.m.\, will celebrate Asian Pacific American Heritage Month. \nFrom West Orange Public Library. \nThis information is accurate as of when it was published. Check with the event coordinator for the latest details.
URL:https://jerseybee.org/event/west-orange-library-may-2024-world-exploration-japan/
CATEGORIES:West Orange
ATTACH;FMTTYPE=image/jpeg:https://jerseybee.org/wp-content/uploads/2023/09/SingleBee_9.jpeg
END:VEVENT
BEGIN:VEVENT
DTSTART;VALUE=DATE:20240504
DTEND;VALUE=DATE:20240505
DTSTAMP:20260423T075006
CREATED:20240502T192922Z
LAST-MODIFIED:20240502T192922Z
UID:10002104-1714780800-1714867199@jerseybee.org
SUMMARY:West Orange Library May 2024 "Weekend Board Games"
DESCRIPTION:West Orange library plans a “Weekend Board Games” for grades K-5 on May 4. There will be a variety of board games for participants at 3 p.m. in the youth services programming room. No registration required.  \nFrom West Orange Public Library. \nThis information is accurate as of when it was published. Check with the event coordinator for the latest details.
URL:https://jerseybee.org/event/west-orange-library-may-2024-weekend-board-games/
CATEGORIES:West Orange
ATTACH;FMTTYPE=image/jpeg:https://jerseybee.org/wp-content/uploads/2023/09/SingleBee_2.jpeg
END:VEVENT
BEGIN:VEVENT
DTSTART;VALUE=DATE:20240504
DTEND;VALUE=DATE:20240505
DTSTAMP:20260423T075006
CREATED:20240502T194617Z
LAST-MODIFIED:20240502T194617Z
UID:10002105-1714780800-1714867199@jerseybee.org
SUMMARY:Belleville Library May 2024 "Cinco de Mayo Treasure Journal"
DESCRIPTION:Belleville library plans “Cinco de Mayo Treasure Journal” activity for ages 14+ on May 4. The program is from 11 a.m. to 12 p.m. Letizia Derro will help attendees make their own journal from recycled items. Registration required. \nFrom Belleville Public Library. \nThis information is accurate as of when it was published. Check with the event coordinator for the latest details.
URL:https://jerseybee.org/event/belleville-library-may-2024-cinco-de-mayo-treasure-journal/
CATEGORIES:Belleville
ATTACH;FMTTYPE=image/jpeg:https://jerseybee.org/wp-content/uploads/2023/09/SingleBee_6.jpeg
END:VEVENT
BEGIN:VEVENT
DTSTART;VALUE=DATE:20240504
DTEND;VALUE=DATE:20240505
DTSTAMP:20260423T075006
CREATED:20240502T203954Z
LAST-MODIFIED:20240502T203954Z
UID:10002113-1714780800-1714867199@jerseybee.org
SUMMARY:Newark Library May 2024 "Magic Encounters: The Grand Mural
DESCRIPTION:Newark library plans “Magic Encounters: The Grand Mural” family and youth art workshop on May 4 in the Main Branch. Newark artists Nancy Saleme and Patricia Cazorla will lead the class from 11 a.m. to 1 p.m. Materials and snacks provided. Registration is required. \nFrom Newark Public Library. \nThis information is accurate as of when it was published. Check with the event coordinator for the latest details.
URL:https://jerseybee.org/event/newark-library-may-2024-magic-encounters-the-grand-mural/
ATTACH;FMTTYPE=image/jpeg:https://jerseybee.org/wp-content/uploads/2023/09/SingleBee_8.jpeg
END:VEVENT
BEGIN:VEVENT
DTSTART;VALUE=DATE:20240504
DTEND;VALUE=DATE:20240505
DTSTAMP:20260423T075006
CREATED:20240502T204619Z
LAST-MODIFIED:20240502T204619Z
UID:10002114-1714780800-1714867199@jerseybee.org
SUMMARY:"Orange Police Department's Women's Empowerment Workshop"
DESCRIPTION:Orange Police Department to host “Women’s Empowerment Workshop” on May 4 in Orange. The event\, scheduled from 9:30  a.m. to 1 p.m.\, will feature workshops and activities focusing on empowering women\, and breakfast. Preregistration is accepted by phone. \nFrom Orange Police Department. \nThis information is accurate as of when it was published. Check with the event coordinator for the latest details.
URL:https://jerseybee.org/event/orange-police-departments-womens-empowerment-workshop/
CATEGORIES:Orange
ATTACH;FMTTYPE=image/jpeg:https://jerseybee.org/wp-content/uploads/2023/09/Artboard-1_1.jpeg
END:VEVENT
BEGIN:VEVENT
DTSTART;VALUE=DATE:20240504
DTEND;VALUE=DATE:20240506
DTSTAMP:20260423T075006
CREATED:20240501T173901Z
LAST-MODIFIED:20240501T173901Z
UID:10002072-1714780800-1714953599@jerseybee.org
SUMMARY:South Orange Library Spring 2024 Jewelry Sale
DESCRIPTION:South Orange library plans a jewelry sale on May 4-5. The sale is from 10 a.m. to 5 p.m. on May 4 and from 11 a.m. to 4 p.m. on May 5 at the Baird Community Center. Proceeds support the library. \nFrom Friends of South Orange Public Library. \nThis information is accurate as of when it was published. Check with the event coordinator for the latest details.
URL:https://jerseybee.org/event/south-orange-library-spring-2024-jewelry-sale/
CATEGORIES:South Orange
ATTACH;FMTTYPE=image/jpeg:https://jerseybee.org/wp-content/uploads/2023/09/SingleBee_3.jpeg
END:VEVENT
BEGIN:VEVENT
DTSTART;VALUE=DATE:20240504
DTEND;VALUE=DATE:20240506
DTSTAMP:20260423T075006
CREATED:20240501T174532Z
LAST-MODIFIED:20240501T174532Z
UID:10002074-1714780800-1714953599@jerseybee.org
SUMMARY:Bloomfield May 2024 Town-Wide Garage Sale
DESCRIPTION:Bloomfield plans a town-wide garage sale on May 4-5. Registration fee is waived for residents conducting a sale. Forms are available online. \nFrom Bloomfield Township. \nThis information is accurate as of when it was published. Check with the event coordinator for the latest details.
URL:https://jerseybee.org/event/bloomfield-may-2024-town-wide-garage-sale/
CATEGORIES:Bloomfield
ATTACH;FMTTYPE=image/jpeg:https://jerseybee.org/wp-content/uploads/2023/09/SingleBee_8.jpeg
END:VEVENT
BEGIN:VEVENT
DTSTART;VALUE=DATE:20240505
DTEND;VALUE=DATE:20240506
DTSTAMP:20260423T075006
CREATED:20240424T175059Z
LAST-MODIFIED:20240424T175059Z
UID:10001980-1714867200-1714953599@jerseybee.org
SUMMARY:Nutley Chamber of Commerce May 2024 "5K Run/Walk and Kids Fun Run"
DESCRIPTION:Nutley Chamber of Commerce to host “5K Run/Walk and Kids Fun Run” on May 5. Participants can sign up online to walk or run in the event at Nutley High School Park Oval. Admission fees vary by age. The event is rain or shine and fees are non-refundable. \nFrom Nutley Chamber of Commerce. \nThis information is accurate as of when it was published. Check with the event coordinator for the latest details.
URL:https://jerseybee.org/event/nutley-chamber-of-commerce-may-2024-5k-run-walk-and-kids-fun-run/
CATEGORIES:Belleville,Bloomfield,Nutley
ATTACH;FMTTYPE=image/jpeg:https://jerseybee.org/wp-content/uploads/2023/09/SingleBee_8.jpeg
END:VEVENT
BEGIN:VEVENT
DTSTART;VALUE=DATE:20240505
DTEND;VALUE=DATE:20240506
DTSTAMP:20260423T075006
CREATED:20240429T190137Z
LAST-MODIFIED:20240429T190137Z
UID:10002034-1714867200-1714953599@jerseybee.org
SUMMARY:South Orange 2024 "River Day" Clean-Up
DESCRIPTION:South Orange plans “River Day\,” a community clean-up of the Rahway River\, on May 5. Clean-up is from 11 a.m. to 3 p.m. at the Skate House by the pond in Meadowland Park. Registration is recommended. A rain date is scheduled for May 12. \nFrom South Orange Village. \nThis information is accurate as of when it was published. Check with the event coordinator for the latest details.
URL:https://jerseybee.org/event/south-orange-2024-river-day-clean-up/
ATTACH;FMTTYPE=image/jpeg:https://jerseybee.org/wp-content/uploads/2023/09/SingleBee_6.jpeg
END:VEVENT
BEGIN:VEVENT
DTSTART;VALUE=DATE:20240505
DTEND;VALUE=DATE:20240506
DTSTAMP:20260423T075006
CREATED:20240502T183106Z
LAST-MODIFIED:20240502T183106Z
UID:10002097-1714867200-1714953599@jerseybee.org
SUMMARY:Family Promise of Essex County May 2024 5K Run
DESCRIPTION:Family Promise of Essex County plans a 5K run and walk on May 5 in Bloomfield and Montclair. Participants will run from 8:30 a.m. and can join a group stroll at 10:30 a.m. at Brookdale Park. Admission fees will fund Family Promise\, a nonprofit that assists unhoused people. Registration is required. \nFrom Family Promise of Essex County. \nThis information is accurate as of when it was published. Check with the event coordinator for the latest details.
URL:https://jerseybee.org/event/family-promise-of-essex-county-may-2024-5k-run/
CATEGORIES:Bloomfield,Essex County
ATTACH;FMTTYPE=image/jpeg:https://jerseybee.org/wp-content/uploads/2023/09/SingleBee_10.jpeg
END:VEVENT
BEGIN:VEVENT
DTSTART;VALUE=DATE:20240505
DTEND;VALUE=DATE:20240506
DTSTAMP:20260423T075006
CREATED:20240502T183108Z
LAST-MODIFIED:20240502T183108Z
UID:10002098-1714867200-1714953599@jerseybee.org
SUMMARY:Interfaith Green N.J. May 2024 "Interfaith Climate March from Grief to Hope"
DESCRIPTION:Interfaith Green N.J. plans “Interfaith Climate March from Grief to Hope” on May 5 in Montclair. The march begins at First United Methodist Church of Montclair and ends at Bnai Keshet from 1-3 p.m. Demonstrators demand complete clean energy in N.J. and protest bank funding of fossil fuels. Registration required. \nFrom First Congregational Church of Montclair. \nThis information is accurate as of when it was published. Check with the event coordinator for the latest details.
URL:https://jerseybee.org/event/interfaith-green-n-j-may-2024-interfaith-climate-march-from-grief-to-hope/
CATEGORIES:Bloomfield,Montclair
ATTACH;FMTTYPE=image/jpeg:https://jerseybee.org/wp-content/uploads/2023/09/SingleBee_8.jpeg
END:VEVENT
BEGIN:VEVENT
DTSTART;VALUE=DATE:20240505
DTEND;VALUE=DATE:20240506
DTSTAMP:20260423T075006
CREATED:20240502T191911Z
LAST-MODIFIED:20240502T191911Z
UID:10002101-1714867200-1714953599@jerseybee.org
SUMMARY:Nutley Recreation 2024 "Senior May Day Luncheon"
DESCRIPTION:Nutley recreation to host “May Day Luncheon” for seniors on May 5. The event\, starting at 12:30 p.m. at the recreation building\, will feature a buffet luncheon and live entertainment. Admission is $5 for residents and $10 for non-residents. Registration is required. \nFrom Nutley Township. \nThis information is accurate as of when it was published. Check with the event coordinator for the latest details.
URL:https://jerseybee.org/event/nutley-recreation-2024-senior-may-day-luncheon/
CATEGORIES:Belleville,Bloomfield,Nutley
ATTACH;FMTTYPE=image/jpeg:https://jerseybee.org/wp-content/uploads/2023/09/SingleBee_7.jpeg
END:VEVENT
BEGIN:VEVENT
DTSTART;VALUE=DATE:20240506
DTEND;VALUE=DATE:20240507
DTSTAMP:20260423T075006
CREATED:20240429T195614Z
LAST-MODIFIED:20240429T195614Z
UID:10002044-1714953600-1715039999@jerseybee.org
SUMMARY:Bloomfield Library Monday Night Book Club May 2024 Meeting
DESCRIPTION:Bloomfield library’s Monday night book club meeting planned for May 6. Members will discuss The Personal Librarian” by Marie Benedict and Victoria Christopher Murray at 6:30 p.m. at the library. \nFrom Bloomfield Public Library. \nThis information is accurate as of when it was published. Check with the event coordinator for the latest details.
URL:https://jerseybee.org/event/bloomfield-library-monday-night-book-club-may-2024-meeting/
CATEGORIES:Bloomfield
ATTACH;FMTTYPE=image/jpeg:https://jerseybee.org/wp-content/uploads/2023/09/SingleBee_3.jpeg
END:VEVENT
BEGIN:VEVENT
DTSTART;VALUE=DATE:20240506
DTEND;VALUE=DATE:20240507
DTSTAMP:20260423T075006
CREATED:20240502T192519Z
LAST-MODIFIED:20240502T192519Z
UID:10002102-1714953600-1715039999@jerseybee.org
SUMMARY:Belleville Public Schools 2024-25 Budget Hearing
DESCRIPTION:Belleville public schools plans a public budget hearing on May 6. The meeting begins at 6 p.m. at Belleville High School and will discuss the 2024-2025 budget. The meeting will also be live streamed on the district’s social media pages. \nFrom Belleville Public Schools. \nThis information is accurate as of when it was published. Check with the event coordinator for the latest details.
URL:https://jerseybee.org/event/belleville-public-schools-2024-25-budget-hearing/
ATTACH;FMTTYPE=image/jpeg:https://jerseybee.org/wp-content/uploads/2023/09/SingleBee_3.jpeg
END:VEVENT
BEGIN:VEVENT
DTSTART;VALUE=DATE:20240506
DTEND;VALUE=DATE:20240507
DTSTAMP:20260423T075006
CREATED:20240502T200215Z
LAST-MODIFIED:20240502T200215Z
UID:10002108-1714953600-1715039999@jerseybee.org
SUMMARY:Montclair Library May 2024 "Read to a Therapy Dog"
DESCRIPTION:Montclair library plans “Read to a Therapy Dog” for ages 5-17 on May 6 in the Main Branch. Participants will read to Murray\, a trained seeing eye dog\, from 3:45-4:45 p.m. Registration is not required. \nFrom Montclair Public Library. \nThis information is accurate as of when it was published. Check with the event coordinator for the latest details.
URL:https://jerseybee.org/event/montclair-library-may-2024-read-to-a-therapy-dog/
CATEGORIES:Bloomfield,Glen Ridge,Montclair
ATTACH;FMTTYPE=image/jpeg:https://jerseybee.org/wp-content/uploads/2023/09/SingleBee_8.jpeg
END:VEVENT
BEGIN:VEVENT
DTSTART;VALUE=DATE:20240506
DTEND;VALUE=DATE:20240507
DTSTAMP:20260423T075006
CREATED:20240502T200605Z
LAST-MODIFIED:20240502T200605Z
UID:10002109-1714953600-1715039999@jerseybee.org
SUMMARY:N.J. Motor Vehicle Commission May 2024 Mobile Inspection Unit
DESCRIPTION:New Jersey Motor Vehicle Commission plans a free inspection and registration renewal station on May 6 in Nutley. The station will be available at the parks department building between 7 a.m. and 3 p.m. Attendees must bring their license\, vehicle registration\, and proof of state insurance for services. Appointments not required. \nFrom Nutley Township. \nThis information is accurate as of when it was published. Check with the event coordinator for the latest details.
URL:https://jerseybee.org/event/n-j-motor-vehicle-commission-may-2024-mobile-inspection-unit/
CATEGORIES:Belleville,Bloomfield,Glen Ridge,Local Government,Montclair,Nutley
ATTACH;FMTTYPE=image/jpeg:https://jerseybee.org/wp-content/uploads/2023/09/SingleBee_7.jpeg
END:VEVENT
BEGIN:VEVENT
DTSTART;VALUE=DATE:20240507
DTEND;VALUE=DATE:20240508
DTSTAMP:20260423T075006
CREATED:20240502T183108Z
LAST-MODIFIED:20240502T183108Z
UID:10002099-1715040000-1715126399@jerseybee.org
SUMMARY:Essex County Cultural Affairs May 2024 "Attracting Target Audiences: A Step-by-Step Guide" Workshop
DESCRIPTION:Essex County cultural affairs plans free\, virtual “Attracting Target Audiences: A Step-by-Step Guide”  workshop on May 7. Sessions are available at 12 p.m. and 5 p.m. Attendees will learn how to turn customers into donors.  \nFrom Essex County. \nThis information is accurate as of when it was published. Check with the event coordinator for the latest details.
URL:https://jerseybee.org/event/essex-county-cultural-affairs-may-2024-attracting-target-audiences-a-step-by-step-guide-workshop/
ATTACH;FMTTYPE=image/jpeg:https://jerseybee.org/wp-content/uploads/2023/09/SingleBee_9.jpeg
END:VEVENT
BEGIN:VEVENT
DTSTART;VALUE=DATE:20240507
DTEND;VALUE=DATE:20240508
DTSTAMP:20260423T075006
CREATED:20240502T195559Z
LAST-MODIFIED:20240502T195559Z
UID:10002106-1715040000-1715126399@jerseybee.org
SUMMARY:Out Montclair May 2024 "Stepping Out"
DESCRIPTION:Out Montclair’s weekly walking group “Stepping Out” to meet May 7. Starting location varies each week and will be given after resignation. Walks begin at 6:30 p.m. \nFrom Out Montclair. \nThis information is accurate as of when it was published. Check with the event coordinator for the latest details.
URL:https://jerseybee.org/event/out-montclair-may-2024-stepping-out/
CATEGORIES:Glen Ridge,Montclair,Nutley
ATTACH;FMTTYPE=image/jpeg:https://jerseybee.org/wp-content/uploads/2023/09/SingleBee_4.jpeg
END:VEVENT
BEGIN:VEVENT
DTSTART;VALUE=DATE:20240507
DTEND;VALUE=DATE:20240508
DTSTAMP:20260423T075006
CREATED:20240502T195752Z
LAST-MODIFIED:20240502T195752Z
UID:10002107-1715040000-1715126399@jerseybee.org
SUMMARY:South Orange 2024 "Get Twisted in Meadowland Park"
DESCRIPTION:South Orange plans “Get Twisted in Meadowland Park” free event on May 7. It begins at 6 p.m. at The Skate House in Meadowland Park. There will be free pretzels from  Martin’s Pretzel Bakery and free yoga from Baker Street Yoga. Preregistration required for yoga. \nFrom South Orange Village. \nThis information is accurate as of when it was published. Check with the event coordinator for the latest details.
URL:https://jerseybee.org/event/south-orange-2024-get-twisted-in-meadowland-park/
CATEGORIES:Maplewood
ATTACH;FMTTYPE=image/jpeg:https://jerseybee.org/wp-content/uploads/2023/09/SingleBee_10.jpeg
END:VEVENT
BEGIN:VEVENT
DTSTART;VALUE=DATE:20240507
DTEND;VALUE=DATE:20240508
DTSTAMP:20260423T075006
CREATED:20240502T202411Z
LAST-MODIFIED:20240502T202411Z
UID:10002110-1715040000-1715126399@jerseybee.org
SUMMARY:Maplewood Library Story Slam May 2024 College Admissions Essay Deadline
DESCRIPTION:South Orange-Maplewood students in grade 12 can submit their college admissions essays for a library Story Slam until May 7. Essays are accepted online for consideration. Selected students will read their essay on May 21 at Maplewood library’s Hilton Branch from 7-8 p.m.  \nFrom Maplewood Public Library. \nThis information is accurate as of when it was published. Check with the event coordinator for the latest details.
URL:https://jerseybee.org/event/maplewood-library-story-slam-may-2024-college-admissions-essay-deadline/
CATEGORIES:Maplewood
ATTACH;FMTTYPE=image/jpeg:https://jerseybee.org/wp-content/uploads/2023/09/SingleBee_5.jpeg
END:VEVENT
END:VCALENDAR