BEGIN:VCALENDAR
VERSION:2.0
PRODID:-//The Jersey Bee - ECPv6.15.12.2//NONSGML v1.0//EN
CALSCALE:GREGORIAN
METHOD:PUBLISH
X-ORIGINAL-URL:https://jerseybee.org
X-WR-CALDESC:Events for The Jersey Bee
REFRESH-INTERVAL;VALUE=DURATION:PT1H
X-Robots-Tag:noindex
X-PUBLISHED-TTL:PT1H
BEGIN:VTIMEZONE
TZID:America/Toronto
BEGIN:DAYLIGHT
TZOFFSETFROM:-0500
TZOFFSETTO:-0400
TZNAME:EDT
DTSTART:20240310T070000
END:DAYLIGHT
BEGIN:STANDARD
TZOFFSETFROM:-0400
TZOFFSETTO:-0500
TZNAME:EST
DTSTART:20241103T060000
END:STANDARD
BEGIN:DAYLIGHT
TZOFFSETFROM:-0500
TZOFFSETTO:-0400
TZNAME:EDT
DTSTART:20250309T070000
END:DAYLIGHT
BEGIN:STANDARD
TZOFFSETFROM:-0400
TZOFFSETTO:-0500
TZNAME:EST
DTSTART:20251102T060000
END:STANDARD
BEGIN:DAYLIGHT
TZOFFSETFROM:-0500
TZOFFSETTO:-0400
TZNAME:EDT
DTSTART:20260308T070000
END:DAYLIGHT
BEGIN:STANDARD
TZOFFSETFROM:-0400
TZOFFSETTO:-0500
TZNAME:EST
DTSTART:20261101T060000
END:STANDARD
END:VTIMEZONE
BEGIN:VEVENT
DTSTART;VALUE=DATE:20250714
DTEND;VALUE=DATE:20250715
DTSTAMP:20260421T110735
CREATED:20250707T183020Z
LAST-MODIFIED:20250707T183020Z
UID:10007063-1752451200-1752537599@jerseybee.org
SUMMARY:Maplewood July 2025 Farmers Market
DESCRIPTION:Maplewood’s farmers market is open Jul. 14 from 2-7 p.m. at 1662 Springfield Ave. It is open every Monday through Nov. 24. There will be local vendors selling fresh produce. \nFrom Maplewood Township. \nThis information is accurate as of when it was published. Check with the event coordinator for the latest details.
URL:https://jerseybee.org/event/maplewood-july-2025-farmers-market/
CATEGORIES:Irvington,Maplewood,South Orange
ATTACH;FMTTYPE=image/jpeg:https://jerseybee.org/wp-content/uploads/2023/09/SingleBee_6.jpeg
END:VEVENT
BEGIN:VEVENT
DTSTART;VALUE=DATE:20250714
DTEND;VALUE=DATE:20250715
DTSTAMP:20260421T110735
CREATED:20250707T184056Z
LAST-MODIFIED:20250707T184056Z
UID:10007067-1752451200-1752537599@jerseybee.org
SUMMARY:Essex County Senior Services July 2025 Farmers Market Voucher Distribution: Branch Brook Park
DESCRIPTION:Farmers market voucher distribution for eligible seniors ages 60+ planned with Essex County senior services on Jul. 14 in Newark. The distribution is from 10 a.m. to 1 p.m. at Essex County Branch Brook Park. Attendees must bring proof of income and photo ID. \nFrom Essex County Division of Senior Services. \nThis information is accurate as of when it was published. Check with the event coordinator for the latest details.
URL:https://jerseybee.org/event/essex-county-senior-services-july-2025-farmers-market-voucher-distribution-branch-brook-park/
CATEGORIES:Essex County,Newark
ATTACH;FMTTYPE=image/jpeg:https://jerseybee.org/wp-content/uploads/2023/09/Artboard-1_1.jpeg
END:VEVENT
BEGIN:VEVENT
DTSTART;VALUE=DATE:20250714
DTEND;VALUE=DATE:20250715
DTSTAMP:20260421T110735
CREATED:20250714T165437Z
LAST-MODIFIED:20250714T165437Z
UID:10007134-1752451200-1752537599@jerseybee.org
SUMMARY:Bloomfield Fire Department Summer 2025 "Girls On Fire" Camp Registration Open
DESCRIPTION:Bloomfield girls entering grades 4-6 can register for the fire department’s summer camp\, scheduled for Aug. 13-14. It is from 9 a.m. to 1 p.m. It includes a physical training session\, demonstrations\, and first aid lessons. Registration available online. \nFrom Bloomfield Fire Department. \nThis information is accurate as of when it was published. Check with the event coordinator for the latest details.
URL:https://jerseybee.org/event/bloomfield-fire-department-summer-2025-girls-on-fire-camp-registration-open/
CATEGORIES:Bloomfield
ATTACH;FMTTYPE=image/jpeg:https://jerseybee.org/wp-content/uploads/2023/09/SingleBee_10.jpeg
END:VEVENT
BEGIN:VEVENT
DTSTART;VALUE=DATE:20250714
DTEND;VALUE=DATE:20250715
DTSTAMP:20260421T110735
CREATED:20250714T170440Z
LAST-MODIFIED:20250714T170440Z
UID:10007139-1752451200-1752537599@jerseybee.org
SUMMARY:South Orange 2025 Village Council Candidate Packets Available
DESCRIPTION:South Orange residents interested in running for municipal council can request a candidate packet by email. Three seats are up for election this November. The deadline to submit the candidate packet to the clerk’s office is Aug. 21 at 4 p.m. \nFrom The Village Green. \nThis information is accurate as of when it was published. Check with the event coordinator for the latest details.
URL:https://jerseybee.org/event/south-orange-2025-village-council-candidate-packets-available/
CATEGORIES:South Orange
ATTACH;FMTTYPE=image/jpeg:https://jerseybee.org/wp-content/uploads/2023/09/SingleBee_3.jpeg
END:VEVENT
BEGIN:VEVENT
DTSTART;VALUE=DATE:20250715
DTEND;VALUE=DATE:20250716
DTSTAMP:20260421T110735
CREATED:20250708T183658Z
LAST-MODIFIED:20250708T183658Z
UID:10007071-1752537600-1752623999@jerseybee.org
SUMMARY:Newark July 2025 Open Fire Hydrant: Broome Street
DESCRIPTION:Newark fire hydrants will be open on Jul. 15 from 1-4 p.m. It will be open on Broome Street between Mercer Street and Springfield Avenue. \nFrom Newark Public Safety. \nThis information is accurate as of when it was published. Check with the event coordinator for the latest details.
URL:https://jerseybee.org/event/newark-july-2025-open-fire-hydrant-broome-street/
CATEGORIES:Newark
ATTACH;FMTTYPE=image/jpeg:https://jerseybee.org/wp-content/uploads/2023/09/SingleBee_7.jpeg
END:VEVENT
BEGIN:VEVENT
DTSTART;VALUE=DATE:20250715
DTEND;VALUE=DATE:20250716
DTSTAMP:20260421T110735
CREATED:20250708T184035Z
LAST-MODIFIED:20250708T184035Z
UID:10007072-1752537600-1752623999@jerseybee.org
SUMMARY:Newark Violence Prevention July 2025 "Pop-Up Play Street"
DESCRIPTION:“Pop-Up Play Street” planned with Newark violence prevention on Jul. 15 in the South Ward. It is from 4-7 p.m. on Bergen Street between Shephard Avenue and Scheerer Avenue. There will be music and community resources. \nFrom Newark Office of Violence Prevention and Trauma Recovery. \nThis information is accurate as of when it was published. Check with the event coordinator for the latest details.
URL:https://jerseybee.org/event/newark-violence-prevention-july-2025-pop-up-play-street/
CATEGORIES:Newark
ATTACH;FMTTYPE=image/jpeg:https://jerseybee.org/wp-content/uploads/2023/09/SingleBee_3.jpeg
END:VEVENT
BEGIN:VEVENT
DTSTART;VALUE=DATE:20250715
DTEND;VALUE=DATE:20250716
DTSTAMP:20260421T110735
CREATED:20250708T185907Z
LAST-MODIFIED:20250708T185907Z
UID:10007073-1752537600-1752623999@jerseybee.org
SUMMARY:La Casa de Don Pedro July 2025 Pop-Up Produce Shop
DESCRIPTION:Pop-up produce shop planned with La Casa de Don Pedro on Jul. 15 in Newark. It is from 1-2 p.m. at 282 First Ave. There will be produce and resources. First-come\, first-served basis. \nFrom La Casa De Don Pedro. \nThis information is accurate as of when it was published. Check with the event coordinator for the latest details.
URL:https://jerseybee.org/event/la-casa-de-don-pedro-july-2025-pop-up-produce-shop-2/
CATEGORIES:East Orange,Irvington,Newark,Orange
ATTACH;FMTTYPE=image/jpeg:https://jerseybee.org/wp-content/uploads/2023/09/SingleBee_7.jpeg
END:VEVENT
BEGIN:VEVENT
DTSTART;VALUE=DATE:20250715
DTEND;VALUE=DATE:20250716
DTSTAMP:20260421T110735
CREATED:20250708T190929Z
LAST-MODIFIED:20250708T190929Z
UID:10007075-1752537600-1752623999@jerseybee.org
SUMMARY:Bloomfield Recreation July 2025 Concert with Coast 2 Coast
DESCRIPTION:Free outdoor concert with Coast 2 Coast planned with Bloomfield recreation on Jul. 15. It begins at 7 p.m. at Brookside Park. \nFrom Bloomfield Parks\, Recreation\, and Cultural Affairs Department. \nThis information is accurate as of when it was published. Check with the event coordinator for the latest details.
URL:https://jerseybee.org/event/bloomfield-recreation-july-2025-concert-with-coast-2-coast/
CATEGORIES:Bloomfield,East Orange,Glen Ridge,Montclair
ATTACH;FMTTYPE=image/jpeg:https://jerseybee.org/wp-content/uploads/2023/09/SingleBee_7.jpeg
END:VEVENT
BEGIN:VEVENT
DTSTART;VALUE=DATE:20250715
DTEND;VALUE=DATE:20250716
DTSTAMP:20260421T110735
CREATED:20250708T191317Z
LAST-MODIFIED:20250708T191317Z
UID:10007076-1752537600-1752623999@jerseybee.org
SUMMARY:Nutley Library July 2025 "Challenge Island STEM Workshop"
DESCRIPTION:Art and architecture STEM workshop for children in grades 1-5 planned at Nutley library on Jul. 15. It is from 3-4 p.m. Individuals can join a waiting list for a chance to attend the event. \nFrom Nutley Public Library. \nThis information is accurate as of when it was published. Check with the event coordinator for the latest details.
URL:https://jerseybee.org/event/nutley-library-july-2025-challenge-island-stem-workshop/
CATEGORIES:Nutley
ATTACH;FMTTYPE=image/jpeg:https://jerseybee.org/wp-content/uploads/2023/09/SingleBee_3.jpeg
END:VEVENT
BEGIN:VEVENT
DTSTART;VALUE=DATE:20250715
DTEND;VALUE=DATE:20250716
DTSTAMP:20260421T110735
CREATED:20250708T191542Z
LAST-MODIFIED:20250708T191542Z
UID:10007079-1752537600-1752623999@jerseybee.org
SUMMARY:Essex County Parks 2025 Summer Music Concert: Esteem
DESCRIPTION:Free outdoor concert with Esteem planned with Essex County parks on Jul. 15 in Bloomfield. The performance begins at 7 p.m. at Watsessing Park. \nFrom Essex County Parks. \nThis information is accurate as of when it was published. Check with the event coordinator for the latest details.
URL:https://jerseybee.org/event/essex-county-parks-2025-summer-music-concert-esteem/
CATEGORIES:Bloomfield,Essex County
ATTACH;FMTTYPE=image/jpeg:https://jerseybee.org/wp-content/uploads/2023/09/Artboard-1_1.jpeg
END:VEVENT
BEGIN:VEVENT
DTSTART;VALUE=DATE:20250715
DTEND;VALUE=DATE:20250716
DTSTAMP:20260421T110735
CREATED:20250708T192113Z
LAST-MODIFIED:20250708T192113Z
UID:10007082-1752537600-1752623999@jerseybee.org
SUMMARY:PMCHNJ July 2025 "Write a Message for a Loved One"
DESCRIPTION:Card-writing session for families planned with Partnership for Maternal and Child Health of Northern NJ on Jul. 15 in Irvington. Children will write and decorate gratitude cards for their parents from 3:30-4:30 p.m. at 50 Union Ave. Registration is required. Free admission. \nFrom Partnership for Maternal and Child Health of Northern NJ. \nThis information is accurate as of when it was published. Check with the event coordinator for the latest details.
URL:https://jerseybee.org/event/pmchnj-july-2025-write-a-message-for-a-loved-one/
CATEGORIES:Irvington,Maplewood,Newark,South Orange
ATTACH;FMTTYPE=image/jpeg:https://jerseybee.org/wp-content/uploads/2023/09/SingleBee_6.jpeg
END:VEVENT
BEGIN:VEVENT
DTSTART;VALUE=DATE:20250715
DTEND;VALUE=DATE:20250716
DTSTAMP:20260421T110735
CREATED:20250710T190800Z
LAST-MODIFIED:20250710T190800Z
UID:10007110-1752537600-1752623999@jerseybee.org
SUMMARY:Bloomfield July 2025 Farmers Market
DESCRIPTION:Bloomfield’s farmers market is open Jul. 15 at Bloomfield library’s courtyard. It is open every Tuesday from 3:30-6:30 p.m. through Oct. 28. There will be produce and vendors. \nFrom Bloomfield Township. \nThis information is accurate as of when it was published. Check with the event coordinator for the latest details.
URL:https://jerseybee.org/event/bloomfield-july-2025-farmers-market/
CATEGORIES:Belleville,Bloomfield,East Orange,Glen Ridge,Montclair,Nutley
ATTACH;FMTTYPE=image/jpeg:https://jerseybee.org/wp-content/uploads/2023/09/SingleBee_8.jpeg
END:VEVENT
BEGIN:VEVENT
DTSTART;VALUE=DATE:20250715
DTEND;VALUE=DATE:20250716
DTSTAMP:20260421T110735
CREATED:20250710T192203Z
LAST-MODIFIED:20250710T192203Z
UID:10007126-1752537600-1752623999@jerseybee.org
SUMMARY:Essex County Parks 2025 Summer Music Concert Rescheduled: Stage Revolution
DESCRIPTION:Free outdoor concert with Stage Revolution planned with Essex County parks is rescheduled to Jul. 15 in Newark. The performance begins at 7:30 p.m. at Weequahic Park. Fireworks will follow. \nFrom Essex County Parks. \nThis information is accurate as of when it was published. Check with the event coordinator for the latest details.
URL:https://jerseybee.org/event/essex-county-parks-2025-summer-music-concert-rescheduled-stage-revolution-2/
CATEGORIES:Essex County,Newark
ATTACH;FMTTYPE=image/jpeg:https://jerseybee.org/wp-content/uploads/2023/09/SingleBee_3.jpeg
END:VEVENT
BEGIN:VEVENT
DTSTART;VALUE=DATE:20250715
DTEND;VALUE=DATE:20250716
DTSTAMP:20260421T110735
CREATED:20250715T155426Z
LAST-MODIFIED:20250715T155426Z
UID:10007152-1752537600-1752623999@jerseybee.org
SUMMARY:American Friends Service Committee Summer 2025 Advocacy Training Registration Open
DESCRIPTION:Black immigrant youth ages 14-19 can apply to join American Friends Service Committee’s summer advocacy training\, scheduled for Aug. 4-8 in Newark. Attendees will learn about immigrant issues and ways to address it. The training meets from 10 a.m. to 3 p.m. at 89 Market St. Transportation fees and lunch are included\, and stipends are provided. Registration available online. \nFrom American Friends Service Committee. \nThis information is accurate as of when it was published. Check with the event coordinator for the latest details.
URL:https://jerseybee.org/event/american-friends-service-committee-summer-2025-advocacy-training-registration-open/
CATEGORIES:Essex County,Newark
ATTACH;FMTTYPE=image/jpeg:https://jerseybee.org/wp-content/uploads/2023/09/SingleBee_8.jpeg
END:VEVENT
BEGIN:VEVENT
DTSTART;VALUE=DATE:20250716
DTEND;VALUE=DATE:20250717
DTSTAMP:20260421T110735
CREATED:20250709T192557Z
LAST-MODIFIED:20250709T192557Z
UID:10007086-1752624000-1752710399@jerseybee.org
SUMMARY:Essex County Parks 2025 Summer Music Concert: True Sol
DESCRIPTION:Free outdoor concert with True Sol planned with Essex County parks on Jul. 16 in Newark. The performance begins at 7 p.m. at Ivy Hill Park. \nFrom Essex County Parks. \nThis information is accurate as of when it was published. Check with the event coordinator for the latest details.
URL:https://jerseybee.org/event/essex-county-parks-2025-summer-music-concert-true-sol/
CATEGORIES:Essex County,Newark
ATTACH;FMTTYPE=image/jpeg:https://jerseybee.org/wp-content/uploads/2023/09/Artboard-1_1.jpeg
END:VEVENT
BEGIN:VEVENT
DTSTART;VALUE=DATE:20250716
DTEND;VALUE=DATE:20250717
DTSTAMP:20260421T110735
CREATED:20250709T192754Z
LAST-MODIFIED:20250709T192754Z
UID:10007088-1752624000-1752710399@jerseybee.org
SUMMARY:Glen Ridge Library July 2025 "Intergalactic Impressions" Galaxy Painting Workshop
DESCRIPTION:Galaxy painting session for youth in grades 6+ planned at Glen Ridge library on Jul. 16. It begins at 2 p.m. Registration is required. Free admission. \nFrom Glen Ridge Public Library. \nThis information is accurate as of when it was published. Check with the event coordinator for the latest details.
URL:https://jerseybee.org/event/glen-ridge-library-july-2025-intergalactic-impressions-galaxy-painting-workshop/
CATEGORIES:Glen Ridge
ATTACH;FMTTYPE=image/jpeg:https://jerseybee.org/wp-content/uploads/2023/09/Artboard-1_1.jpeg
END:VEVENT
BEGIN:VEVENT
DTSTART;VALUE=DATE:20250716
DTEND;VALUE=DATE:20250717
DTSTAMP:20260421T110735
CREATED:20250709T192945Z
LAST-MODIFIED:20250709T192945Z
UID:10007089-1752624000-1752710399@jerseybee.org
SUMMARY:Turtle Back Zoo July 2025 "Zoo Movie Nights: Paddington in Peru"
DESCRIPTION:Movie screening of “Paddington in Peru” planned with Turtle Back Zoo on Jul. 16 in West Orange. It begins at 6 p.m. in the Zoo Picnic Area. Zoo admission is required to attend the movie. \nFrom Turtle Back Zoo. \nThis information is accurate as of when it was published. Check with the event coordinator for the latest details.
URL:https://jerseybee.org/event/turtle-back-zoo-july-2025-zoo-movie-nights-paddington-in-peru/
CATEGORIES:Essex County,West Orange
ATTACH;FMTTYPE=image/jpeg:https://jerseybee.org/wp-content/uploads/2023/09/SingleBee_9.jpeg
END:VEVENT
BEGIN:VEVENT
DTSTART;VALUE=DATE:20250716
DTEND;VALUE=DATE:20250717
DTSTAMP:20260421T110735
CREATED:20250709T193353Z
LAST-MODIFIED:20250709T193353Z
UID:10007091-1752624000-1752710399@jerseybee.org
SUMMARY:Bloomfield Public Schools July 2025 Class of 2026 Fundraiser: Applebee's Dine to Donate
DESCRIPTION:Fundraiser supporting Bloomfield High School’s graduating class of 2026 planned at Applebee’s on Jul. 16 in Clifton. A 10% portion of sales made from 4-10 p.m. at 375 Route 3 East. Flyer must be shown at checkout. \nFrom Bloomfield Public Schools. \nThis information is accurate as of when it was published. Check with the event coordinator for the latest details.
URL:https://jerseybee.org/event/bloomfield-public-schools-july-2025-class-of-2026-fundraiser-applebees-dine-to-donate/
CATEGORIES:Bloomfield
ATTACH;FMTTYPE=image/jpeg:https://jerseybee.org/wp-content/uploads/2023/09/SingleBee_8.jpeg
END:VEVENT
BEGIN:VEVENT
DTSTART;VALUE=DATE:20250716
DTEND;VALUE=DATE:20250717
DTSTAMP:20260421T110735
CREATED:20250709T193354Z
LAST-MODIFIED:20250709T193354Z
UID:10007092-1752624000-1752710399@jerseybee.org
SUMMARY:Boys to Leaders Foundation 2025 Fundraiser\, Scholarship Reception
DESCRIPTION:Fundraiser and scholarship reception benefitting Boys to Leaders Foundation planned on Jul. 16 in West Orange. It is from 6-9 p.m. at The Highlawn\, 1 Crest Dr. It will honor students who have shown leadership in their schools and communities. A list of honorees is available online. Tickets available online for purchase. \nFrom West Orange Patch. \nThis information is accurate as of when it was published. Check with the event coordinator for the latest details.
URL:https://jerseybee.org/event/boys-to-leaders-foundation-2025-fundraiser-scholarship-reception/
CATEGORIES:East Orange,Orange,South Orange,West Orange
ATTACH;FMTTYPE=image/jpeg:https://jerseybee.org/wp-content/uploads/2023/09/SingleBee_4.jpeg
END:VEVENT
BEGIN:VEVENT
DTSTART;VALUE=DATE:20250716
DTEND;VALUE=DATE:20250717
DTSTAMP:20260421T110735
CREATED:20250709T193602Z
LAST-MODIFIED:20250709T193602Z
UID:10007093-1752624000-1752710399@jerseybee.org
SUMMARY:Essex County 4-H Environmental Justice Club July 2025 Meeting
DESCRIPTION:Essex County residents in grades 3-8 can attend Rutgers’ Environmental Justice Club meeting on Jul. 16 in Newark. It meets from 10-11:30 a.m. at Branch Brook Park. Attendees will learn about nature\, climate justice\, and community action. Registration is required. \nFrom Rutgers Environmental Justice Club. \nThis information is accurate as of when it was published. Check with the event coordinator for the latest details.
URL:https://jerseybee.org/event/essex-county-4-h-environmental-justice-club-july-2025-meeting-2/
CATEGORIES:Essex County,Newark
ATTACH;FMTTYPE=image/jpeg:https://jerseybee.org/wp-content/uploads/2023/09/SingleBee_7.jpeg
END:VEVENT
BEGIN:VEVENT
DTSTART;VALUE=DATE:20250716
DTEND;VALUE=DATE:20250717
DTSTAMP:20260421T110735
CREATED:20250709T194154Z
LAST-MODIFIED:20250709T194154Z
UID:10007094-1752624000-1752710399@jerseybee.org
SUMMARY:Newark Documenters July 2025 "Mapping Your Local Environment" Workshop
DESCRIPTION:“Mapping Your Local Environment” workshop planned with Newark Documenters on Jul. 16 at Newark library’s Van Buren Branch. It is from 4:30-7:30 p.m. Attendees will explore ways environmental data is inequitable and map local environmental concerns. Attendees should bring a laptop and charger. Light refreshments provided. Registration is required. Free admission. \nFrom Newark Documenters. \nThis information is accurate as of when it was published. Check with the event coordinator for the latest details.
URL:https://jerseybee.org/event/newark-documenters-july-2025-mapping-your-local-environment-workshop/
CATEGORIES:Newark
ATTACH;FMTTYPE=image/jpeg:https://jerseybee.org/wp-content/uploads/2023/09/SingleBee_8.jpeg
END:VEVENT
BEGIN:VEVENT
DTSTART;VALUE=DATE:20250716
DTEND;VALUE=DATE:20250717
DTSTAMP:20260421T110735
CREATED:20250709T194352Z
LAST-MODIFIED:20250709T194352Z
UID:10007095-1752624000-1752710399@jerseybee.org
SUMMARY:Newark Library Workers July 2025 Informational Picket
DESCRIPTION:Newark library’s union will hold an informational picket on Jul. 16\, when workers are scheduled to meet with library management in a mediation session. The picket begins at 10:30 a.m. at Newark library’s Main Branch. Newark library workers are demanding wages that keep up with the cost of living\, salaries that align with N.J. Library Association standards\, and promotions in compliance with Civil Service laws.  \nFrom TAPinto Newark. \nThis information is accurate as of when it was published. Check with the event coordinator for the latest details.
URL:https://jerseybee.org/event/newark-library-workers-july-2025-informational-picket/
CATEGORIES:Essex County,Newark
ATTACH;FMTTYPE=image/jpeg:https://jerseybee.org/wp-content/uploads/2023/09/SingleBee_10.jpeg
END:VEVENT
BEGIN:VEVENT
DTSTART;VALUE=DATE:20250716
DTEND;VALUE=DATE:20250717
DTSTAMP:20260421T110735
CREATED:20250710T192206Z
LAST-MODIFIED:20250710T192206Z
UID:10007128-1752624000-1752710399@jerseybee.org
SUMMARY:Essex County Health July 2025 Vaccines for Children
DESCRIPTION:Essex County health is offering vaccines for eligible children on Jul. 16 in Orange. Vaccinations are from 3:30-6:30 p.m. at Upper Central Fieldhouse. Available vaccines include Hepatitis A and B\, flu\, and others. Book an appointment by phone or email. Eligibility requirements available online. \nFrom Essex County Office of Public Health Management. \nThis information is accurate as of when it was published. Check with the event coordinator for the latest details.
URL:https://jerseybee.org/event/essex-county-health-july-2025-vaccines-for-children/
CATEGORIES:Essex County,Orange
ATTACH;FMTTYPE=image/jpeg:https://jerseybee.org/wp-content/uploads/2023/09/SingleBee_8.jpeg
END:VEVENT
BEGIN:VEVENT
DTSTART;VALUE=DATE:20250716
DTEND;VALUE=DATE:20250717
DTSTAMP:20260421T110735
CREATED:20250714T171848Z
LAST-MODIFIED:20250714T171848Z
UID:10007143-1752624000-1752710399@jerseybee.org
SUMMARY:Glen Ridge Library July 2025 Community Pool Day
DESCRIPTION:Glen Ridge residents can use their library cards to access the Glen Ridge Community Pool on Jul. 16. Library card admission is from 10 a.m. to 8 p.m. Children younger than 16 must be accompanied by an adult. \nFrom Glen Ridge Public Library. \nThis information is accurate as of when it was published. Check with the event coordinator for the latest details.
URL:https://jerseybee.org/event/glen-ridge-library-july-2025-community-pool-day/
CATEGORIES:Glen Ridge
ATTACH;FMTTYPE=image/jpeg:https://jerseybee.org/wp-content/uploads/2023/09/SingleBee_8.jpeg
END:VEVENT
BEGIN:VEVENT
DTSTART;VALUE=DATE:20250716
DTEND;VALUE=DATE:20250717
DTSTAMP:20260421T110735
CREATED:20250716T173834Z
LAST-MODIFIED:20250716T173834Z
UID:10007166-1752624000-1752710399@jerseybee.org
SUMMARY:Garden State New Play Festival 2025 Play Submissions Open
DESCRIPTION:Garden State New Play Festival seeks play submissions by Aug. 15. Submissions must include the first 20 pages of a script focused on community engagement and social justice\, cover letter\, resume\, character breakdown\, and other requirements. The application and a complete list of requirements are available online. Writers who live in  N.J.\, New York City\, and Philadelphia are eligible to apply. \nFrom New Jersey Stage. \nThis information is accurate as of when it was published. Check with the event coordinator for the latest details.
URL:https://jerseybee.org/event/garden-state-new-play-festival-2025-play-submissions-open/
ATTACH;FMTTYPE=image/jpeg:https://jerseybee.org/wp-content/uploads/2023/09/SingleBee_6.jpeg
END:VEVENT
BEGIN:VEVENT
DTSTART;VALUE=DATE:20250716
DTEND;VALUE=DATE:20250717
DTSTAMP:20260421T110735
CREATED:20250716T174430Z
LAST-MODIFIED:20250716T174430Z
UID:10007169-1752624000-1752710399@jerseybee.org
SUMMARY:West Orange Recreation 2025 William Boland Charity Golf Tournament Registration Open
DESCRIPTION:William Boland Charity Golf Tournament is scheduled for Aug. 4 in West Orange. Proceeds will benefit the West Orange Police Athletic League and programs to support disabled community members. Registration is available online. \nFrom West Orange Recreation Department. \nThis information is accurate as of when it was published. Check with the event coordinator for the latest details.
URL:https://jerseybee.org/event/west-orange-recreation-2025-william-boland-charity-golf-tournament-registration-open/
CATEGORIES:West Orange
ATTACH;FMTTYPE=image/jpeg:https://jerseybee.org/wp-content/uploads/2023/09/SingleBee_4.jpeg
END:VEVENT
BEGIN:VEVENT
DTSTART;VALUE=DATE:20250716
DTEND;VALUE=DATE:20250721
DTSTAMP:20260421T110735
CREATED:20250709T192754Z
LAST-MODIFIED:20250709T192754Z
UID:10007087-1752624000-1753055999@jerseybee.org
SUMMARY:Newark Black Film Festival 2025 Collection
DESCRIPTION:Passes available for Newark Black Film Festival’s 2025 collection. The festival is from Jul. 16-20 at Newark Museum of Art. It will include film screenings\, panel discussions\, and special events. \nFrom Newark Black Film Festival. \nThis information is accurate as of when it was published. Check with the event coordinator for the latest details.
URL:https://jerseybee.org/event/newark-black-film-festival-2025-collection/
CATEGORIES:Essex County,Newark
ATTACH;FMTTYPE=image/jpeg:https://jerseybee.org/wp-content/uploads/2023/09/SingleBee_9.jpeg
END:VEVENT
BEGIN:VEVENT
DTSTART;VALUE=DATE:20250717
DTEND;VALUE=DATE:20250718
DTSTAMP:20260421T110735
CREATED:20250710T190345Z
LAST-MODIFIED:20250710T190345Z
UID:10007101-1752710400-1752796799@jerseybee.org
SUMMARY:West Orange Downtown Alliance July 2025 Mural Unveiling
DESCRIPTION:Mural unveiling planned with West Orange Downtown Alliance on Jul. 17. It is from 5-8 p.m. at “Imagination Alley” in St. Mark’s Square. There will be live music. Free admission. \nFrom West Orange Downtown Alliance. \nThis information is accurate as of when it was published. Check with the event coordinator for the latest details.
URL:https://jerseybee.org/event/west-orange-downtown-alliance-july-2025-mural-unveiling/
CATEGORIES:South Orange,West Orange
ATTACH;FMTTYPE=image/jpeg:https://jerseybee.org/wp-content/uploads/2023/09/SingleBee_5.jpeg
END:VEVENT
BEGIN:VEVENT
DTSTART;VALUE=DATE:20250717
DTEND;VALUE=DATE:20250718
DTSTAMP:20260421T110735
CREATED:20250710T190349Z
LAST-MODIFIED:20250710T190349Z
UID:10007103-1752710400-1752796799@jerseybee.org
SUMMARY:La Casa de Don Pedro July 2025 North Ward Farmers Market
DESCRIPTION:La Casa de Don Pedro’s North Ward farmers market opens Jul. 17 in Newark. It is from 4-7 p.m. at 43 Broadway. There will be produce\, social services\, health resources\, giveaways\, and activities for children. \nFrom La Casa De Don Pedro. \nThis information is accurate as of when it was published. Check with the event coordinator for the latest details.
URL:https://jerseybee.org/event/la-casa-de-don-pedro-july-2025-north-ward-farmers-market/
CATEGORIES:Irvington,Newark
ATTACH;FMTTYPE=image/jpeg:https://jerseybee.org/wp-content/uploads/2023/09/Artboard-1_1.jpeg
END:VEVENT
BEGIN:VEVENT
DTSTART;VALUE=DATE:20250717
DTEND;VALUE=DATE:20250718
DTSTAMP:20260421T110735
CREATED:20250710T190559Z
LAST-MODIFIED:20250710T190559Z
UID:10007104-1752710400-1752796799@jerseybee.org
SUMMARY:Nutley Chamber of Commerce July 2025 Networking Breakfast
DESCRIPTION:Networking breakfast planned with Nutley Chamber of Commerce on Jul. 17. It is from 8-9:30 a.m. at Chris and Angie’s Dinette\, 545 Franklin Ave. Admission is $20 for members and $25 for non-members. Registration is available online. \nFrom Nutley Chamber of Commerce. \nThis information is accurate as of when it was published. Check with the event coordinator for the latest details.
URL:https://jerseybee.org/event/nutley-chamber-of-commerce-july-2025-networking-breakfast/
CATEGORIES:Belleville,Bloomfield,Glen Ridge,Montclair,Nutley
ATTACH;FMTTYPE=image/jpeg:https://jerseybee.org/wp-content/uploads/2023/09/SingleBee_7.jpeg
END:VEVENT
END:VCALENDAR