BEGIN:VCALENDAR
VERSION:2.0
PRODID:-//The Jersey Bee - ECPv6.15.12.2//NONSGML v1.0//EN
CALSCALE:GREGORIAN
METHOD:PUBLISH
X-WR-CALNAME:The Jersey Bee
X-ORIGINAL-URL:https://jerseybee.org
X-WR-CALDESC:Events for The Jersey Bee
REFRESH-INTERVAL;VALUE=DURATION:PT1H
X-Robots-Tag:noindex
X-PUBLISHED-TTL:PT1H
BEGIN:VTIMEZONE
TZID:America/Toronto
BEGIN:DAYLIGHT
TZOFFSETFROM:-0500
TZOFFSETTO:-0400
TZNAME:EDT
DTSTART:20250309T070000
END:DAYLIGHT
BEGIN:STANDARD
TZOFFSETFROM:-0400
TZOFFSETTO:-0500
TZNAME:EST
DTSTART:20251102T060000
END:STANDARD
BEGIN:DAYLIGHT
TZOFFSETFROM:-0500
TZOFFSETTO:-0400
TZNAME:EDT
DTSTART:20260308T070000
END:DAYLIGHT
BEGIN:STANDARD
TZOFFSETFROM:-0400
TZOFFSETTO:-0500
TZNAME:EST
DTSTART:20261101T060000
END:STANDARD
BEGIN:DAYLIGHT
TZOFFSETFROM:-0500
TZOFFSETTO:-0400
TZNAME:EDT
DTSTART:20270314T070000
END:DAYLIGHT
BEGIN:STANDARD
TZOFFSETFROM:-0400
TZOFFSETTO:-0500
TZNAME:EST
DTSTART:20271107T060000
END:STANDARD
END:VTIMEZONE
BEGIN:VEVENT
DTSTART;VALUE=DATE:20260325
DTEND;VALUE=DATE:20260326
DTSTAMP:20260422T090936
CREATED:20260318T135507Z
LAST-MODIFIED:20260318T135507Z
UID:10009122-1774396800-1774483199@jerseybee.org
SUMMARY:Maplewood Library March 2026 "Kids Speak Out" Reception
DESCRIPTION:Reception of “Kids Speak Out: Art and Poetry on Equality\, Individuality and Social Justice” planned at Maplewood library on Mar. 25 in the Main Branch. It is from 4-5 p.m. Registration is not required. \nFrom Maplewood Public Library. \nThis information is accurate as of when it was published. Check with the event coordinator for the latest details.
URL:https://jerseybee.org/event/maplewood-library-march-2026-kids-speak-out-reception/
CATEGORIES:Maplewood,South Orange
ATTACH;FMTTYPE=image/jpeg:https://jerseybee.org/wp-content/uploads/2023/09/Artboard-1_1.jpeg
END:VEVENT
BEGIN:VEVENT
DTSTART;VALUE=DATE:20260325
DTEND;VALUE=DATE:20260326
DTSTAMP:20260422T090936
CREATED:20260318T185418Z
LAST-MODIFIED:20260318T185418Z
UID:10009126-1774396800-1774483199@jerseybee.org
SUMMARY:PMCHNJ March 2026 "Learning for Liberation: Birth and Reproductive Justice" with Birth Justice Institute
DESCRIPTION:People can learn about birth and reproductive justice with Birth Justice Institute\, an organization focused on equity and justice in maternal healthcare\, on Mar. 25 in Irvington. It is from 4:30-6:30 p.m. at 50 Union Ave. Free admission. Registration is required. \nFrom Partnership for Maternal and Child Health of Northern NJ. \nThis information is accurate as of when it was published. Check with the event coordinator for the latest details.
URL:https://jerseybee.org/event/pmchnj-march-2026-learning-for-liberation-birth-and-reproductive-justice-with-birth-justice-institute/
CATEGORIES:Essex County,Irvington
ATTACH;FMTTYPE=image/jpeg:https://jerseybee.org/wp-content/uploads/2023/09/SingleBee_2.jpeg
END:VEVENT
BEGIN:VEVENT
DTSTART;VALUE=DATE:20260325
DTEND;VALUE=DATE:20260326
DTSTAMP:20260422T090936
CREATED:20260318T185607Z
LAST-MODIFIED:20260318T185607Z
UID:10009127-1774396800-1774483199@jerseybee.org
SUMMARY:Newark Public Schools March 2026 Public Hearing: Riverfront Elementary School
DESCRIPTION:Newark residents can attend a public hearing about the school district’s new elementary school\, Riverfront\, on Mar. 25. It begins at 5 p.m. at Lafayette Street School. Riverfront Elementary School will replace the former St. Aloysius Roman Catholic Church building. The hearing will focus on school overcrowding in the East Ward. \nFrom Ironbound Community Corporation. \nThis information is accurate as of when it was published. Check with the event coordinator for the latest details.
URL:https://jerseybee.org/event/newark-public-schools-march-2026-public-hearing-riverfront-elementary-school/
CATEGORIES:Newark
ATTACH;FMTTYPE=image/jpeg:https://jerseybee.org/wp-content/uploads/2023/09/Artboard-1_1.jpeg
END:VEVENT
BEGIN:VEVENT
DTSTART;VALUE=DATE:20260325
DTEND;VALUE=DATE:20260326
DTSTAMP:20260422T090936
CREATED:20260318T185935Z
LAST-MODIFIED:20260318T185935Z
UID:10009130-1774396800-1774483199@jerseybee.org
SUMMARY:East Orange March 2026 Third Ward Community Meeting
DESCRIPTION:East Orange residents can attend a Third Ward community meeting on Mar. 25. It begins at 6 p.m. at Langston Hughes Academy. It will discuss PSE&G updates\, parking\, public works\, and more. Attendees are encouraged to share ideas and concerns. People can submit questions online in advance of the meeting. \nFrom East Orange City. \nThis information is accurate as of when it was published. Check with the event coordinator for the latest details.
URL:https://jerseybee.org/event/east-orange-march-2026-third-ward-community-meeting/
CATEGORIES:East Orange
ATTACH;FMTTYPE=image/jpeg:https://jerseybee.org/wp-content/uploads/2023/09/SingleBee_2.jpeg
END:VEVENT
BEGIN:VEVENT
DTSTART;VALUE=DATE:20260325
DTEND;VALUE=DATE:20260326
DTSTAMP:20260422T090936
CREATED:20260323T142043Z
LAST-MODIFIED:20260323T142043Z
UID:10009161-1774396800-1774483199@jerseybee.org
SUMMARY:Orange Public Schools March 2026 Preschool Evening Registration
DESCRIPTION:Preschool registration for Orange public schools opens on Mar. 25 at its Early Childhood Center. Registration is from 3:30-6:30 p.m. Applicants must be Orange residents. They are required to bring the child’s original birth certificate\, vaccination record\, current lease or mortgage statement\, two additional proofs of residency\, and parent or guardian photo ID.  \nFrom Orange Public Schools. \nThis information is accurate as of when it was published. Check with the event coordinator for the latest details.
URL:https://jerseybee.org/event/orange-public-schools-march-2026-preschool-evening-registration/
CATEGORIES:Orange
ATTACH;FMTTYPE=image/jpeg:https://jerseybee.org/wp-content/uploads/2023/09/SingleBee_9.jpeg
END:VEVENT
BEGIN:VEVENT
DTSTART;VALUE=DATE:20260325
DTEND;VALUE=DATE:20260326
DTSTAMP:20260422T090936
CREATED:20260323T142237Z
LAST-MODIFIED:20260323T142237Z
UID:10009162-1774396800-1774483199@jerseybee.org
SUMMARY:East Orange Mayor\, Quality of Life Team March 2026 "Mayor On the Block"
DESCRIPTION:East Orange Mayor Ted Green and the city’s quality of life staff will visit Halsted and Clifford Streets! on Mar. 25. There will be public works clean-up\, quality-of-life inspections\, and opportunities to meet with the mayor starting at 9:30 a.m. \nFrom East Orange City. \nThis information is accurate as of when it was published. Check with the event coordinator for the latest details.
URL:https://jerseybee.org/event/east-orange-mayor-quality-of-life-team-march-2026-mayor-on-the-block/
CATEGORIES:East Orange
ATTACH;FMTTYPE=image/jpeg:https://jerseybee.org/wp-content/uploads/2023/09/SingleBee_5.jpeg
END:VEVENT
BEGIN:VEVENT
DTSTART;VALUE=DATE:20260325
DTEND;VALUE=DATE:20260326
DTSTAMP:20260422T090936
CREATED:20260325T185848Z
LAST-MODIFIED:20260325T185848Z
UID:10009196-1774396800-1774483199@jerseybee.org
SUMMARY:Mountain Top League 2026 Spring Sports Registration Open
DESCRIPTION:Registration is open for Mountain Top League’s spring 2026 sports programs. Offerings include soccer and softball. Registration is available online. \nFrom Mountain Top League. \nThis information is accurate as of when it was published. Check with the event coordinator for the latest details.
URL:https://jerseybee.org/event/mountain-top-league-2026-spring-sports-registration-open/
CATEGORIES:West Orange
ATTACH;FMTTYPE=image/jpeg:https://jerseybee.org/wp-content/uploads/2023/09/SingleBee_4.jpeg
END:VEVENT
BEGIN:VEVENT
DTSTART;VALUE=DATE:20260325
DTEND;VALUE=DATE:20260326
DTSTAMP:20260422T090936
CREATED:20260325T185849Z
LAST-MODIFIED:20260325T185849Z
UID:10009197-1774396800-1774483199@jerseybee.org
SUMMARY:West Orange Recreation 2026 Spring Program Registration Open
DESCRIPTION:West Orange children and youth can register for the recreation department’s spring 2026 programs. Offerings include track\, lacrosse\, pickleball\, soccer\, and more. Registration is available online. \nFrom West Orange Recreation Department. \nThis information is accurate as of when it was published. Check with the event coordinator for the latest details.
URL:https://jerseybee.org/event/west-orange-recreation-2026-spring-program-registration-open/
CATEGORIES:West Orange
ATTACH;FMTTYPE=image/jpeg:https://jerseybee.org/wp-content/uploads/2023/09/SingleBee_2.jpeg
END:VEVENT
BEGIN:VEVENT
DTSTART;VALUE=DATE:20260325
DTEND;VALUE=DATE:20260326
DTSTAMP:20260422T090936
CREATED:20260325T191229Z
LAST-MODIFIED:20260325T191229Z
UID:10009200-1774396800-1774483199@jerseybee.org
SUMMARY:East Orange Public Schools 2026-27 Preschool\, Kindergarten Enrollment Open
DESCRIPTION:East Orange families can enroll their children for preschool and kindergarten for the 2026-27 academic year. People can register in-person at East Orange School District Enrollment Center\, 135 Glenwood Ave.\, on weekdays from 8:30 a.m. to 2 p.m. and from 2-3 p.m. by appointment only. People can also register online. A list of required documents is available online. \nFrom East Orange Public Schools. \nThis information is accurate as of when it was published. Check with the event coordinator for the latest details.
URL:https://jerseybee.org/event/east-orange-public-schools-2026-27-preschool-kindergarten-enrollment-open/
CATEGORIES:East Orange
ATTACH;FMTTYPE=image/jpeg:https://jerseybee.org/wp-content/uploads/2023/09/SingleBee_4.jpeg
END:VEVENT
BEGIN:VEVENT
DTSTART;VALUE=DATE:20260325
DTEND;VALUE=DATE:20260516
DTSTAMP:20260422T090936
CREATED:20260325T190314Z
LAST-MODIFIED:20260325T190314Z
UID:10009199-1774396800-1778889599@jerseybee.org
SUMMARY:Newark Library Spring 2026 "Oh Freedom" History Exhibit
DESCRIPTION:“Oh Freedom” history exhibit is on display at Newark library’s Main Branch through May 15. It focuses on African American soldiers during and after the American Revolution in N.J. Free admission. \nFrom Newark Public Library. \nThis information is accurate as of when it was published. Check with the event coordinator for the latest details.
URL:https://jerseybee.org/event/newark-library-spring-2026-oh-freedom-history-exhibit/
CATEGORIES:Essex County,Newark
ATTACH;FMTTYPE=image/jpeg:https://jerseybee.org/wp-content/uploads/2023/09/SingleBee_5.jpeg
END:VEVENT
BEGIN:VEVENT
DTSTART;VALUE=DATE:20260326
DTEND;VALUE=DATE:20260327
DTSTAMP:20260422T090936
CREATED:20260311T185010Z
LAST-MODIFIED:20260311T185010Z
UID:10009036-1774483200-1774569599@jerseybee.org
SUMMARY:Nutley Recreation March 2026 Spring Break Camp Registration Deadline
DESCRIPTION:Nutley youth in grades K-6 can attend the recreation department’s spring break camp\, scheduled for Mar. 30 to Apr. 2. It is from 7 a.m. to 6 p.m. at the recreation building. Enrollment is $225 per child. Deadline to register is Mar. 26. \nFrom Nutley Township. \nThis information is accurate as of when it was published. Check with the event coordinator for the latest details.
URL:https://jerseybee.org/event/nutley-recreation-march-2026-spring-break-camp-registration-deadline/
CATEGORIES:Nutley
ATTACH;FMTTYPE=image/jpeg:https://jerseybee.org/wp-content/uploads/2023/09/SingleBee_7.jpeg
END:VEVENT
BEGIN:VEVENT
DTSTART;VALUE=DATE:20260326
DTEND;VALUE=DATE:20260327
DTSTAMP:20260422T090936
CREATED:20260311T190115Z
LAST-MODIFIED:20260311T190115Z
UID:10009041-1774483200-1774569599@jerseybee.org
SUMMARY:Nutley March 2026 "Women's Open Mic Night"
DESCRIPTION:Nutley’s “Women’s Open Mic Night” is scheduled for Mar. 26. It is from 6-9 p.m. at The Old Canal Inn\, 2 E. Passaic Ave. Free admission. Reservations can be made by calling 973-284-1272. \nFrom Nutley Township. \nThis information is accurate as of when it was published. Check with the event coordinator for the latest details.
URL:https://jerseybee.org/event/nutley-march-2026-womens-open-mic-night/
CATEGORIES:Belleville,Nutley
ATTACH;FMTTYPE=image/jpeg:https://jerseybee.org/wp-content/uploads/2023/09/SingleBee_5.jpeg
END:VEVENT
BEGIN:VEVENT
DTSTART;VALUE=DATE:20260326
DTEND;VALUE=DATE:20260327
DTSTAMP:20260422T090936
CREATED:20260318T132648Z
LAST-MODIFIED:20260318T132648Z
UID:10009118-1774483200-1774569599@jerseybee.org
SUMMARY:Mountainside Medical Center March 2026 "Bloom and Blossom: A Baby Expo"
DESCRIPTION:Expectant parents can tour Mountainside Medical Center’s birthing center on Mar. 26 in Montclair. The tour is from 5:30-7:30 p.m. Attendees will learn how to create a birth plan\, find classes at the hospital\, and what to expect during delivery. There will be refreshments\, prizes\, and giveaways. Registration is required. \nFrom Mountainside Medical Center. \nThis information is accurate as of when it was published. Check with the event coordinator for the latest details.
URL:https://jerseybee.org/event/mountainside-medical-center-march-2026-bloom-and-blossom-a-baby-expo/
CATEGORIES:Essex County,Montclair
ATTACH;FMTTYPE=image/jpeg:https://jerseybee.org/wp-content/uploads/2023/09/SingleBee_5.jpeg
END:VEVENT
BEGIN:VEVENT
DTSTART;VALUE=DATE:20260326
DTEND;VALUE=DATE:20260327
DTSTAMP:20260422T090936
CREATED:20260319T172322Z
LAST-MODIFIED:20260319T172322Z
UID:10009135-1774483200-1774569599@jerseybee.org
SUMMARY:Glen Ridge Library March 2026 Decluttering Workshop
DESCRIPTION:Free decluttering workshop for all ages planned virtually with Glen Ridge library on Mar. 26 on Zoom. Organizer and author Jamie Novak will lead the class at 7 p.m. There will be a Q&A session. Registration is required. Open to non-library cardholders. \nFrom Glen Ridge Public Library. \nThis information is accurate as of when it was published. Check with the event coordinator for the latest details.
URL:https://jerseybee.org/event/glen-ridge-library-march-2026-decluttering-workshop/
CATEGORIES:Essex County,Glen Ridge
ATTACH;FMTTYPE=image/jpeg:https://jerseybee.org/wp-content/uploads/2023/09/SingleBee_5.jpeg
END:VEVENT
BEGIN:VEVENT
DTSTART;VALUE=DATE:20260326
DTEND;VALUE=DATE:20260327
DTSTAMP:20260422T090936
CREATED:20260319T172527Z
LAST-MODIFIED:20260319T172527Z
UID:10009137-1774483200-1774569599@jerseybee.org
SUMMARY:Glen Ridge Library March 2026 Author Talk with Kate Messner
DESCRIPTION:Virtual author talk with Kate Messner planned with Glen Ridge library on Mar. 26. It begins at 7 p.m. Messner will discuss her “Over and Under” children’s series. Registration is required. Free admission. Library card not required. \nFrom Glen Ridge Public Library. \nThis information is accurate as of when it was published. Check with the event coordinator for the latest details.
URL:https://jerseybee.org/event/glen-ridge-library-march-2026-author-talk-with-kate-messner/
CATEGORIES:Essex County,Glen Ridge
ATTACH;FMTTYPE=image/jpeg:https://jerseybee.org/wp-content/uploads/2023/09/Artboard-1_1.jpeg
END:VEVENT
BEGIN:VEVENT
DTSTART;VALUE=DATE:20260326
DTEND;VALUE=DATE:20260327
DTSTAMP:20260422T090936
CREATED:20260319T173340Z
LAST-MODIFIED:20260319T173340Z
UID:10009140-1774483200-1774569599@jerseybee.org
SUMMARY:Nutley March 2026 Women's History Month Open Mic Night
DESCRIPTION:Women’s History Month open mic night planned on Mar. 26 in Nutley. It is from 6-9 p.m. at Old Canal Inn\, 2 East Passaic Ave. RSVP by calling 973-284-1272. \nFrom Nutley Township. \nThis information is accurate as of when it was published. Check with the event coordinator for the latest details.
URL:https://jerseybee.org/event/nutley-march-2026-womens-history-month-open-mic-night/
CATEGORIES:Belleville,Nutley
ATTACH;FMTTYPE=image/jpeg:https://jerseybee.org/wp-content/uploads/2023/09/SingleBee_2.jpeg
END:VEVENT
BEGIN:VEVENT
DTSTART;VALUE=DATE:20260326
DTEND;VALUE=DATE:20260327
DTSTAMP:20260422T090936
CREATED:20260319T174344Z
LAST-MODIFIED:20260319T174344Z
UID:10009142-1774483200-1774569599@jerseybee.org
SUMMARY:Ironbound Community Corporation March 2026 Housing Justice Roundtable
DESCRIPTION:Housing justice roundtable planned virtually with Ironbound Community Corporation on Mar. 26. It will discuss housing habitability and accountability from 6-8 p.m. Registration is required. \nFrom Ironbound Community Corporation. \nThis information is accurate as of when it was published. Check with the event coordinator for the latest details.
URL:https://jerseybee.org/event/ironbound-community-corporation-march-2026-housing-justice-roundtable/
CATEGORIES:Newark
ATTACH;FMTTYPE=image/jpeg:https://jerseybee.org/wp-content/uploads/2023/09/SingleBee_9.jpeg
END:VEVENT
BEGIN:VEVENT
DTSTART;VALUE=DATE:20260326
DTEND;VALUE=DATE:20260327
DTSTAMP:20260422T090936
CREATED:20260319T174943Z
LAST-MODIFIED:20260319T174943Z
UID:10009145-1774483200-1774569599@jerseybee.org
SUMMARY:Bloomfield Recreation March 2026 Oakeside Book Club Meeting
DESCRIPTION:Oakeside book club meeting planned with Bloomfield recreation on Mar. 26. Attendees will discuss “Wild Dark Shore” by Charlotte McConaghyi at the Oakeside Cultural Center at 7 p.m. Registration available online. \nFrom Bloomfield Parks\, Recreation\, and Cultural Affairs Department. \nThis information is accurate as of when it was published. Check with the event coordinator for the latest details.
URL:https://jerseybee.org/event/bloomfield-recreation-march-2026-oakeside-book-club-meeting/
CATEGORIES:Bloomfield
ATTACH;FMTTYPE=image/jpeg:https://jerseybee.org/wp-content/uploads/2023/09/SingleBee_7.jpeg
END:VEVENT
BEGIN:VEVENT
DTSTART;VALUE=DATE:20260326
DTEND;VALUE=DATE:20260327
DTSTAMP:20260422T090936
CREATED:20260319T175143Z
LAST-MODIFIED:20260319T175143Z
UID:10009147-1774483200-1774569599@jerseybee.org
SUMMARY:Newark March 2026 Expungement Clinic
DESCRIPTION:Expungement clinic planned with Stono Public Affairs on Mar. 26 in Newark. It is from 10 a.m. to 2 p.m. at Congregational Baptist Church\, 399 Bergen St. There will be free legal consultations about expungement eligibility and paperwork. Registration is encouraged. \nFrom Newark City. \nThis information is accurate as of when it was published. Check with the event coordinator for the latest details.
URL:https://jerseybee.org/event/newark-march-2026-expungement-clinic/
CATEGORIES:Essex County,Newark
ATTACH;FMTTYPE=image/jpeg:https://jerseybee.org/wp-content/uploads/2023/09/SingleBee_6.jpeg
END:VEVENT
BEGIN:VEVENT
DTSTART;VALUE=DATE:20260326
DTEND;VALUE=DATE:20260327
DTSTAMP:20260422T090936
CREATED:20260319T180346Z
LAST-MODIFIED:20260319T180346Z
UID:10009152-1774483200-1774569599@jerseybee.org
SUMMARY:Montclair Film March 2026 "StorySLAM: And The Award Goes To"
DESCRIPTION:Montclair Film’s “StorySLAM: And The Award Goes To” is scheduled for Mar. 26. The event begins at 7:30 p.m. at Cinema505\, 505 Bloomfield Ave.\, and performers will play games and share stories. Tickets available for purchase online. \nFrom Montclair Film. \nThis information is accurate as of when it was published. Check with the event coordinator for the latest details.
URL:https://jerseybee.org/event/montclair-film-march-2026-storyslam-and-the-award-goes-to/
CATEGORIES:Bloomfield,Glen Ridge,Montclair,Nutley
ATTACH;FMTTYPE=image/jpeg:https://jerseybee.org/wp-content/uploads/2023/09/SingleBee_5.jpeg
END:VEVENT
BEGIN:VEVENT
DTSTART;VALUE=DATE:20260326
DTEND;VALUE=DATE:20260327
DTSTAMP:20260422T090936
CREATED:20260323T142416Z
LAST-MODIFIED:20260323T142416Z
UID:10009165-1774483200-1774569599@jerseybee.org
SUMMARY:Maplewood Library March 2026 "Women in Charge" Story Time
DESCRIPTION:Story time celebrating women in local government planned for children on Mar. 26 at Maplewood library’s Hilton Branch. It is from 4-4:45 p.m. Registration is not required. \nFrom Maplewood Public Library. \nThis information is accurate as of when it was published. Check with the event coordinator for the latest details.
URL:https://jerseybee.org/event/maplewood-library-march-2026-women-in-charge-story-time/
CATEGORIES:Irvington,Maplewood,South Orange
ATTACH;FMTTYPE=image/jpeg:https://jerseybee.org/wp-content/uploads/2023/09/SingleBee_5.jpeg
END:VEVENT
BEGIN:VEVENT
DTSTART;VALUE=DATE:20260326
DTEND;VALUE=DATE:20260327
DTSTAMP:20260422T090936
CREATED:20260323T165514Z
LAST-MODIFIED:20260323T165514Z
UID:10009171-1774483200-1774569599@jerseybee.org
SUMMARY:East Orange March 2026 Financial Literacy Workshop
DESCRIPTION:Financial literacy workshop for women and girls planned on Mar. 26 in East Orange. Financial educator Keila P. Catching will lead the course from 6-7 p.m. at Cicely L. Tyson Community School of Performing and Fine Arts. Free admission. Registration is required. \nFrom East Orange City. \nThis information is accurate as of when it was published. Check with the event coordinator for the latest details.
URL:https://jerseybee.org/event/east-orange-march-2026-financial-literacy-workshop/
CATEGORIES:Bloomfield,East Orange,Newark,Orange,South Orange,West Orange
ATTACH;FMTTYPE=image/jpeg:https://jerseybee.org/wp-content/uploads/2023/09/SingleBee_10.jpeg
END:VEVENT
BEGIN:VEVENT
DTSTART;VALUE=DATE:20260326
DTEND;VALUE=DATE:20260327
DTSTAMP:20260422T090936
CREATED:20260323T170140Z
LAST-MODIFIED:20260323T170140Z
UID:10009172-1774483200-1774569599@jerseybee.org
SUMMARY:SOMA Action March 2026 Transgender Day of Visibility Celebration
DESCRIPTION:Transgender Day of Visibility celebration planned with SOMA Action on Mar. 26 in Maplewood. it is from 6-7 p.m. at Maplewood Town Hall. \nFrom TAPinto SOMA. \nThis information is accurate as of when it was published. Check with the event coordinator for the latest details.
URL:https://jerseybee.org/event/soma-action-march-2026-transgender-day-of-visibility-celebration/
CATEGORIES:Maplewood,South Orange
ATTACH;FMTTYPE=image/jpeg:https://jerseybee.org/wp-content/uploads/2023/09/SingleBee_4.jpeg
END:VEVENT
BEGIN:VEVENT
DTSTART;VALUE=DATE:20260326
DTEND;VALUE=DATE:20260327
DTSTAMP:20260422T090936
CREATED:20260324T163005Z
LAST-MODIFIED:20260324T163005Z
UID:10009189-1774483200-1774569599@jerseybee.org
SUMMARY:New Jersey March 2026 Special General Election Voter Registration Deadline
DESCRIPTION:Individuals ages 17+ must register by Mar. 26 to vote in the special general election for the 11th congressional district\, scheduled for Apr. 16. The district includes parts of Morris\, Essex\, and Passaic counties. Eligible individuals can register to vote online\, in-person at a local election office\, or by mail. Voter registration status\, ways to register\, and polling information are available online. \nFrom New Jersey Division of Elections. \nThis information is accurate as of when it was published. Check with the event coordinator for the latest details.
URL:https://jerseybee.org/event/new-jersey-march-2026-special-general-election-voter-registration-deadline/
ATTACH;FMTTYPE=image/jpeg:https://jerseybee.org/wp-content/uploads/2023/09/SingleBee_9.jpeg
END:VEVENT
BEGIN:VEVENT
DTSTART;VALUE=DATE:20260327
DTEND;VALUE=DATE:20260328
DTSTAMP:20260422T090936
CREATED:20260319T171221Z
LAST-MODIFIED:20260319T171221Z
UID:10009133-1774569600-1774655999@jerseybee.org
SUMMARY:NJDOH March 2026 Career Fair
DESCRIPTION:Public health career fair planned with N.J. Department of Health on Mar. 27 in Lawrenceville. It is from 10 a.m. to 2 p.m. at National Guard Armory\, 151 Eggert Crossing Rd. Registration is not required. \nFrom New Jersey Department of Health. \nThis information is accurate as of when it was published. Check with the event coordinator for the latest details.
URL:https://jerseybee.org/event/njdoh-march-2026-career-fair/
ATTACH;FMTTYPE=image/jpeg:https://jerseybee.org/wp-content/uploads/2023/09/SingleBee_5.jpeg
END:VEVENT
BEGIN:VEVENT
DTSTART;VALUE=DATE:20260327
DTEND;VALUE=DATE:20260328
DTSTAMP:20260422T090936
CREATED:20260319T173951Z
LAST-MODIFIED:20260319T173951Z
UID:10009141-1774569600-1774655999@jerseybee.org
SUMMARY:Maplewood Library March 2026 "The Librarians" Screening
DESCRIPTION:Documentary screening of “The Librarians” planned at Maplewood library’s Main Branch on Mar. 27. It begins at 7 p.m. A discussion will follow. Free admission. Registration is required. \nFrom Maplewood Public Library. \nThis information is accurate as of when it was published. Check with the event coordinator for the latest details.
URL:https://jerseybee.org/event/maplewood-library-march-2026-the-librarians-screening/
CATEGORIES:Irvington,Maplewood,South Orange
ATTACH;FMTTYPE=image/jpeg:https://jerseybee.org/wp-content/uploads/2023/09/SingleBee_3.jpeg
END:VEVENT
BEGIN:VEVENT
DTSTART;VALUE=DATE:20260327
DTEND;VALUE=DATE:20260328
DTSTAMP:20260422T090936
CREATED:20260319T174532Z
LAST-MODIFIED:20260319T174532Z
UID:10009143-1774569600-1774655999@jerseybee.org
SUMMARY:Nutley Family Service Bureau March 2026 Fashion Show Fundraiser
DESCRIPTION:Fashion show fundraiser benefitting Nutley Family Service Bureau planned on Mar. 27 in Nutley. It is from 7-9 p.m. at Nutley High School. Tickets are available online for purchase. \nFrom Nutley Family Service Bureau. \nThis information is accurate as of when it was published. Check with the event coordinator for the latest details.
URL:https://jerseybee.org/event/nutley-family-service-bureau-march-2026-fashion-show-fundraiser/
CATEGORIES:Nutley
ATTACH;FMTTYPE=image/jpeg:https://jerseybee.org/wp-content/uploads/2023/09/SingleBee_2.jpeg
END:VEVENT
BEGIN:VEVENT
DTSTART;VALUE=DATE:20260327
DTEND;VALUE=DATE:20260328
DTSTAMP:20260422T090936
CREATED:20260319T175142Z
LAST-MODIFIED:20260319T175142Z
UID:10009146-1774569600-1774655999@jerseybee.org
SUMMARY:Newark Culture Club March 2026 "Independent Film Night"
DESCRIPTION:People can attend Newark Culture Club’s independent film event on Mar. 27. It is from 6-8:30 p.m. and will screen “Brick City Renaissance\,” “The Ironbound Vampire\,” and “5 Ways I Didn’t Marry You.” Directors will be present. Admission is $15. Tickets are available online for purchase. \nFrom Newark Culture Club. \nThis information is accurate as of when it was published. Check with the event coordinator for the latest details.
URL:https://jerseybee.org/event/newark-culture-club-march-2026-independent-film-night/
CATEGORIES:Belleville,East Orange,Irvington,Newark,Orange
ATTACH;FMTTYPE=image/jpeg:https://jerseybee.org/wp-content/uploads/2023/09/SingleBee_9.jpeg
END:VEVENT
BEGIN:VEVENT
DTSTART;VALUE=DATE:20260327
DTEND;VALUE=DATE:20260328
DTSTAMP:20260422T090936
CREATED:20260319T175936Z
LAST-MODIFIED:20260319T175936Z
UID:10009150-1774569600-1774655999@jerseybee.org
SUMMARY:New Labor March 2026 "ICE Out of NJ Justice Bus Tour"
DESCRIPTION:New Labor’s “ICE Out of NJ Justice Bus Tour” will travel across the state on Mar. 27. It begins at 7 a.m. at Atlantic City and will make stops at Princeton\, Freehold\, New Brunswick\, North Bergen\, and end in Roxbury at 7:30 p.m.\, where a warehouse was recently purchased by U.S. Immigration and Customs Enforcement. The bus route is available online for viewing. \nFrom New Labor. \nThis information is accurate as of when it was published. Check with the event coordinator for the latest details.
URL:https://jerseybee.org/event/new-labor-march-2026-ice-out-of-nj-justice-bus-tour/
ATTACH;FMTTYPE=image/jpeg:https://jerseybee.org/wp-content/uploads/2023/09/SingleBee_8.jpeg
END:VEVENT
BEGIN:VEVENT
DTSTART;VALUE=DATE:20260327
DTEND;VALUE=DATE:20260328
DTSTAMP:20260422T090936
CREATED:20260319T180341Z
LAST-MODIFIED:20260319T180341Z
UID:10009151-1774569600-1774655999@jerseybee.org
SUMMARY:Montclair Film March 2026 Improv Comedy Show
DESCRIPTION:Improv comedy show planned with Montclair Film on Mar. 27. It begins at 8 p.m. at Cinema505\, 505 Bloomfield Ave. Tickets are $15. \nFrom Montclair Film. \nThis information is accurate as of when it was published. Check with the event coordinator for the latest details.
URL:https://jerseybee.org/event/montclair-film-march-2026-improv-comedy-show/
CATEGORIES:Belleville,Bloomfield,Glen Ridge,Montclair,Nutley,West Orange
ATTACH;FMTTYPE=image/jpeg:https://jerseybee.org/wp-content/uploads/2023/09/SingleBee_9.jpeg
END:VEVENT
END:VCALENDAR