BEGIN:VCALENDAR
VERSION:2.0
PRODID:-//The Jersey Bee - ECPv6.15.12.2//NONSGML v1.0//EN
CALSCALE:GREGORIAN
METHOD:PUBLISH
X-WR-CALNAME:The Jersey Bee
X-ORIGINAL-URL:https://jerseybee.org
X-WR-CALDESC:Events for The Jersey Bee
REFRESH-INTERVAL;VALUE=DURATION:PT1H
X-Robots-Tag:noindex
X-PUBLISHED-TTL:PT1H
BEGIN:VTIMEZONE
TZID:America/Toronto
BEGIN:DAYLIGHT
TZOFFSETFROM:-0500
TZOFFSETTO:-0400
TZNAME:EDT
DTSTART:20250309T070000
END:DAYLIGHT
BEGIN:STANDARD
TZOFFSETFROM:-0400
TZOFFSETTO:-0500
TZNAME:EST
DTSTART:20251102T060000
END:STANDARD
BEGIN:DAYLIGHT
TZOFFSETFROM:-0500
TZOFFSETTO:-0400
TZNAME:EDT
DTSTART:20260308T070000
END:DAYLIGHT
BEGIN:STANDARD
TZOFFSETFROM:-0400
TZOFFSETTO:-0500
TZNAME:EST
DTSTART:20261101T060000
END:STANDARD
BEGIN:DAYLIGHT
TZOFFSETFROM:-0500
TZOFFSETTO:-0400
TZNAME:EDT
DTSTART:20270314T070000
END:DAYLIGHT
BEGIN:STANDARD
TZOFFSETFROM:-0400
TZOFFSETTO:-0500
TZNAME:EST
DTSTART:20271107T060000
END:STANDARD
END:VTIMEZONE
BEGIN:VEVENT
DTSTART;VALUE=DATE:20260323
DTEND;VALUE=DATE:20260324
DTSTAMP:20260420T140940
CREATED:20260316T194322Z
LAST-MODIFIED:20260316T194322Z
UID:10009095-1774224000-1774310399@jerseybee.org
SUMMARY:Partnership for Maternal and Child Health's "Parent Advisory Council Meeting"
DESCRIPTION:Parent advisory council meeting planned with partnership for maternal and child health on Mar. 23 in Irvington. The event\, scheduled from 11:00 a.m. to 12:00 p.m.\, will give participants the chance to share recommendations for future programs\, discuss upcoming events\, and network with community organizations.  The event will be held at Unity Family Success Center\, 50 Union Ave. Preregistration is required. \nFrom Partnership for Maternal and Child Health of Northern NJ. \nThis information is accurate as of when it was published. Check with the event coordinator for the latest details.
URL:https://jerseybee.org/event/partnership-for-maternal-and-child-healths-parent-advisory-council-meeting/
CATEGORIES:Essex County,Irvington
ATTACH;FMTTYPE=image/jpeg:https://jerseybee.org/wp-content/uploads/2023/09/SingleBee_9.jpeg
END:VEVENT
BEGIN:VEVENT
DTSTART;VALUE=DATE:20260323
DTEND;VALUE=DATE:20260324
DTSTAMP:20260420T140940
CREATED:20260316T200735Z
LAST-MODIFIED:20260316T200735Z
UID:10009098-1774224000-1774310399@jerseybee.org
SUMMARY:Essex County's 2026 "Veterans' Resource Fair"
DESCRIPTION:Veterans resource fair planned with Essex County government on Mar 23. in Newark. The event is scheduled from 10 a.m. to 2 p.m. at the Cherry Blossom Welcome Center in Branch Brook Park. Resources and information about SNAP benefits\, health insurance\, and housing assistance. \nFrom Essex County Environmental Center. \nThis information is accurate as of when it was published. Check with the event coordinator for the latest details.
URL:https://jerseybee.org/event/essex-countys-2026-veterans-resource-fair/
CATEGORIES:Essex County,Newark
ATTACH;FMTTYPE=image/jpeg:https://jerseybee.org/wp-content/uploads/2023/09/SingleBee_7.jpeg
END:VEVENT
BEGIN:VEVENT
DTSTART;VALUE=DATE:20260323
DTEND;VALUE=DATE:20260324
DTSTAMP:20260420T140940
CREATED:20260323T140801Z
LAST-MODIFIED:20260323T140801Z
UID:10009157-1774224000-1774310399@jerseybee.org
SUMMARY:South Orange Recreation Spring 2026 SOMA Soccer Registration Open
DESCRIPTION:Maplewood and South Orange children in grades 2+ can register for South Orange recreation department’s soccer program. Registration is available online. \nFrom South Orange Recreation and Cultural Affairs. \nThis information is accurate as of when it was published. Check with the event coordinator for the latest details.
URL:https://jerseybee.org/event/south-orange-recreation-spring-2026-soma-soccer-registration-open/
CATEGORIES:Maplewood,South Orange
ATTACH;FMTTYPE=image/jpeg:https://jerseybee.org/wp-content/uploads/2023/09/SingleBee_9.jpeg
END:VEVENT
BEGIN:VEVENT
DTSTART;VALUE=DATE:20260323
DTEND;VALUE=DATE:20260324
DTSTAMP:20260420T140940
CREATED:20260323T165130Z
LAST-MODIFIED:20260323T165130Z
UID:10009169-1774224000-1774310399@jerseybee.org
SUMMARY:Montclair Community Farms 2026 Spring Break Camp Registration Open
DESCRIPTION:Children ages 6-9 can attend spring break camp at Montclair Community Farms\, scheduled for Mar. 30 to Apr. 3. It is from 9 a.m. to 12 p.m. Attendees will learn how to care for animals\, explore beekeeping\, and cook with local seasonal foods. Registration is required. \nFrom Montclair Community Farms. \nThis information is accurate as of when it was published. Check with the event coordinator for the latest details.
URL:https://jerseybee.org/event/montclair-community-farms-2026-spring-break-camp-registration-open/
CATEGORIES:Belleville,Bloomfield,Glen Ridge,Montclair,Nutley,West Orange
ATTACH;FMTTYPE=image/jpeg:https://jerseybee.org/wp-content/uploads/2023/09/SingleBee_6.jpeg
END:VEVENT
BEGIN:VEVENT
DTSTART;VALUE=DATE:20260324
DTEND;VALUE=DATE:20260325
DTSTAMP:20260420T140940
CREATED:20260317T152238Z
LAST-MODIFIED:20260317T152238Z
UID:10009106-1774310400-1774396799@jerseybee.org
SUMMARY:Partnership for Maternal and Child Health of Northern NJ Free Book Fair
DESCRIPTION:Free book fair planned with Partnership for Maternal and Child Health of Northern NJ on Mar. 24 in Irvington. The event is scheduled for 3:30-4:30 p.m. at Unity Family Success Center of Irvington\, 50 Union Ave. Open to all ages\, preregistration is required. \nFrom Partnership for Maternal and Child Health of Northern NJ. \nThis information is accurate as of when it was published. Check with the event coordinator for the latest details.
URL:https://jerseybee.org/event/partnership-for-maternal-and-child-health-of-northern-nj-free-book-fair/
CATEGORIES:Essex County,Irvington
ATTACH;FMTTYPE=image/jpeg:https://jerseybee.org/wp-content/uploads/2023/09/SingleBee_10.jpeg
END:VEVENT
BEGIN:VEVENT
DTSTART;VALUE=DATE:20260324
DTEND;VALUE=DATE:20260325
DTSTAMP:20260420T140941
CREATED:20260317T161352Z
LAST-MODIFIED:20260317T161352Z
UID:10009107-1774310400-1774396799@jerseybee.org
SUMMARY:Glen Ridge Library Author Discussion of "Rehab: An American Scandal"
DESCRIPTION:Author talk with Shoshana Walter and Barbara Ellen Kingsolver planned virtually with Glen Ridge library on Mar. 24. It begins at 7 p.m. Wallace will discuss “Rehab: An American Scandal” by Shoshana Walter. Registration is required. Free admission \nFrom Glen Ridge Public Library. \nThis information is accurate as of when it was published. Check with the event coordinator for the latest details.
URL:https://jerseybee.org/event/glen-ridge-library-author-discussion-of-rehab-an-american-scandal/
CATEGORIES:Bloomfield,Glen Ridge,Montclair
ATTACH;FMTTYPE=image/jpeg:https://jerseybee.org/wp-content/uploads/2023/09/SingleBee_2.jpeg
END:VEVENT
BEGIN:VEVENT
DTSTART;VALUE=DATE:20260324
DTEND;VALUE=DATE:20260325
DTSTAMP:20260420T140941
CREATED:20260317T161918Z
LAST-MODIFIED:20260317T161918Z
UID:10009108-1774310400-1774396799@jerseybee.org
SUMMARY:Bloomfield library's "Meet Musher Karen Land and Sophia\, The Sled Dog"
DESCRIPTION:“Meet Musher Karen Land and Sophia\, The Sled Dog” planned with Bloomfield library on Mar. 24 in Bloomfield. The event\, scheduled from 6-7 p.m.\, will feature discussions on sled dog racing\, caring for Alaskan huskies\, and the history of the 1925 Diphtheria Epidemic Serum Run. \nFrom Bloomfield Public Library. \nThis information is accurate as of when it was published. Check with the event coordinator for the latest details.
URL:https://jerseybee.org/event/bloomfield-librarys-meet-musher-karen-land-and-sophia-the-sled-dog/
CATEGORIES:Bloomfield
ATTACH;FMTTYPE=image/jpeg:https://jerseybee.org/wp-content/uploads/2023/09/SingleBee_3.jpeg
END:VEVENT
BEGIN:VEVENT
DTSTART;VALUE=DATE:20260324
DTEND;VALUE=DATE:20260325
DTSTAMP:20260420T140941
CREATED:20260317T163131Z
LAST-MODIFIED:20260317T163131Z
UID:10009109-1774310400-1774396799@jerseybee.org
SUMMARY:Maplewood library's "Storm at the Capitol" book discussion
DESCRIPTION:Free author talk with Mary Clare Jalonick will discuss her  book “Storm at the Capitol” at [words] Bookstore\, 179 Maplewood Ave.\, on Mar. 24. The conversation will be facilitated by  Deputy Mayor Malia Herman. from 6:30-8 p.m. Preregistration is required.  \nFrom Maplewood Public Library. \nThis information is accurate as of when it was published. Check with the event coordinator for the latest details.
URL:https://jerseybee.org/event/maplewood-librarys-storm-at-the-capitol-book-discussion/
CATEGORIES:Essex County,Maplewood
ATTACH;FMTTYPE=image/jpeg:https://jerseybee.org/wp-content/uploads/2023/09/SingleBee_7.jpeg
END:VEVENT
BEGIN:VEVENT
DTSTART;VALUE=DATE:20260324
DTEND;VALUE=DATE:20260325
DTSTAMP:20260420T140941
CREATED:20260317T164713Z
LAST-MODIFIED:20260317T164713Z
UID:10009110-1774310400-1774396799@jerseybee.org
SUMMARY:East Orange Library's Mar. 2026 Young Chef's Cooking Class
DESCRIPTION:Young chef’s cooking class planned with East Orange library on Mar. 24. The event is for students in grades 1-7\, and will explore beginner cooking techniques and skills. The program is from 4:30-5:30 p.m. at East Orange library. \nFrom East Orange Public Library. \nThis information is accurate as of when it was published. Check with the event coordinator for the latest details.
URL:https://jerseybee.org/event/east-orange-librarys-mar-2026-young-chefs-cooking-class/
CATEGORIES:East Orange,Irvington,Orange
ATTACH;FMTTYPE=image/jpeg:https://jerseybee.org/wp-content/uploads/2023/09/SingleBee_8.jpeg
END:VEVENT
BEGIN:VEVENT
DTSTART;VALUE=DATE:20260324
DTEND;VALUE=DATE:20260325
DTSTAMP:20260420T140941
CREATED:20260317T170025Z
LAST-MODIFIED:20260317T170025Z
UID:10009111-1774310400-1774396799@jerseybee.org
SUMMARY:South Orange Downtown's FIFA World Cup Networking Event
DESCRIPTION:Networking and business enrichment event planned with South Orange Downtown on Mar. 24. The event is from 6-8 p.m.\, at  Giorgio’s Ristorante\, 52 Vose Ave. Business owners can meet to connect and learn more about how tehy can participate in the  2026 FIFA World Cup. Preregistration is required. \nFrom South Orange Downtown. \nThis information is accurate as of when it was published. Check with the event coordinator for the latest details.
URL:https://jerseybee.org/event/south-orange-downtowns-fifa-world-cup-networking-event/
CATEGORIES:Essex County,South Orange
ATTACH;FMTTYPE=image/jpeg:https://jerseybee.org/wp-content/uploads/2023/09/SingleBee_8.jpeg
END:VEVENT
BEGIN:VEVENT
DTSTART;VALUE=DATE:20260324
DTEND;VALUE=DATE:20260325
DTSTAMP:20260420T140941
CREATED:20260317T171627Z
LAST-MODIFIED:20260317T171627Z
UID:10009114-1774310400-1774396799@jerseybee.org
SUMMARY:Rep. LaMonica McIver Mar. 2026 Mobile Office Hours
DESCRIPTION:Mobile office hours with Rep. LaMonica McIver planned on Mar. 24 in West Orange. McIver and her team will be available from 11 a.m. to 1np.m. at West Orange Public Library\, 10 Rooney Cir.\, to provide casework and passport assistance\, share resources\, and answer questions. \nFrom Rep. LaMonica McIver. \nThis information is accurate as of when it was published. Check with the event coordinator for the latest details.
URL:https://jerseybee.org/event/rep-lamonica-mciver-mar-2026-mobile-office-hours/
CATEGORIES:East Orange,Irvington,Montclair,Newark,Orange,West Orange
ATTACH;FMTTYPE=image/jpeg:https://jerseybee.org/wp-content/uploads/2023/09/SingleBee_4.jpeg
END:VEVENT
BEGIN:VEVENT
DTSTART;VALUE=DATE:20260324
DTEND;VALUE=DATE:20260325
DTSTAMP:20260420T140941
CREATED:20260317T174407Z
LAST-MODIFIED:20260317T174407Z
UID:10009116-1774310400-1774396799@jerseybee.org
SUMMARY:Maplewood Police Department Personal Care Items Donation Drive
DESCRIPTION:Personal care items donation dirve planned with Maplewood police department on Mar. 26. Toiletries and personal care items can be dropped off at the Springfield Ave. gazebo from 11 a.m. to 2 p.m. \nFrom Maplewood Township. \nThis information is accurate as of when it was published. Check with the event coordinator for the latest details.
URL:https://jerseybee.org/event/maplewood-police-department-personal-care-items-donation-drive/
CATEGORIES:Maplewood
ATTACH;FMTTYPE=image/jpeg:https://jerseybee.org/wp-content/uploads/2023/09/SingleBee_4.jpeg
END:VEVENT
BEGIN:VEVENT
DTSTART;VALUE=DATE:20260324
DTEND;VALUE=DATE:20260325
DTSTAMP:20260420T140941
CREATED:20260324T153543Z
LAST-MODIFIED:20260324T153543Z
UID:10009178-1774310400-1774396799@jerseybee.org
SUMMARY:Nutley Recreation March 2026 Intensive Theatre Workshop Registration Open
DESCRIPTION:Nutley residents entering grades 5-12 can register for the township’s summer intensive theater workshop\, scheduled to start Jul. 27. Participants will practice singing\, dancing\, and acting during the two-week program. Enrollment is $350. Registration is required. \nFrom Nutley Township. \nThis information is accurate as of when it was published. Check with the event coordinator for the latest details.
URL:https://jerseybee.org/event/nutley-recreation-march-2026-intensive-theatre-workshop-registration-open/
CATEGORIES:Nutley
ATTACH;FMTTYPE=image/jpeg:https://jerseybee.org/wp-content/uploads/2023/09/SingleBee_10.jpeg
END:VEVENT
BEGIN:VEVENT
DTSTART;VALUE=DATE:20260324
DTEND;VALUE=DATE:20260325
DTSTAMP:20260420T140941
CREATED:20260324T153544Z
LAST-MODIFIED:20260324T153544Z
UID:10009179-1774310400-1774396799@jerseybee.org
SUMMARY:South Orange Recreation Spring 2026 Baseball Clinic Registration Open
DESCRIPTION:South Orange children and youth can attend the recreation department’s baseball clinics\, scheduled to start in April. It includes pitching\, hitting\, and catching. Registration is available online. \nFrom South Orange Recreation and Cultural Affairs. \nThis information is accurate as of when it was published. Check with the event coordinator for the latest details.
URL:https://jerseybee.org/event/south-orange-recreation-spring-2026-baseball-clinic-registration-open/
CATEGORIES:South Orange
ATTACH;FMTTYPE=image/jpeg:https://jerseybee.org/wp-content/uploads/2023/09/SingleBee_10.jpeg
END:VEVENT
BEGIN:VEVENT
DTSTART;VALUE=DATE:20260324
DTEND;VALUE=DATE:20260325
DTSTAMP:20260420T140941
CREATED:20260324T153754Z
LAST-MODIFIED:20260324T153754Z
UID:10009180-1774310400-1774396799@jerseybee.org
SUMMARY:Glen Ridge Recreation Summer 2026 Registration Open
DESCRIPTION:Glen Ridge residents can register to use the borough’s tennis courts\, community pool\, or attend the summer day camp. Registration is available online. \nFrom Glen Ridge Borough. \nThis information is accurate as of when it was published. Check with the event coordinator for the latest details.
URL:https://jerseybee.org/event/glen-ridge-recreation-summer-2026-registration-open/
CATEGORIES:Glen Ridge
ATTACH;FMTTYPE=image/jpeg:https://jerseybee.org/wp-content/uploads/2023/09/SingleBee_2.jpeg
END:VEVENT
BEGIN:VEVENT
DTSTART;VALUE=DATE:20260324
DTEND;VALUE=DATE:20260325
DTSTAMP:20260420T140941
CREATED:20260324T153938Z
LAST-MODIFIED:20260324T153938Z
UID:10009181-1774310400-1774396799@jerseybee.org
SUMMARY:South Orange Middle School Spring 2026 Ultimate Frisbee Team Registration Open
DESCRIPTION:Girls and non-binary students attending middle school can join South Orange Middle School’s ultimate frisbee team\, Glitter. It meets Wednesdays from 4-5:30 p.m. through Apr. 8 at Memorial Park in Maplewood. Registration is required. Free enrollment. \nFrom South Orange Middle School. \nThis information is accurate as of when it was published. Check with the event coordinator for the latest details.
URL:https://jerseybee.org/event/south-orange-middle-school-spring-2026-ultimate-frisbee-team-registration-open/
CATEGORIES:Maplewood,South Orange
ATTACH;FMTTYPE=image/jpeg:https://jerseybee.org/wp-content/uploads/2023/09/SingleBee_4.jpeg
END:VEVENT
BEGIN:VEVENT
DTSTART;VALUE=DATE:20260324
DTEND;VALUE=DATE:20260325
DTSTAMP:20260420T140941
CREATED:20260324T155910Z
LAST-MODIFIED:20260324T155910Z
UID:10009186-1774310400-1774396799@jerseybee.org
SUMMARY:Belleville 2026 Community Garden Plots Registration Open
DESCRIPTION:Belleville residents can purchase 2026 community garden plots online. The community garden opens on Apr. 18. Completed applications are accepted at 152 Washington Ave. \nFrom Belleville Township. \nThis information is accurate as of when it was published. Check with the event coordinator for the latest details.
URL:https://jerseybee.org/event/belleville-2026-community-garden-plots-registration-open/
CATEGORIES:Belleville
ATTACH;FMTTYPE=image/jpeg:https://jerseybee.org/wp-content/uploads/2023/09/SingleBee_10.jpeg
END:VEVENT
BEGIN:VEVENT
DTSTART;VALUE=DATE:20260324
DTEND;VALUE=DATE:20260325
DTSTAMP:20260420T140941
CREATED:20260324T163010Z
LAST-MODIFIED:20260324T163010Z
UID:10009190-1774310400-1774396799@jerseybee.org
SUMMARY:Newark Public Schools 2026 Summer Acceleration and Enrichment Program Registration Open
DESCRIPTION:Newark students can register to attend the Summer Acceleration and Enrichment Program\, scheduled from Jul. 6 to Aug. 6. Attendees will prepare for AP courses\, earn certificates\, and participate in internships. Registration is available online. \nFrom Newark School of Data Science & Information Technology. \nThis information is accurate as of when it was published. Check with the event coordinator for the latest details.
URL:https://jerseybee.org/event/newark-public-schools-2026-summer-acceleration-and-enrichment-program-registration-open/
CATEGORIES:Newark
ATTACH;FMTTYPE=image/jpeg:https://jerseybee.org/wp-content/uploads/2023/09/SingleBee_4.jpeg
END:VEVENT
BEGIN:VEVENT
DTSTART;VALUE=DATE:20260324
DTEND;VALUE=DATE:20260326
DTSTAMP:20260420T140941
CREATED:20260317T185325Z
LAST-MODIFIED:20260317T185325Z
UID:10009117-1774310400-1774483199@jerseybee.org
SUMMARY:Urban League of Essex County Mar. 2026 "Smart Homebuyer Workshop"
DESCRIPTION:Free virtual “Smart Homebuyer Workshop” planned by Urban League Essex County on Mar. 24-25. The event\, scheduled from 5:30-8:30 p.m. each day\, will feature workshops on mortgages\, inspections\, and financial planning. Preregistration is required. \nFrom Urban League of Essex County. \nThis information is accurate as of when it was published. Check with the event coordinator for the latest details.
URL:https://jerseybee.org/event/urban-league-of-essex-county-mar-2026-smart-homebuyer-workshop/
CATEGORIES:Essex County,Newark
ATTACH;FMTTYPE=image/jpeg:https://jerseybee.org/wp-content/uploads/2023/09/SingleBee_7.jpeg
END:VEVENT
BEGIN:VEVENT
DTSTART;VALUE=DATE:20260325
DTEND;VALUE=DATE:20260326
DTSTAMP:20260420T140941
CREATED:20260310T151804Z
LAST-MODIFIED:20260310T151804Z
UID:10009029-1774396800-1774483199@jerseybee.org
SUMMARY:N.J. Black Empowerment Coalition 2026 Empowerment Awards
DESCRIPTION:New Jersey Empowerment Awards is scheduled for Mar. 25 at the Newark Museum of Art. Hosted by the N.J. Black Empowerment Coalition. It begins at 6 p.m. and will honor Adenah Bayoh\, Charles Boyer\, Antoinette Miles\, Marcia Hicks\, Benjie Wimberly\, and Sharonda Allen. Keynote speaker is Charles Coleman Jr. Tickets are $135 and available online for purchase. The Jersey Bee is a media sponsor of this event. \nFrom New Jersey Black Empowerment Coalition. \nThis information is accurate as of when it was published. Check with the event coordinator for the latest details.
URL:https://jerseybee.org/event/n-j-black-empowerment-coalition-2026-empowerment-awards/
CATEGORIES:Essex County,Newark
ATTACH;FMTTYPE=image/jpeg:https://jerseybee.org/wp-content/uploads/2023/09/SingleBee_7.jpeg
END:VEVENT
BEGIN:VEVENT
DTSTART;VALUE=DATE:20260325
DTEND;VALUE=DATE:20260326
DTSTAMP:20260420T140941
CREATED:20260317T144824Z
LAST-MODIFIED:20260317T144824Z
UID:10009102-1774396800-1774483199@jerseybee.org
SUMMARY:Hackensack Meridian Health's Free Glucose Screening at Bloomfield Library
DESCRIPTION:Free gucose screenings planned with Hackensack Meridian Health on Mar. 25 in Bloomfield. Screenings will be available from 12-2 p.m. at Bloomfield Public Library. No fasting is required. \nFrom Mountainside Medical Center. \nThis information is accurate as of when it was published. Check with the event coordinator for the latest details.
URL:https://jerseybee.org/event/hackensack-meridian-healths-free-glucose-screening-at-bloomfield-library/
CATEGORIES:Bloomfield,Glen Ridge,Montclair,Nutley
ATTACH;FMTTYPE=image/jpeg:https://jerseybee.org/wp-content/uploads/2023/09/SingleBee_4.jpeg
END:VEVENT
BEGIN:VEVENT
DTSTART;VALUE=DATE:20260325
DTEND;VALUE=DATE:20260326
DTSTAMP:20260420T140941
CREATED:20260317T145216Z
LAST-MODIFIED:20260317T145216Z
UID:10009103-1774396800-1774483199@jerseybee.org
SUMMARY:Maplewood Public Library's "Navigating College Admissions Successfully" webinar
DESCRIPTION:“Navigating College Admissions Successfully” webinar for families planned with Maplewood library on Mar. 25. Stand Out for College\, a college-readiness service\, will discuss college admissions trends and  admissions strategies at 7:30 p.m. Preregistration is required. \nFrom Maplewood Public Library. \nThis information is accurate as of when it was published. Check with the event coordinator for the latest details.
URL:https://jerseybee.org/event/maplewood-public-librarys-navigating-college-admissions-successfully-webinar/
CATEGORIES:Irvington,Maplewood,South Orange,West Orange
ATTACH;FMTTYPE=image/jpeg:https://jerseybee.org/wp-content/uploads/2023/09/SingleBee_6.jpeg
END:VEVENT
BEGIN:VEVENT
DTSTART;VALUE=DATE:20260325
DTEND;VALUE=DATE:20260326
DTSTAMP:20260420T140941
CREATED:20260318T133236Z
LAST-MODIFIED:20260318T133236Z
UID:10009119-1774396800-1774483199@jerseybee.org
SUMMARY:Bloomfield Library March 2026 "Biblio Bites and Brews" Cookbook Club Meeting
DESCRIPTION:Cookbook club meeting for adults planned with Bloomfield library on Mar. 25. The group will meet from 6:30-7:30 p.m. at Varitage Brew Works\, 58 Washington St. Attendees will share dishes and swap recipes from a selected cookbook. Registration is required. Library card not required. \nFrom Bloomfield Public Library. \nThis information is accurate as of when it was published. Check with the event coordinator for the latest details.
URL:https://jerseybee.org/event/bloomfield-library-march-2026-biblio-bites-and-brews-cookbook-club-meeting/
CATEGORIES:Belleville,Bloomfield,Glen Ridge,Montclair,Nutley
ATTACH;FMTTYPE=image/jpeg:https://jerseybee.org/wp-content/uploads/2023/09/SingleBee_5.jpeg
END:VEVENT
BEGIN:VEVENT
DTSTART;VALUE=DATE:20260325
DTEND;VALUE=DATE:20260326
DTSTAMP:20260420T140941
CREATED:20260318T134543Z
LAST-MODIFIED:20260318T134543Z
UID:10009120-1774396800-1774483199@jerseybee.org
SUMMARY:Newark Library LGBTQ+ Book Club March 2026 Meeting
DESCRIPTION:LGBTQ+ book club meeting for adults planned by Newark library on Mar. 25 in the Main Branch. Members will discuss “Love in the Big City” by Sang-Young Park at 6 p.m. Registration is required. Library card not required. \nFrom Newark Public Library. \nThis information is accurate as of when it was published. Check with the event coordinator for the latest details.
URL:https://jerseybee.org/event/newark-library-lgbtq-book-club-march-2026-meeting/
CATEGORIES:Belleville,Newark
ATTACH;FMTTYPE=image/jpeg:https://jerseybee.org/wp-content/uploads/2023/09/SingleBee_4.jpeg
END:VEVENT
BEGIN:VEVENT
DTSTART;VALUE=DATE:20260325
DTEND;VALUE=DATE:20260326
DTSTAMP:20260420T140941
CREATED:20260318T135507Z
LAST-MODIFIED:20260318T135507Z
UID:10009122-1774396800-1774483199@jerseybee.org
SUMMARY:Maplewood Library March 2026 "Kids Speak Out" Reception
DESCRIPTION:Reception of “Kids Speak Out: Art and Poetry on Equality\, Individuality and Social Justice” planned at Maplewood library on Mar. 25 in the Main Branch. It is from 4-5 p.m. Registration is not required. \nFrom Maplewood Public Library. \nThis information is accurate as of when it was published. Check with the event coordinator for the latest details.
URL:https://jerseybee.org/event/maplewood-library-march-2026-kids-speak-out-reception/
CATEGORIES:Maplewood,South Orange
ATTACH;FMTTYPE=image/jpeg:https://jerseybee.org/wp-content/uploads/2023/09/Artboard-1_1.jpeg
END:VEVENT
BEGIN:VEVENT
DTSTART;VALUE=DATE:20260325
DTEND;VALUE=DATE:20260326
DTSTAMP:20260420T140941
CREATED:20260318T185418Z
LAST-MODIFIED:20260318T185418Z
UID:10009126-1774396800-1774483199@jerseybee.org
SUMMARY:PMCHNJ March 2026 "Learning for Liberation: Birth and Reproductive Justice" with Birth Justice Institute
DESCRIPTION:People can learn about birth and reproductive justice with Birth Justice Institute\, an organization focused on equity and justice in maternal healthcare\, on Mar. 25 in Irvington. It is from 4:30-6:30 p.m. at 50 Union Ave. Free admission. Registration is required. \nFrom Partnership for Maternal and Child Health of Northern NJ. \nThis information is accurate as of when it was published. Check with the event coordinator for the latest details.
URL:https://jerseybee.org/event/pmchnj-march-2026-learning-for-liberation-birth-and-reproductive-justice-with-birth-justice-institute/
CATEGORIES:Essex County,Irvington
ATTACH;FMTTYPE=image/jpeg:https://jerseybee.org/wp-content/uploads/2023/09/SingleBee_2.jpeg
END:VEVENT
BEGIN:VEVENT
DTSTART;VALUE=DATE:20260325
DTEND;VALUE=DATE:20260326
DTSTAMP:20260420T140941
CREATED:20260318T185607Z
LAST-MODIFIED:20260318T185607Z
UID:10009127-1774396800-1774483199@jerseybee.org
SUMMARY:Newark Public Schools March 2026 Public Hearing: Riverfront Elementary School
DESCRIPTION:Newark residents can attend a public hearing about the school district’s new elementary school\, Riverfront\, on Mar. 25. It begins at 5 p.m. at Lafayette Street School. Riverfront Elementary School will replace the former St. Aloysius Roman Catholic Church building. The hearing will focus on school overcrowding in the East Ward. \nFrom Ironbound Community Corporation. \nThis information is accurate as of when it was published. Check with the event coordinator for the latest details.
URL:https://jerseybee.org/event/newark-public-schools-march-2026-public-hearing-riverfront-elementary-school/
CATEGORIES:Newark
ATTACH;FMTTYPE=image/jpeg:https://jerseybee.org/wp-content/uploads/2023/09/Artboard-1_1.jpeg
END:VEVENT
BEGIN:VEVENT
DTSTART;VALUE=DATE:20260325
DTEND;VALUE=DATE:20260326
DTSTAMP:20260420T140941
CREATED:20260318T185935Z
LAST-MODIFIED:20260318T185935Z
UID:10009130-1774396800-1774483199@jerseybee.org
SUMMARY:East Orange March 2026 Third Ward Community Meeting
DESCRIPTION:East Orange residents can attend a Third Ward community meeting on Mar. 25. It begins at 6 p.m. at Langston Hughes Academy. It will discuss PSE&G updates\, parking\, public works\, and more. Attendees are encouraged to share ideas and concerns. People can submit questions online in advance of the meeting. \nFrom East Orange City. \nThis information is accurate as of when it was published. Check with the event coordinator for the latest details.
URL:https://jerseybee.org/event/east-orange-march-2026-third-ward-community-meeting/
CATEGORIES:East Orange
ATTACH;FMTTYPE=image/jpeg:https://jerseybee.org/wp-content/uploads/2023/09/SingleBee_2.jpeg
END:VEVENT
BEGIN:VEVENT
DTSTART;VALUE=DATE:20260325
DTEND;VALUE=DATE:20260326
DTSTAMP:20260420T140941
CREATED:20260323T142043Z
LAST-MODIFIED:20260323T142043Z
UID:10009161-1774396800-1774483199@jerseybee.org
SUMMARY:Orange Public Schools March 2026 Preschool Evening Registration
DESCRIPTION:Preschool registration for Orange public schools opens on Mar. 25 at its Early Childhood Center. Registration is from 3:30-6:30 p.m. Applicants must be Orange residents. They are required to bring the child’s original birth certificate\, vaccination record\, current lease or mortgage statement\, two additional proofs of residency\, and parent or guardian photo ID.  \nFrom Orange Public Schools. \nThis information is accurate as of when it was published. Check with the event coordinator for the latest details.
URL:https://jerseybee.org/event/orange-public-schools-march-2026-preschool-evening-registration/
CATEGORIES:Orange
ATTACH;FMTTYPE=image/jpeg:https://jerseybee.org/wp-content/uploads/2023/09/SingleBee_9.jpeg
END:VEVENT
BEGIN:VEVENT
DTSTART;VALUE=DATE:20260325
DTEND;VALUE=DATE:20260326
DTSTAMP:20260420T140941
CREATED:20260323T142237Z
LAST-MODIFIED:20260323T142237Z
UID:10009162-1774396800-1774483199@jerseybee.org
SUMMARY:East Orange Mayor\, Quality of Life Team March 2026 "Mayor On the Block"
DESCRIPTION:East Orange Mayor Ted Green and the city’s quality of life staff will visit Halsted and Clifford Streets! on Mar. 25. There will be public works clean-up\, quality-of-life inspections\, and opportunities to meet with the mayor starting at 9:30 a.m. \nFrom East Orange City. \nThis information is accurate as of when it was published. Check with the event coordinator for the latest details.
URL:https://jerseybee.org/event/east-orange-mayor-quality-of-life-team-march-2026-mayor-on-the-block/
CATEGORIES:East Orange
ATTACH;FMTTYPE=image/jpeg:https://jerseybee.org/wp-content/uploads/2023/09/SingleBee_5.jpeg
END:VEVENT
END:VCALENDAR