BEGIN:VCALENDAR
VERSION:2.0
PRODID:-//The Jersey Bee - ECPv6.15.12.2//NONSGML v1.0//EN
CALSCALE:GREGORIAN
METHOD:PUBLISH
X-ORIGINAL-URL:https://jerseybee.org
X-WR-CALDESC:Events for The Jersey Bee
REFRESH-INTERVAL;VALUE=DURATION:PT1H
X-Robots-Tag:noindex
X-PUBLISHED-TTL:PT1H
BEGIN:VTIMEZONE
TZID:America/Toronto
BEGIN:DAYLIGHT
TZOFFSETFROM:-0500
TZOFFSETTO:-0400
TZNAME:EDT
DTSTART:20250309T070000
END:DAYLIGHT
BEGIN:STANDARD
TZOFFSETFROM:-0400
TZOFFSETTO:-0500
TZNAME:EST
DTSTART:20251102T060000
END:STANDARD
BEGIN:DAYLIGHT
TZOFFSETFROM:-0500
TZOFFSETTO:-0400
TZNAME:EDT
DTSTART:20260308T070000
END:DAYLIGHT
BEGIN:STANDARD
TZOFFSETFROM:-0400
TZOFFSETTO:-0500
TZNAME:EST
DTSTART:20261101T060000
END:STANDARD
BEGIN:DAYLIGHT
TZOFFSETFROM:-0500
TZOFFSETTO:-0400
TZNAME:EDT
DTSTART:20270314T070000
END:DAYLIGHT
BEGIN:STANDARD
TZOFFSETFROM:-0400
TZOFFSETTO:-0500
TZNAME:EST
DTSTART:20271107T060000
END:STANDARD
END:VTIMEZONE
BEGIN:VEVENT
DTSTART;VALUE=DATE:20260228
DTEND;VALUE=DATE:20260301
DTSTAMP:20260424T075447
CREATED:20260218T220355Z
LAST-MODIFIED:20260218T220355Z
UID:10008914-1772236800-1772323199@jerseybee.org
SUMMARY:Isaiah House February 2026 "House of Love" Fundraiser
DESCRIPTION:Isaiah House’s “House of Love” fundraiser is scheduled for Feb. 28. It is from 7-11 p.m. at The Suite Spot\, 24 1st St. in South Orange. It is $125. The annual event supports Isaiah House’s programming and social services. Tickets are available online for purchase. \nFrom Isaiah House. \nThis information is accurate as of when it was published. Check with the event coordinator for the latest details.
URL:https://jerseybee.org/event/isaiah-house-february-2026-house-of-love-fundraiser/
CATEGORIES:East Orange,Essex County
ATTACH;FMTTYPE=image/jpeg:https://jerseybee.org/wp-content/uploads/2023/09/Artboard-1_1.jpeg
END:VEVENT
BEGIN:VEVENT
DTSTART;VALUE=DATE:20260228
DTEND;VALUE=DATE:20260301
DTSTAMP:20260424T075447
CREATED:20260219T172133Z
LAST-MODIFIED:20260219T172133Z
UID:10008918-1772236800-1772323199@jerseybee.org
SUMMARY:East Orange Library February 2026 "Science Saturdays"
DESCRIPTION:East Orange-area youth can attend “Science Saturdays” at East Orange library on Feb. 28. It begins at 1 p.m. Attendees will learn and explore science projects. Registration is required. Library card not required. \nFrom East Orange Public Library. \nThis information is accurate as of when it was published. Check with the event coordinator for the latest details.
URL:https://jerseybee.org/event/east-orange-library-february-2026-science-saturdays/
CATEGORIES:Bloomfield,East Orange,Irvington,Newark,Orange,South Orange,West Orange
ATTACH;FMTTYPE=image/jpeg:https://jerseybee.org/wp-content/uploads/2023/09/SingleBee_6.jpeg
END:VEVENT
BEGIN:VEVENT
DTSTART;VALUE=DATE:20260228
DTEND;VALUE=DATE:20260301
DTSTAMP:20260424T075447
CREATED:20260219T172135Z
LAST-MODIFIED:20260219T172135Z
UID:10008919-1772236800-1772323199@jerseybee.org
SUMMARY:Lackawanna Station February 2026 Montclair Flea
DESCRIPTION:Montclair Flea is open Feb. 28 to Mar. 1 at Lackawanna Station. There will be vendors\, food\, and drinks from 11 a.m. to 6 p.m. \nFrom Lackawanna Station. \nThis information is accurate as of when it was published. Check with the event coordinator for the latest details.
URL:https://jerseybee.org/event/lackawanna-station-february-2026-montclair-flea/
CATEGORIES:Essex County,Montclair
ATTACH;FMTTYPE=image/jpeg:https://jerseybee.org/wp-content/uploads/2023/09/SingleBee_7.jpeg
END:VEVENT
BEGIN:VEVENT
DTSTART;VALUE=DATE:20260228
DTEND;VALUE=DATE:20260301
DTSTAMP:20260424T075447
CREATED:20260219T172137Z
LAST-MODIFIED:20260219T172137Z
UID:10008920-1772236800-1772323199@jerseybee.org
SUMMARY:Creative in Common February 2026 Black History Month Paint and Sip
DESCRIPTION:Black History Month paint and sip planned with Creative in Common on Feb. 28 in South Orange. It is from 6-8 p.m. at 86 Sloan St. Admission is $10. Tickets are available online for purchase. \nFrom South Orange Downtown. \nThis information is accurate as of when it was published. Check with the event coordinator for the latest details.
URL:https://jerseybee.org/event/creative-in-common-february-2026-black-history-month-paint-and-sip/
CATEGORIES:Essex County,South Orange
ATTACH;FMTTYPE=image/jpeg:https://jerseybee.org/wp-content/uploads/2023/09/SingleBee_3.jpeg
END:VEVENT
BEGIN:VEVENT
DTSTART;VALUE=DATE:20260228
DTEND;VALUE=DATE:20260301
DTSTAMP:20260424T075447
CREATED:20260219T172138Z
LAST-MODIFIED:20260219T172138Z
UID:10008921-1772236800-1772323199@jerseybee.org
SUMMARY:Essex County Environmental Center February 2026 Build A Birdhouse
DESCRIPTION:People can build a bird house at Essex County Environmental Center on Feb. 28 in Roseland. It is from 3-4:30 p.m. Registration is required. Tickets are available online for purchase. \nFrom Essex County Environmental Center. \nThis information is accurate as of when it was published. Check with the event coordinator for the latest details.
URL:https://jerseybee.org/event/essex-county-environmental-center-february-2026-build-a-birdhouse/
CATEGORIES:Essex County
ATTACH;FMTTYPE=image/jpeg:https://jerseybee.org/wp-content/uploads/2023/09/SingleBee_9.jpeg
END:VEVENT
BEGIN:VEVENT
DTSTART;VALUE=DATE:20260228
DTEND;VALUE=DATE:20260301
DTSTAMP:20260424T075447
CREATED:20260219T172345Z
LAST-MODIFIED:20260219T172345Z
UID:10008922-1772236800-1772323199@jerseybee.org
SUMMARY:Bloomfield Library February 2026 Children's Drawing Class
DESCRIPTION:Bloomfield-area children can attend a free drawing class on Feb. 28 at Bloomfield library. It is from 11 a.m. to 12 p.m. Registration is not required. \nFrom Bloomfield Public Library. \nThis information is accurate as of when it was published. Check with the event coordinator for the latest details.
URL:https://jerseybee.org/event/bloomfield-library-february-2026-childrens-drawing-class/
CATEGORIES:Bloomfield,East Orange,Glen Ridge,Montclair
ATTACH;FMTTYPE=image/jpeg:https://jerseybee.org/wp-content/uploads/2023/09/SingleBee_4.jpeg
END:VEVENT
BEGIN:VEVENT
DTSTART;VALUE=DATE:20260301
DTEND;VALUE=DATE:20260401
DTSTAMP:20260424T075447
CREATED:20260302T201136Z
LAST-MODIFIED:20260302T201136Z
UID:10008958-1772323200-1775001599@jerseybee.org
SUMMARY:Glen Ridge Library March 2026 "Period Product Donation Drive"
DESCRIPTION:Glen Ridge library and Human Needs Food Pantry of Montclair seek donations of menstrual hygiene products\, diapers\, and baby wipes. Items accepted through Mar. 31. All donations go towards Human Needs Food Pantry. \nFrom Glen Ridge Public Library. \nThis information is accurate as of when it was published. Check with the event coordinator for the latest details.
URL:https://jerseybee.org/event/glen-ridge-library-march-2026-period-product-donation-drive/
CATEGORIES:Bloomfield,Glen Ridge,Montclair,Nutley
ATTACH;FMTTYPE=image/jpeg:https://jerseybee.org/wp-content/uploads/2023/09/SingleBee_10.jpeg
END:VEVENT
BEGIN:VEVENT
DTSTART;VALUE=DATE:20260301
DTEND;VALUE=DATE:20260401
DTSTAMP:20260424T075447
CREATED:20260303T133822Z
LAST-MODIFIED:20260303T133822Z
UID:10008966-1772323200-1775001599@jerseybee.org
SUMMARY:Bloomfield March 2026 Menstrual Hygiene Product Drive
DESCRIPTION:Bloomfield seeks donations of menstrual hygiene products through Mar. 31. Items accepted at Bitecola Halperin Funeral Home\, Love and Plates\, Bloomfield library\, and Iris Yoga. Items can also be purchased online through the township’s Amazon Wishlist. \nFrom Bloomfield Township. \nThis information is accurate as of when it was published. Check with the event coordinator for the latest details.
URL:https://jerseybee.org/event/bloomfield-march-2026-menstrual-hygiene-product-drive/
CATEGORIES:Bloomfield
ATTACH;FMTTYPE=image/jpeg:https://jerseybee.org/wp-content/uploads/2023/09/SingleBee_8.jpeg
END:VEVENT
BEGIN:VEVENT
DTSTART;VALUE=DATE:20260301
DTEND;VALUE=DATE:20260401
DTSTAMP:20260424T075447
CREATED:20260311T195741Z
LAST-MODIFIED:20260311T195741Z
UID:10009054-1772323200-1775001599@jerseybee.org
SUMMARY:West Orange Arts Council March 2026 "The Power of HER" Art Exhibition
DESCRIPTION:West Orange Arts Council’s art exhibition “The Power of HER” is on display through Mar. 31. Art celebrates Women’s History Month. Gallery hours are Sundays from 2-4 p.m. Free admission.  \nFrom West Orange Arts Council. \nThis information is accurate as of when it was published. Check with the event coordinator for the latest details.
URL:https://jerseybee.org/event/west-orange-arts-council-march-2026-the-power-of-her-art-exhibition/
CATEGORIES:East Orange,Maplewood,Orange,South Orange,West Orange
ATTACH;FMTTYPE=image/jpeg:https://jerseybee.org/wp-content/uploads/2023/09/SingleBee_3.jpeg
END:VEVENT
BEGIN:VEVENT
DTSTART;VALUE=DATE:20260302
DTEND;VALUE=DATE:20260303
DTSTAMP:20260424T075447
CREATED:20260303T132811Z
LAST-MODIFIED:20260303T132811Z
UID:10008960-1772409600-1772495999@jerseybee.org
SUMMARY:Belleville Recreation Spring 2026 Program Registration Open
DESCRIPTION:Registration is open for Belleville recreation’s spring 2026 programs. Offerings include baseball\, softball\, track\, flag football\, and more. Registration is required online. \nFrom Belleville Recreation Department. \nThis information is accurate as of when it was published. Check with the event coordinator for the latest details.
URL:https://jerseybee.org/event/belleville-recreation-spring-2026-program-registration-open/
CATEGORIES:Belleville
ATTACH;FMTTYPE=image/jpeg:https://jerseybee.org/wp-content/uploads/2023/09/SingleBee_10.jpeg
END:VEVENT
BEGIN:VEVENT
DTSTART;VALUE=DATE:20260302
DTEND;VALUE=DATE:20260401
DTSTAMP:20260424T075447
CREATED:20260303T173326Z
LAST-MODIFIED:20260303T173326Z
UID:10008970-1772409600-1775001599@jerseybee.org
SUMMARY:East Orange Library March 2026 Women's History Month Trivia
DESCRIPTION:Youth can participate in East Orange library’s daily Women’s History Month trivia through Mar. 31. People who answer questions correctly earn a prize.  \nFrom East Orange Public Library. \nThis information is accurate as of when it was published. Check with the event coordinator for the latest details.
URL:https://jerseybee.org/event/east-orange-library-march-2026-womens-history-month-trivia/
CATEGORIES:East Orange
ATTACH;FMTTYPE=image/jpeg:https://jerseybee.org/wp-content/uploads/2023/09/SingleBee_2.jpeg
END:VEVENT
BEGIN:VEVENT
DTSTART;VALUE=DATE:20260304
DTEND;VALUE=DATE:20260305
DTSTAMP:20260424T075447
CREATED:20260227T221629Z
LAST-MODIFIED:20260227T221629Z
UID:10008939-1772582400-1772668799@jerseybee.org
SUMMARY:Montclair township March 2026 Community Meeting
DESCRIPTION:Community meeting with Montclair’s Councilor-at-large Bill Harrison and Deputy Mayor Susan Shin Andersen planned on Mar. 4. It is from 6:30- 8:30 p.m. at Montclair library’s Bellevue Branch. Harrison and Andersen will share township updates and answer questions. Open to all Montclair residents. \nFrom Montclair Township. \nThis information is accurate as of when it was published. Check with the event coordinator for the latest details.
URL:https://jerseybee.org/event/montclair-township-march-2026-community-meeting/
CATEGORIES:Montclair
ATTACH;FMTTYPE=image/jpeg:https://jerseybee.org/wp-content/uploads/2023/09/Artboard-1_1.jpeg
END:VEVENT
BEGIN:VEVENT
DTSTART;VALUE=DATE:20260304
DTEND;VALUE=DATE:20260305
DTSTAMP:20260424T075447
CREATED:20260227T222021Z
LAST-MODIFIED:20260227T222021Z
UID:10008940-1772582400-1772668799@jerseybee.org
SUMMARY:Nutley Health Department March 2026 Blood Drive
DESCRIPTION:Community blood drive planned with Nutley health department on Mar. 4. Eligible participants can donate blood from 2:30-7 p.m. at 149 Chestnut St. Registration is required. \nFrom Nutley Township. \nThis information is accurate as of when it was published. Check with the event coordinator for the latest details.
URL:https://jerseybee.org/event/nutley-health-department-march-2026-blood-drive/
CATEGORIES:Nutley
ATTACH;FMTTYPE=image/jpeg:https://jerseybee.org/wp-content/uploads/2023/09/SingleBee_10.jpeg
END:VEVENT
BEGIN:VEVENT
DTSTART;VALUE=DATE:20260304
DTEND;VALUE=DATE:20260305
DTSTAMP:20260424T075447
CREATED:20260304T193747Z
LAST-MODIFIED:20260304T193747Z
UID:10008975-1772582400-1772668799@jerseybee.org
SUMMARY:Nutley Recreation Spring 2026 Sports Clinic Registration Open
DESCRIPTION:Nutley children in grades K-2 can register for the recreation department’s spring sports clinics. Offerings include pickleball\, tennis\, basketball\, and soccer. Registration is available online. \nFrom Nutley Township. \nThis information is accurate as of when it was published. Check with the event coordinator for the latest details.
URL:https://jerseybee.org/event/nutley-recreation-spring-2026-sports-clinic-registration-open/
CATEGORIES:Nutley
ATTACH;FMTTYPE=image/jpeg:https://jerseybee.org/wp-content/uploads/2023/09/SingleBee_8.jpeg
END:VEVENT
BEGIN:VEVENT
DTSTART;VALUE=DATE:20260304
DTEND;VALUE=DATE:20260305
DTSTAMP:20260424T075447
CREATED:20260304T200922Z
LAST-MODIFIED:20260304T200922Z
UID:10008986-1772582400-1772668799@jerseybee.org
SUMMARY:NJDEA 2026 Small Business Improvement Grant Applications Open
DESCRIPTION:Eligible businesses can apply to the state’s Small Business Improvement Grant. It provides reimbursement for expenses associated with building improvements\, new furniture\, and equipment. Applications are accepted on a rolling basis. Eligibility requirements and applications are available online. \nFrom New Jersey Economic Development Authority. \nThis information is accurate as of when it was published. Check with the event coordinator for the latest details.
URL:https://jerseybee.org/event/njdea-2026-small-business-improvement-grant-applications-open/
ATTACH;FMTTYPE=image/jpeg:https://jerseybee.org/wp-content/uploads/2023/09/SingleBee_10.jpeg
END:VEVENT
BEGIN:VEVENT
DTSTART;VALUE=DATE:20260304
DTEND;VALUE=DATE:20260401
DTSTAMP:20260424T075447
CREATED:20260304T200924Z
LAST-MODIFIED:20260304T200924Z
UID:10008988-1772582400-1775001599@jerseybee.org
SUMMARY:East Orange Library March 2026 Jellybean Counting Contest
DESCRIPTION:East Orange youth can participate in the library’s candy count contest through Mar. 31. Participants guess the amount of candy in each jar. Winners are notified on Apr. 1. \nFrom East Orange Public Library. \nThis information is accurate as of when it was published. Check with the event coordinator for the latest details.
URL:https://jerseybee.org/event/east-orange-library-march-2026-jellybean-counting-contest/
CATEGORIES:East Orange,Orange
ATTACH;FMTTYPE=image/jpeg:https://jerseybee.org/wp-content/uploads/2023/09/Artboard-1_1.jpeg
END:VEVENT
BEGIN:VEVENT
DTSTART;VALUE=DATE:20260305
DTEND;VALUE=DATE:20260306
DTSTAMP:20260424T075447
CREATED:20260211T163413Z
LAST-MODIFIED:20260211T163413Z
UID:10008856-1772668800-1772755199@jerseybee.org
SUMMARY:Nutley Recreation February 2026 "Senior Citizen Dinner and a Show: Once Upon A Mattress"
DESCRIPTION:Nutley seniors can attend Nutley High School’s production of “Once Upon A Mattress” with free dinner on Mar. 5. Dinner is served by NHS culinary students at 4:30 p.m. at the school’s cafeteria. The show begins at 6 p.m. Tickets are free\, but registration is required. Reservations made online. \nFrom Nutley Township. \nThis information is accurate as of when it was published. Check with the event coordinator for the latest details.
URL:https://jerseybee.org/event/nutley-recreation-february-2026-senior-citizen-dinner-and-a-show-once-upon-a-mattress/
CATEGORIES:Nutley
ATTACH;FMTTYPE=image/jpeg:https://jerseybee.org/wp-content/uploads/2023/09/SingleBee_7.jpeg
END:VEVENT
BEGIN:VEVENT
DTSTART;VALUE=DATE:20260305
DTEND;VALUE=DATE:20260306
DTSTAMP:20260424T075447
CREATED:20260218T215953Z
LAST-MODIFIED:20260218T215953Z
UID:10008913-1772668800-1772755199@jerseybee.org
SUMMARY:Essex County March 2026 Essex Supplier Exchange
DESCRIPTION:Local businesses can attend an information session on Mar. 5 discussing ways to work with the government. It is from 2-5 p.m. at Essex Country Branch Brook Park in Newark. Free admission. Registration is required. \nFrom Essex County Executive Joseph N. DiVincenzo\, Jr.. \nThis information is accurate as of when it was published. Check with the event coordinator for the latest details.
URL:https://jerseybee.org/event/essex-county-march-2026-essex-supplier-exchange/
CATEGORIES:Essex County
ATTACH;FMTTYPE=image/jpeg:https://jerseybee.org/wp-content/uploads/2023/09/SingleBee_9.jpeg
END:VEVENT
BEGIN:VEVENT
DTSTART;VALUE=DATE:20260305
DTEND;VALUE=DATE:20260306
DTSTAMP:20260424T075447
CREATED:20260227T220046Z
LAST-MODIFIED:20260421T165725Z
UID:10008938-1772668800-1772755199@jerseybee.org
SUMMARY:Orange March 2026 Greater Essex Counseling Services Wellness Session
DESCRIPTION:Parents and caregivers can attend a wellness session with the Greater Essex Counseling Services on Mar. 5 in Orange. It is from 6-7 p.m. at the Orange City Council Chambers. It will be led in Spanish. \nFrom City of Orange Township. \nThis information is accurate as of when it was published. Check with the event coordinator for the latest details.
URL:https://jerseybee.org/event/orange-march-2026-greater-essex-counseling-services-wellness-session/
CATEGORIES:Orange
ATTACH;FMTTYPE=image/jpeg:https://jerseybee.org/wp-content/uploads/2023/09/SingleBee_10.jpeg
END:VEVENT
BEGIN:VEVENT
DTSTART;VALUE=DATE:20260305
DTEND;VALUE=DATE:20260306
DTSTAMP:20260424T075447
CREATED:20260227T224401Z
LAST-MODIFIED:20260227T224401Z
UID:10008942-1772668800-1772755199@jerseybee.org
SUMMARY:Montclair Recreation's Spring 2026 Volleyball Clinic
DESCRIPTION:Montclair girls in grades 5-8 can register for the recreation department’s spring 2026 volleyball clinic starting Mar. 5. The program meets on Thursdays weekly until May 14. Registration is available online. \nFrom Montclair Recreation and Cultural Affairs. \nThis information is accurate as of when it was published. Check with the event coordinator for the latest details.
URL:https://jerseybee.org/event/montclair-recreations-spring-2026-volleyball-clinic/
CATEGORIES:Montclair
ATTACH;FMTTYPE=image/jpeg:https://jerseybee.org/wp-content/uploads/2023/09/SingleBee_9.jpeg
END:VEVENT
BEGIN:VEVENT
DTSTART;VALUE=DATE:20260305
DTEND;VALUE=DATE:20260306
DTSTAMP:20260424T075447
CREATED:20260302T192745Z
LAST-MODIFIED:20260302T192745Z
UID:10008946-1772668800-1772755199@jerseybee.org
SUMMARY:Newark March 2026 Citywide Iftar
DESCRIPTION:Citywide Iftar planned on Mar. 5 in Newark. It begins at 5:30 p.m. at the John F. Kennedy Recreation Center. Attendees are encouraged to bring a prayer rug. \nFrom Newark City. \nThis information is accurate as of when it was published. Check with the event coordinator for the latest details.
URL:https://jerseybee.org/event/newark-march-2026-citywide-iftar/
CATEGORIES:Newark
ATTACH;FMTTYPE=image/jpeg:https://jerseybee.org/wp-content/uploads/2023/09/SingleBee_7.jpeg
END:VEVENT
BEGIN:VEVENT
DTSTART;VALUE=DATE:20260305
DTEND;VALUE=DATE:20260306
DTSTAMP:20260424T075447
CREATED:20260302T194745Z
LAST-MODIFIED:20260302T194745Z
UID:10008952-1772668800-1772755199@jerseybee.org
SUMMARY:Orange March 2026 Free Tax Preparation
DESCRIPTION:Eligible Orange residents with a household income of $69\,000 or less can receive free tax preparation services on Mar. 5. IRS-certified volunteers will assist at Mt. Carmel Tower\, 268 Oakwood Ave. from 4:30-6:30 p.m. The last day to file taxes is Apr. 15. \nFrom City of Orange Township. \nThis information is accurate as of when it was published. Check with the event coordinator for the latest details.
URL:https://jerseybee.org/event/orange-march-2026-free-tax-preparation/
CATEGORIES:Orange
ATTACH;FMTTYPE=image/jpeg:https://jerseybee.org/wp-content/uploads/2023/09/SingleBee_9.jpeg
END:VEVENT
BEGIN:VEVENT
DTSTART;VALUE=DATE:20260305
DTEND;VALUE=DATE:20260306
DTSTAMP:20260424T075447
CREATED:20260305T150904Z
LAST-MODIFIED:20260305T150904Z
UID:10008990-1772668800-1772755199@jerseybee.org
SUMMARY:Nutley Recreation Spring 2026 "Bounce Out the Stigma" Registration Open
DESCRIPTION:Nutley residents ages 7-21 with learning and developmental disabilities can sign up for Nutley recreation’s basketball program\, scheduled to start Mar. 23. It meets Mondays through May 4 from 5-6 p.m. at the parks and recreation building. Enrollment is $125. Register online. \nFrom Nutley Township. \nThis information is accurate as of when it was published. Check with the event coordinator for the latest details.
URL:https://jerseybee.org/event/nutley-recreation-spring-2026-bounce-out-the-stigma-registration-open/
CATEGORIES:Nutley
ATTACH;FMTTYPE=image/jpeg:https://jerseybee.org/wp-content/uploads/2023/09/SingleBee_8.jpeg
END:VEVENT
BEGIN:VEVENT
DTSTART;VALUE=DATE:20260306
DTEND;VALUE=DATE:20260307
DTSTAMP:20260424T075447
CREATED:20260113T162602Z
LAST-MODIFIED:20260113T162602Z
UID:10008593-1772755200-1772841599@jerseybee.org
SUMMARY:Bloomfield Baseball Association Spring 2026 Early Bird Discount Deadline
DESCRIPTION:Bloomfield youth ages 13-17 can register for Bloomfield Baseball Association’s spring program. Early bird discount ends Mar. 6. \nFrom Bloomfield Baseball Association. \nThis information is accurate as of when it was published. Check with the event coordinator for the latest details.
URL:https://jerseybee.org/event/bloomfield-baseball-association-spring-2026-early-bird-discount-deadline/
CATEGORIES:Bloomfield
ATTACH;FMTTYPE=image/jpeg:https://jerseybee.org/wp-content/uploads/2023/09/SingleBee_10.jpeg
END:VEVENT
BEGIN:VEVENT
DTSTART;VALUE=DATE:20260306
DTEND;VALUE=DATE:20260307
DTSTAMP:20260424T075447
CREATED:20260227T224953Z
LAST-MODIFIED:20260227T224953Z
UID:10008943-1772755200-1772841599@jerseybee.org
SUMMARY:Belleville March 2026 Irish Flag Raising
DESCRIPTION:Irish flag raising planned on Mar. 6 in Belleville. It begins at 12 p.m. at town hall. \nFrom Belleville Township. \nThis information is accurate as of when it was published. Check with the event coordinator for the latest details.
URL:https://jerseybee.org/event/belleville-march-2026-irish-flag-raising/
CATEGORIES:Belleville
ATTACH;FMTTYPE=image/jpeg:https://jerseybee.org/wp-content/uploads/2023/09/Artboard-1_1.jpeg
END:VEVENT
BEGIN:VEVENT
DTSTART;VALUE=DATE:20260306
DTEND;VALUE=DATE:20260307
DTSTAMP:20260424T075447
CREATED:20260302T192950Z
LAST-MODIFIED:20260302T192950Z
UID:10008947-1772755200-1772841599@jerseybee.org
SUMMARY:ICC March 2026 Financial Webinar with Capital One Bank
DESCRIPTION:Financial webinar planned with Ironbound Community Corporation and Capital One Bank on Mar. 6. It is from 6:30-7:30 p.m. Attendees will learn about credit\, financial custodians\, and the power of attorney. Registration is required. Free admission. \nFrom Ironbound Community Corporation. \nThis information is accurate as of when it was published. Check with the event coordinator for the latest details.
URL:https://jerseybee.org/event/icc-march-2026-financial-webinar-with-capital-one-bank/
CATEGORIES:Essex County,Newark
ATTACH;FMTTYPE=image/jpeg:https://jerseybee.org/wp-content/uploads/2023/09/SingleBee_8.jpeg
END:VEVENT
BEGIN:VEVENT
DTSTART;VALUE=DATE:20260306
DTEND;VALUE=DATE:20260307
DTSTAMP:20260424T075447
CREATED:20260302T193518Z
LAST-MODIFIED:20260302T193518Z
UID:10008951-1772755200-1772841599@jerseybee.org
SUMMARY:KinderSmile March 2026 Free Health Screenings
DESCRIPTION:Eligible children and adults can receive free health screenings with KinderSmile and Mobile Lab Techs on Mar. 6 in Newark. It is from 9 a.m. to 2 p.m. at 1 Avon Ave. There will be free A1c testing\, blood pressure screenings\, nutritional counseling\, and more. Registration is not required. \nFrom KinderSmile Foundation. \nThis information is accurate as of when it was published. Check with the event coordinator for the latest details.
URL:https://jerseybee.org/event/kindersmile-march-2026-free-health-screenings/
CATEGORIES:Essex County,Newark
ATTACH;FMTTYPE=image/jpeg:https://jerseybee.org/wp-content/uploads/2023/09/SingleBee_8.jpeg
END:VEVENT
BEGIN:VEVENT
DTSTART;VALUE=DATE:20260307
DTEND;VALUE=DATE:20260308
DTSTAMP:20260424T075447
CREATED:20260227T213016Z
LAST-MODIFIED:20260227T213016Z
UID:10008936-1772841600-1772927999@jerseybee.org
SUMMARY:Turtle Back Zoo March 2026 Job Fair
DESCRIPTION:Essex County Turtle Back Zoo job fair is planned on Mar. 7 in West Orange. Interested applicants can attend one of three job fairs. It is from 12-3 p.m. at the Mount Building. A list of seasonal job openings is available online. Applicants must be 18+. \nFrom Turtle Back Zoo. \nThis information is accurate as of when it was published. Check with the event coordinator for the latest details.
URL:https://jerseybee.org/event/turtle-back-zoo-march-2026-job-fair/
CATEGORIES:Essex County,West Orange
ATTACH;FMTTYPE=image/jpeg:https://jerseybee.org/wp-content/uploads/2023/09/SingleBee_10.jpeg
END:VEVENT
BEGIN:VEVENT
DTSTART;VALUE=DATE:20260307
DTEND;VALUE=DATE:20260308
DTSTAMP:20260424T075447
CREATED:20260227T230338Z
LAST-MODIFIED:20260227T230338Z
UID:10008944-1772841600-1772927999@jerseybee.org
SUMMARY:Maplewood Arts and Culture 2026 "Just Like A Girl" Exhibition Opening Reception
DESCRIPTION:Art exhibition “Just Like A Girl” opening reception planned with Maplewood arts and culture on Mar. 7. The exhibit will showcase art from Maplewood and South Orange youth from 4-7 p.m. at 1978 Maplewood Arts Center in Maplewood. \nFrom Maplewood Division of Arts and Culture. \nThis information is accurate as of when it was published. Check with the event coordinator for the latest details.
URL:https://jerseybee.org/event/maplewood-arts-and-culture-2026-just-like-a-girl-exhibition-opening-reception/
CATEGORIES:Maplewood,South Orange
ATTACH;FMTTYPE=image/jpeg:https://jerseybee.org/wp-content/uploads/2023/09/SingleBee_2.jpeg
END:VEVENT
BEGIN:VEVENT
DTSTART;VALUE=DATE:20260307
DTEND;VALUE=DATE:20260308
DTSTAMP:20260424T075447
CREATED:20260302T200958Z
LAST-MODIFIED:20260302T200958Z
UID:10008957-1772841600-1772927999@jerseybee.org
SUMMARY:West Orange Library March 2026 Adult Mental Health First Aid Certification Training
DESCRIPTION:Adults can attend a free mental health first aid certification training on Mar. 7 in West Orange. It is from 9 a.m. to 4 p.m. at West Orange library. Attendees will learn to recognize signs of mental health or substance use challenges in adults. Registration is required. Free enrollment. \nFrom West Orange Public Library. \nThis information is accurate as of when it was published. Check with the event coordinator for the latest details.
URL:https://jerseybee.org/event/west-orange-library-march-2026-adult-mental-health-first-aid-certification-training/
CATEGORIES:Essex County,West Orange
ATTACH;FMTTYPE=image/jpeg:https://jerseybee.org/wp-content/uploads/2023/09/SingleBee_4.jpeg
END:VEVENT
END:VCALENDAR