BEGIN:VCALENDAR
VERSION:2.0
PRODID:-//The Jersey Bee - ECPv6.15.12.2//NONSGML v1.0//EN
CALSCALE:GREGORIAN
METHOD:PUBLISH
X-ORIGINAL-URL:https://jerseybee.org
X-WR-CALDESC:Events for The Jersey Bee
REFRESH-INTERVAL;VALUE=DURATION:PT1H
X-Robots-Tag:noindex
X-PUBLISHED-TTL:PT1H
BEGIN:VTIMEZONE
TZID:America/Toronto
BEGIN:DAYLIGHT
TZOFFSETFROM:-0500
TZOFFSETTO:-0400
TZNAME:EDT
DTSTART:20230312T070000
END:DAYLIGHT
BEGIN:STANDARD
TZOFFSETFROM:-0400
TZOFFSETTO:-0500
TZNAME:EST
DTSTART:20231105T060000
END:STANDARD
BEGIN:DAYLIGHT
TZOFFSETFROM:-0500
TZOFFSETTO:-0400
TZNAME:EDT
DTSTART:20240310T070000
END:DAYLIGHT
BEGIN:STANDARD
TZOFFSETFROM:-0400
TZOFFSETTO:-0500
TZNAME:EST
DTSTART:20241103T060000
END:STANDARD
BEGIN:DAYLIGHT
TZOFFSETFROM:-0500
TZOFFSETTO:-0400
TZNAME:EDT
DTSTART:20250309T070000
END:DAYLIGHT
BEGIN:STANDARD
TZOFFSETFROM:-0400
TZOFFSETTO:-0500
TZNAME:EST
DTSTART:20251102T060000
END:STANDARD
END:VTIMEZONE
BEGIN:VEVENT
DTSTART;VALUE=DATE:20241024
DTEND;VALUE=DATE:20241025
DTSTAMP:20260421T141709
CREATED:20241017T145603Z
LAST-MODIFIED:20241017T145603Z
UID:10004353-1729728000-1729814399@jerseybee.org
SUMMARY:West Orange Library October 2024 Violin Performance by Pyrenesia
DESCRIPTION:Free violin performance by Pyrenesia planned at West Orange library on Oct. 24. The performance is from 7-8 p.m. It is a tribute to Italian violinist Stéphane Grappelli. \nFrom West Orange Public Library. \nThis information is accurate as of when it was published. Check with the event coordinator for the latest details.
URL:https://jerseybee.org/event/west-orange-library-october-2024-violin-performance-by-pyrenesia/
CATEGORIES:West Orange
ATTACH;FMTTYPE=image/jpeg:https://jerseybee.org/wp-content/uploads/2023/09/SingleBee_2.jpeg
END:VEVENT
BEGIN:VEVENT
DTSTART;VALUE=DATE:20241024
DTEND;VALUE=DATE:20241025
DTSTAMP:20260421T141709
CREATED:20241017T150032Z
LAST-MODIFIED:20241017T150032Z
UID:10004356-1729728000-1729814399@jerseybee.org
SUMMARY:Maplewood Library October 2024 Digital Device Clinic
DESCRIPTION:Free one-on-one electronic device support for adults planned by Maplewood library on Oct. 24 in the Main Branch. The digital device clinic is open from 11 a.m. to 1 p.m.  \nFrom Maplewood Public Library. \nThis information is accurate as of when it was published. Check with the event coordinator for the latest details.
URL:https://jerseybee.org/event/maplewood-library-october-2024-digital-device-clinic-2/
CATEGORIES:Maplewood
ATTACH;FMTTYPE=image/jpeg:https://jerseybee.org/wp-content/uploads/2023/09/SingleBee_3.jpeg
END:VEVENT
BEGIN:VEVENT
DTSTART;VALUE=DATE:20241024
DTEND;VALUE=DATE:20241025
DTSTAMP:20260421T141709
CREATED:20241017T150222Z
LAST-MODIFIED:20241017T150222Z
UID:10004357-1729728000-1729814399@jerseybee.org
SUMMARY:Glen Ridge Library Spanish Club October 2024 Meeting
DESCRIPTION:Spanish club meeting for Glen Ridge residents in grades 5-7 planned by Glen Ridge library on Oct. 24. Attendees will learn Spanish through games\, plays\, music\, and crafts from 3:15-4:15 p.m. No prior knowledge necessary. Snacks provided. Registration is required. \nFrom Glen Ridge Public Library. \nThis information is accurate as of when it was published. Check with the event coordinator for the latest details.
URL:https://jerseybee.org/event/glen-ridge-library-spanish-club-october-2024-meeting/
CATEGORIES:Glen Ridge
ATTACH;FMTTYPE=image/jpeg:https://jerseybee.org/wp-content/uploads/2023/09/SingleBee_7.jpeg
END:VEVENT
BEGIN:VEVENT
DTSTART;VALUE=DATE:20241024
DTEND;VALUE=DATE:20241025
DTSTAMP:20260421T141709
CREATED:20241017T152202Z
LAST-MODIFIED:20241017T152202Z
UID:10004360-1729728000-1729814399@jerseybee.org
SUMMARY:Newark Library October 2024 Bharatanatyam Dance Class
DESCRIPTION:Free Bharatanatyam dance class planned by Newark library on Oct. 24 in the Main Branch. The class meets every other Thursday at 5:30 p.m. through Dec. 19. Registration is recommended. \nFrom Newark Public Library. \nThis information is accurate as of when it was published. Check with the event coordinator for the latest details.
URL:https://jerseybee.org/event/newark-library-october-2024-bharatanatyam-dance-class-2/
CATEGORIES:Newark
ATTACH;FMTTYPE=image/jpeg:https://jerseybee.org/wp-content/uploads/2023/09/Artboard-1_1.jpeg
END:VEVENT
BEGIN:VEVENT
DTSTART;VALUE=DATE:20241024
DTEND;VALUE=DATE:20241025
DTSTAMP:20260421T141709
CREATED:20241017T152205Z
LAST-MODIFIED:20241017T152205Z
UID:10004361-1729728000-1729814399@jerseybee.org
SUMMARY:Montclair Library October 2024 "Little Read Story Time in the Park"
DESCRIPTION:Story time for children planned by Montclair library on Oct. 24. It is from 10:30-11 a.m. at Brookdale Park. Registration is not required. \nFrom Montclair Public Library. \nThis information is accurate as of when it was published. Check with the event coordinator for the latest details.
URL:https://jerseybee.org/event/montclair-library-october-2024-little-read-story-time-in-the-park/
CATEGORIES:Bloomfield,Montclair,Nutley
ATTACH;FMTTYPE=image/jpeg:https://jerseybee.org/wp-content/uploads/2023/09/SingleBee_7.jpeg
END:VEVENT
BEGIN:VEVENT
DTSTART;VALUE=DATE:20241024
DTEND;VALUE=DATE:20241025
DTSTAMP:20260421T141709
CREATED:20241017T152209Z
LAST-MODIFIED:20241017T152209Z
UID:10004365-1729728000-1729814399@jerseybee.org
SUMMARY:Newark Library LGBTQ+ Book Club October 2024 Meeting
DESCRIPTION:LGBTQ+ book club meeting for adults planned by Newark library on Oct. 24 in the Main Branch. Members will discuss “Monstrilio” by Gerardo Samano Cordova at 6 p.m. Registration is required. \nFrom Newark Public Library. \nThis information is accurate as of when it was published. Check with the event coordinator for the latest details.
URL:https://jerseybee.org/event/newark-library-lgbtq-book-club-october-2024-meeting/
CATEGORIES:Newark
ATTACH;FMTTYPE=image/jpeg:https://jerseybee.org/wp-content/uploads/2023/09/SingleBee_3.jpeg
END:VEVENT
BEGIN:VEVENT
DTSTART;VALUE=DATE:20241024
DTEND;VALUE=DATE:20241025
DTSTAMP:20260421T141709
CREATED:20241017T152211Z
LAST-MODIFIED:20241017T152211Z
UID:10004366-1729728000-1729814399@jerseybee.org
SUMMARY:Montclair Library October 2024 "The Man behind The Monster" Documentary Screening\, Q&A
DESCRIPTION:Free documentary screening of “The Man behind The Monster” planned at Montclair library on Oct. 24 in the Main Branch. The documentary begins at 1 p.m. A Q&A with Boris Karloff’s daughter\, Sara\, will follow. Registration is required. \nFrom Montclair Public Library. \nThis information is accurate as of when it was published. Check with the event coordinator for the latest details.
URL:https://jerseybee.org/event/montclair-library-october-2024-the-man-behind-the-monster-documentary-screening-qa/
CATEGORIES:Montclair
ATTACH;FMTTYPE=image/jpeg:https://jerseybee.org/wp-content/uploads/2023/09/SingleBee_3.jpeg
END:VEVENT
BEGIN:VEVENT
DTSTART;VALUE=DATE:20241024
DTEND;VALUE=DATE:20241025
DTSTAMP:20260421T141709
CREATED:20241017T152222Z
LAST-MODIFIED:20241017T152222Z
UID:10004371-1729728000-1729814399@jerseybee.org
SUMMARY:East Orange Library October 2024 Author Talk wtih Jackie Bobien-Blanton
DESCRIPTION:Author talk with Dr. Jackie Bobien-Blanton planned at East Orange library on Oct. 24. Bobien-Blanton will discuss “It Takes a Village to Raise a Reader” from 6-8 p.m. A book signing will follow. \nFrom East Orange Public Library. \nThis information is accurate as of when it was published. Check with the event coordinator for the latest details.
URL:https://jerseybee.org/event/east-orange-library-october-2024-author-talk-wtih-jackie-bobien-blanton/
CATEGORIES:East Orange,Irvington,Orange
ATTACH;FMTTYPE=image/jpeg:https://jerseybee.org/wp-content/uploads/2023/09/SingleBee_7.jpeg
END:VEVENT
BEGIN:VEVENT
DTSTART;VALUE=DATE:20241024
DTEND;VALUE=DATE:20241025
DTSTAMP:20260421T141709
CREATED:20241017T183355Z
LAST-MODIFIED:20241017T183355Z
UID:10004381-1729728000-1729814399@jerseybee.org
SUMMARY:West Orange Library's "Read for the Record: Piper Chen Sings"
DESCRIPTION:Reading of “Piper Chen Signs” by Philippa Soo for children in grades K-3 on Oct. 24. Library staff will read Soo’s book and talk about early literacy from 4-4:45 p.m. at The Baird Center. Preregistration is required.  \nFrom South Orange Public Library. \nThis information is accurate as of when it was published. Check with the event coordinator for the latest details.
URL:https://jerseybee.org/event/west-orange-librarys-read-for-the-record-piper-chen-sings/
CATEGORIES:Maplewood,South Orange
ATTACH;FMTTYPE=image/jpeg:https://jerseybee.org/wp-content/uploads/2023/09/SingleBee_6.jpeg
END:VEVENT
BEGIN:VEVENT
DTSTART;VALUE=DATE:20241024
DTEND;VALUE=DATE:20241025
DTSTAMP:20260421T141709
CREATED:20241021T185529Z
LAST-MODIFIED:20241021T185529Z
UID:10004391-1729728000-1729814399@jerseybee.org
SUMMARY:West Orange SEPAC October 2024 Meeting with Best Buddies-WOHS Chapter
DESCRIPTION:West Orange SEPAC virtual meeting planned on Oct. 24. A guest speaker from the Best Buddies-WOHS Chapter will discuss their involvement with the special education program. The meeting begins at 7 p.m. Register by email. \nFrom West Orange Special Education Parents Advisory Council. \nThis information is accurate as of when it was published. Check with the event coordinator for the latest details.
URL:https://jerseybee.org/event/west-orange-sepac-october-2024-meeting-with-best-buddies-wohs-chapter/
CATEGORIES:West Orange
ATTACH;FMTTYPE=image/jpeg:https://jerseybee.org/wp-content/uploads/2023/09/SingleBee_10.jpeg
END:VEVENT
BEGIN:VEVENT
DTSTART;VALUE=DATE:20241024
DTEND;VALUE=DATE:20241025
DTSTAMP:20260421T141709
CREATED:20241021T193214Z
LAST-MODIFIED:20241021T193214Z
UID:10004395-1729728000-1729814399@jerseybee.org
SUMMARY:SOMA Justice October 2024 "Lean to Knit Night"
DESCRIPTION:“Lean to Knit Night” planned by SOMA Justice on Oct. 24 in Maplewood. The event begins at 7 p.m. Location is available upon registration. \nFrom SOMA Justice. \nThis information is accurate as of when it was published. Check with the event coordinator for the latest details.
URL:https://jerseybee.org/event/soma-justice-october-2024-lean-to-knit-night/
CATEGORIES:Maplewood,South Orange
ATTACH;FMTTYPE=image/jpeg:https://jerseybee.org/wp-content/uploads/2023/09/Artboard-1_1.jpeg
END:VEVENT
BEGIN:VEVENT
DTSTART;VALUE=DATE:20241024
DTEND;VALUE=DATE:20241025
DTSTAMP:20260421T141709
CREATED:20241021T193728Z
LAST-MODIFIED:20241021T193728Z
UID:10004401-1729728000-1729814399@jerseybee.org
SUMMARY:La Casa de Don Pedro October 2024 Harvest Festival
DESCRIPTION:Harvest Festival planned by La Casa de Don Pedro on Oct. 24 in Newark. It is from 3-6 p.m. at 43 Broadway. There will be free Halloween costume and food giveaways\, live music\, and a farmers market. Preregistration is required. \nFrom La Casa De Don Pedro. \nThis information is accurate as of when it was published. Check with the event coordinator for the latest details.
URL:https://jerseybee.org/event/la-casa-de-don-pedro-october-2024-harvest-festival/
CATEGORIES:Irvington,Newark,Orange
ATTACH;FMTTYPE=image/jpeg:https://jerseybee.org/wp-content/uploads/2023/09/SingleBee_3.jpeg
END:VEVENT
BEGIN:VEVENT
DTSTART;VALUE=DATE:20241024
DTEND;VALUE=DATE:20241025
DTSTAMP:20260421T141709
CREATED:20241021T194256Z
LAST-MODIFIED:20241021T194256Z
UID:10004405-1729728000-1729814399@jerseybee.org
SUMMARY:East Orange SEPAC October 2024 Meeting
DESCRIPTION:East Orange SEPAC meeting planned on Oct. 24. The meeting is from 6-7:30 p.m. at the Board of Education building\, 199 4th Ave. It will discuss ways to navigate student IEPs and connect with families for advocacy. IEP questions accepted online. \nFrom East Orange Public Schools. \nThis information is accurate as of when it was published. Check with the event coordinator for the latest details.
URL:https://jerseybee.org/event/east-orange-sepac-october-2024-meeting/
CATEGORIES:East Orange
ATTACH;FMTTYPE=image/jpeg:https://jerseybee.org/wp-content/uploads/2023/09/SingleBee_3.jpeg
END:VEVENT
BEGIN:VEVENT
DTSTART;VALUE=DATE:20241024
DTEND;VALUE=DATE:20241027
DTSTAMP:20260421T141709
CREATED:20241021T200520Z
LAST-MODIFIED:20241021T200520Z
UID:10004412-1729728000-1729987199@jerseybee.org
SUMMARY:East Orange Public Schools October 2024 "Warwick's Haunted School"
DESCRIPTION:“Warwick’s Haunted School” for families planned at Dionne Warwick Institute on Oct. 24-26 in East Orange. It is open from 6-9 p.m. Oct. 24-25 and from 5-9 p.m. Oct. 26. Tickets are $5-10. \nFrom East Orange Public Schools. \nThis information is accurate as of when it was published. Check with the event coordinator for the latest details.
URL:https://jerseybee.org/event/east-orange-public-schools-october-2024-warwicks-haunted-school/
CATEGORIES:East Orange,Orange
ATTACH;FMTTYPE=image/jpeg:https://jerseybee.org/wp-content/uploads/2023/09/SingleBee_2.jpeg
END:VEVENT
BEGIN:VEVENT
DTSTART;VALUE=DATE:20241025
DTEND;VALUE=DATE:20241026
DTSTAMP:20260421T141709
CREATED:20241016T140931Z
LAST-MODIFIED:20241016T140931Z
UID:10004312-1729814400-1729900799@jerseybee.org
SUMMARY:Essex County Environmental Center October 2024 "S'mores n'More Night Hike"
DESCRIPTION:“S’mores n’More Night Hike” for families planned by Essex County Environmental Center on Oct. 25 in Roseland. It is from 6:30-7:30 p.m. Programing will focus on fire building and fire safety skills. Tickets are available online for purchase. \nFrom Essex County Environmental Center. \nThis information is accurate as of when it was published. Check with the event coordinator for the latest details.
URL:https://jerseybee.org/event/essex-county-environmental-center-october-2024-smores-nmore-night-hike/
CATEGORIES:Essex County
ATTACH;FMTTYPE=image/jpeg:https://jerseybee.org/wp-content/uploads/2023/09/SingleBee_7.jpeg
END:VEVENT
BEGIN:VEVENT
DTSTART;VALUE=DATE:20241025
DTEND;VALUE=DATE:20241026
DTSTAMP:20260421T141709
CREATED:20241016T153058Z
LAST-MODIFIED:20241016T153058Z
UID:10004331-1729814400-1729900799@jerseybee.org
SUMMARY:Real Dance Music October 2024 Latin Heritage Party Dance Class
DESCRIPTION:Latin heritage party and dance class planned by Real Dance Music on Oct. 25 in West Orange. The event is from 4-6 p.m. at West Orange Arts Center\, 551 Valley Rd. It is $10 for children and $3 per sibling. Parents enter for free. Payments accepted at the door. \nFrom Reel Dance Music. \nThis information is accurate as of when it was published. Check with the event coordinator for the latest details.
URL:https://jerseybee.org/event/real-dance-music-october-2024-latin-heritage-party-dance-class/
CATEGORIES:Maplewood,South Orange,West Orange
ATTACH;FMTTYPE=image/jpeg:https://jerseybee.org/wp-content/uploads/2023/09/SingleBee_2.jpeg
END:VEVENT
BEGIN:VEVENT
DTSTART;VALUE=DATE:20241025
DTEND;VALUE=DATE:20241026
DTSTAMP:20260421T141709
CREATED:20241016T153319Z
LAST-MODIFIED:20241016T153319Z
UID:10004332-1729814400-1729900799@jerseybee.org
SUMMARY:South Orange-Maplewood Adult School October 2024 "Monster Bawl" Halloween Dance Party
DESCRIPTION:“Monster Bawl” Halloween dance party for ages 21+ planned by South Orange-Maplewood Adult School on Oct. 25 in Maplewood. The event is from 7:30-11 p.m. at The Woodland\, 60 Woodland Rd. There will be live music\, best costume competitions\, drinks\, and snacks. Tickets are $40 in advance and $50 at the door. \nFrom South Orange-Maplewood Adult School. \nThis information is accurate as of when it was published. Check with the event coordinator for the latest details.
URL:https://jerseybee.org/event/south-orange-maplewood-adult-school-october-2024-monster-bawl-halloween-dance-party/
CATEGORIES:Essex County,Maplewood,South Orange
ATTACH;FMTTYPE=image/jpeg:https://jerseybee.org/wp-content/uploads/2023/09/SingleBee_10.jpeg
END:VEVENT
BEGIN:VEVENT
DTSTART;VALUE=DATE:20241025
DTEND;VALUE=DATE:20241026
DTSTAMP:20260421T141709
CREATED:20241016T153459Z
LAST-MODIFIED:20241016T153459Z
UID:10004333-1729814400-1729900799@jerseybee.org
SUMMARY:Belleville Elementary School 3 HSA 2024 Trunk or Treat and Vendor Sale
DESCRIPTION:Trunk or Treat and vendor sale planned by Belleville Elementary School 3’s Home and School Association on Oct. 25. It is from 5-8 p.m. at Belleville Senior Recreation Center. There will be an ice cream truck\, music\, games\, and several vendors. Admission is $5 per child.  \nFrom Belleville Elementary School #3 HSA. \nThis information is accurate as of when it was published. Check with the event coordinator for the latest details.
URL:https://jerseybee.org/event/belleville-elementary-school-3-hsa-2024-trunk-or-treat-and-vendor-sale/
CATEGORIES:Belleville
ATTACH;FMTTYPE=image/jpeg:https://jerseybee.org/wp-content/uploads/2023/09/SingleBee_10.jpeg
END:VEVENT
BEGIN:VEVENT
DTSTART;VALUE=DATE:20241025
DTEND;VALUE=DATE:20241026
DTSTAMP:20260421T141709
CREATED:20241017T143412Z
LAST-MODIFIED:20241017T143412Z
UID:10004349-1729814400-1729900799@jerseybee.org
SUMMARY:Make The Road NJ October 2024 "Driving School Classes"
DESCRIPTION:Individuals can attend Make The Road NJ’s virtual written driving exam classes starting Oct. 25. Classes are Fridays from 6-9 p.m. in Spanish. They are designed for people regardless of immigration status who are applying for a N.J. driver’s license. Registration is $15 for non-members and free for members. \nFrom Make The Road NJ. \nThis information is accurate as of when it was published. Check with the event coordinator for the latest details.
URL:https://jerseybee.org/event/make-the-road-nj-october-2024-driving-school-classes/
CATEGORIES:Essex County
ATTACH;FMTTYPE=image/jpeg:https://jerseybee.org/wp-content/uploads/2023/09/SingleBee_5.jpeg
END:VEVENT
BEGIN:VEVENT
DTSTART;VALUE=DATE:20241025
DTEND;VALUE=DATE:20241026
DTSTAMP:20260421T141709
CREATED:20241017T145147Z
LAST-MODIFIED:20241017T145147Z
UID:10004352-1729814400-1729900799@jerseybee.org
SUMMARY:CASA Essex County October 2024 Volunteer Information Session
DESCRIPTION:Virtual volunteer information session planned by CASA Essex County\, a social service for local youth\, on Oct. 25 and 28. It begins at 10 a.m. on Oct. 25 and 6 p.m. Oct 258. It will discuss ways to volunteer. Registration by email required. \nFrom CASA Essex County. \nThis information is accurate as of when it was published. Check with the event coordinator for the latest details.
URL:https://jerseybee.org/event/casa-essex-county-october-2024-volunteer-information-session-2/
CATEGORIES:Essex County
ATTACH;FMTTYPE=image/jpeg:https://jerseybee.org/wp-content/uploads/2023/09/SingleBee_5.jpeg
END:VEVENT
BEGIN:VEVENT
DTSTART;VALUE=DATE:20241025
DTEND;VALUE=DATE:20241026
DTSTAMP:20260421T141709
CREATED:20241017T145609Z
LAST-MODIFIED:20241017T145609Z
UID:10004354-1729814400-1729900799@jerseybee.org
SUMMARY:Newark October 2024 ANCHOR Program Workshop
DESCRIPTION:Newark-area homeowners and renters can attend a workshop discussing N.J.’s tax relief ANCHOR program on Oct. 25. Program benefits include up to $700 for renters and up to $1\,750 for homeowners. NJ-29 Rep. Eliana Pintor Marin will lead the workshop from 11 a.m. to 2 p.m. at Ironbound Community Corporation Family Success Center\, 29 Cortland St. It will discuss program eligibility and application processes.  \nFrom Ironbound Community Corporation. \nThis information is accurate as of when it was published. Check with the event coordinator for the latest details.
URL:https://jerseybee.org/event/newark-october-2024-anchor-program-workshop-4/
CATEGORIES:Newark
ATTACH;FMTTYPE=image/jpeg:https://jerseybee.org/wp-content/uploads/2023/09/SingleBee_8.jpeg
END:VEVENT
BEGIN:VEVENT
DTSTART;VALUE=DATE:20241025
DTEND;VALUE=DATE:20241026
DTSTAMP:20260421T141709
CREATED:20241017T150426Z
LAST-MODIFIED:20241017T150426Z
UID:10004358-1729814400-1729900799@jerseybee.org
SUMMARY:Bloomfield Library October 2024 "Book A Librarian"
DESCRIPTION:Bloomfield library patrons can book one-on-one appointments with librarians on Oct. 25. In-person 30-minute appointments are Fridays between 10:30 a.m. and 12:30 p.m. Bloomfield residents can schedule an appointment for basic technology assistance\, finding library resources\, and research. Appointments are available in-person or on Zoom. \nFrom Bloomfield Public Library. \nThis information is accurate as of when it was published. Check with the event coordinator for the latest details.
URL:https://jerseybee.org/event/bloomfield-library-october-2024-book-a-librarian-4/
CATEGORIES:Bloomfield
ATTACH;FMTTYPE=image/jpeg:https://jerseybee.org/wp-content/uploads/2023/09/SingleBee_3.jpeg
END:VEVENT
BEGIN:VEVENT
DTSTART;VALUE=DATE:20241025
DTEND;VALUE=DATE:20241026
DTSTAMP:20260421T141709
CREATED:20241017T152206Z
LAST-MODIFIED:20241017T152206Z
UID:10004362-1729814400-1729900799@jerseybee.org
SUMMARY:Ironbound Community Corporation 2024 Breast Cancer and Domestic Violence Awareness Month Candlelight Vigil
DESCRIPTION:Candlelight vigil in honor of Breast Cancer and Domestic Violence Awareness Month planned by Ironbound Community Corporation on Oct. 25 in Newark. It is from 5:30-7:30 p.m. at Independence Park. There will be a tribute ceremony\, moment of silence\, and stories from survivors. \nFrom Ironbound Community Corporation. \nThis information is accurate as of when it was published. Check with the event coordinator for the latest details.
URL:https://jerseybee.org/event/ironbound-community-corporation-2024-breast-cancer-and-domestic-violence-awareness-month-candlelight-vigil/
CATEGORIES:Newark
ATTACH;FMTTYPE=image/jpeg:https://jerseybee.org/wp-content/uploads/2023/09/SingleBee_7.jpeg
END:VEVENT
BEGIN:VEVENT
DTSTART;VALUE=DATE:20241025
DTEND;VALUE=DATE:20241026
DTSTAMP:20260421T141709
CREATED:20241017T152206Z
LAST-MODIFIED:20241017T152206Z
UID:10004363-1729814400-1729900799@jerseybee.org
SUMMARY:East Orange Library October 2024 "Spooky Story Workshop"
DESCRIPTION:Free horror story writing workshop for youth in grades 8-12 planned by East Orange library on Oct. 25. Attendees will write and workshop short stories from 4-5:30 p.m. \nFrom East Orange Public Library. \nThis information is accurate as of when it was published. Check with the event coordinator for the latest details.
URL:https://jerseybee.org/event/east-orange-library-october-2024-spooky-story-workshop/
CATEGORIES:East Orange,Orange
ATTACH;FMTTYPE=image/jpeg:https://jerseybee.org/wp-content/uploads/2023/09/Artboard-1_1.jpeg
END:VEVENT
BEGIN:VEVENT
DTSTART;VALUE=DATE:20241025
DTEND;VALUE=DATE:20241026
DTSTAMP:20260421T141710
CREATED:20241017T152209Z
LAST-MODIFIED:20241017T152209Z
UID:10004364-1729814400-1729900799@jerseybee.org
SUMMARY:Newark Library October 2024 Halloween Bag Decorating Session
DESCRIPTION:Newark-area youth can decorate Halloween-themed bags for trick-or-treating at Newark library on Oct. 25 in the North End Branch. It is from 3:30-4:30 p.m. Registration is required. \nFrom Newark Public Library. \nThis information is accurate as of when it was published. Check with the event coordinator for the latest details.
URL:https://jerseybee.org/event/newark-library-october-2024-halloween-bag-decorating-session/
CATEGORIES:Newark
ATTACH;FMTTYPE=image/jpeg:https://jerseybee.org/wp-content/uploads/2023/09/SingleBee_5.jpeg
END:VEVENT
BEGIN:VEVENT
DTSTART;VALUE=DATE:20241025
DTEND;VALUE=DATE:20241026
DTSTAMP:20260421T141710
CREATED:20241017T152212Z
LAST-MODIFIED:20241017T152212Z
UID:10004369-1729814400-1729900799@jerseybee.org
SUMMARY:East Orange Library October 2024 Cooking Demo: Rice Dish
DESCRIPTION:Free cooking demo for adults planned by East Orange library on Oct. 25. Participants will learn how to make a rice dish from 4-5:30 p.m. and receive ingredients to make it at home. Registration is required. \nFrom East Orange Public Library. \nThis information is accurate as of when it was published. Check with the event coordinator for the latest details.
URL:https://jerseybee.org/event/east-orange-library-october-2024-cooking-demo-rice-dish/
CATEGORIES:East Orange,Orange
ATTACH;FMTTYPE=image/jpeg:https://jerseybee.org/wp-content/uploads/2023/09/SingleBee_3.jpeg
END:VEVENT
BEGIN:VEVENT
DTSTART;VALUE=DATE:20241025
DTEND;VALUE=DATE:20241026
DTSTAMP:20260421T141710
CREATED:20241017T162030Z
LAST-MODIFIED:20241017T162030Z
UID:10004377-1729814400-1729900799@jerseybee.org
SUMMARY:Pastoralist Child Foundation October 2024 Celebration and Fundraiser
DESCRIPTION:Pastoralist Child Foundation celebration and fundraiser planned on Oct. 25 in Glen Ridge. The event is from 7-10 p.m. at Glen Ridge Country Club\, 555 Ridgewood Ave. There will be silent auctions that benefit the foundation’s services for women and young girls’ rights. Tickets available online.  \nFrom Pastoralist Child Foundation. \nThis information is accurate as of when it was published. Check with the event coordinator for the latest details.
URL:https://jerseybee.org/event/pastoralist-child-foundation-october-2024-celebration-and-fundraiser/
CATEGORIES:Bloomfield,Glen Ridge,Montclair,West Orange
ATTACH;FMTTYPE=image/jpeg:https://jerseybee.org/wp-content/uploads/2023/09/SingleBee_10.jpeg
END:VEVENT
BEGIN:VEVENT
DTSTART;VALUE=DATE:20241025
DTEND;VALUE=DATE:20241026
DTSTAMP:20260421T141710
CREATED:20241017T182943Z
LAST-MODIFIED:20241017T182943Z
UID:10004380-1729814400-1729900799@jerseybee.org
SUMMARY:West Orange Public Library's October 2024 "Read to a Therapy Dog"
DESCRIPTION:West Orange children can read to a therapy dog at West Orange library on Oct. 25. Participants will take turns reading from 4-5 p.m. Participants should either bring their own reading material or arrive early to select something from the library’s collection before the event. \nFrom West Orange Public Library. \nThis information is accurate as of when it was published. Check with the event coordinator for the latest details.
URL:https://jerseybee.org/event/west-orange-public-librarys-october-2024-read-to-a-therapy-dog/
CATEGORIES:West Orange
ATTACH;FMTTYPE=image/jpeg:https://jerseybee.org/wp-content/uploads/2023/09/SingleBee_4.jpeg
END:VEVENT
BEGIN:VEVENT
DTSTART;VALUE=DATE:20241025
DTEND;VALUE=DATE:20241026
DTSTAMP:20260421T141710
CREATED:20241021T185353Z
LAST-MODIFIED:20241021T185353Z
UID:10004390-1729814400-1729900799@jerseybee.org
SUMMARY:Newark Public Safety October 2024 Fourth Precinct Community Meeting: Central Ward
DESCRIPTION:Public meeting planned by Newark police on Oct. 25 in the Central Ward and online. Fourth precinct substation officers will discuss trends\, safety tips\, quality of life issues\, and upcoming events from 6-7 p.m. at Allen AME Church in Newark. \nFrom Newark Public Safety. \nThis information is accurate as of when it was published. Check with the event coordinator for the latest details.
URL:https://jerseybee.org/event/newark-public-safety-october-2024-fourth-precinct-community-meeting-central-ward-2/
CATEGORIES:Newark
ATTACH;FMTTYPE=image/jpeg:https://jerseybee.org/wp-content/uploads/2023/09/SingleBee_9.jpeg
END:VEVENT
BEGIN:VEVENT
DTSTART;VALUE=DATE:20241025
DTEND;VALUE=DATE:20241026
DTSTAMP:20260421T141710
CREATED:20241022T171007Z
LAST-MODIFIED:20241022T171007Z
UID:10004429-1729814400-1729900799@jerseybee.org
SUMMARY:Newark Mayor Ras Baraka October 2024 "Men's Meeting"
DESCRIPTION:Monthly “Men’s Meeting” with Newark Mayor Ras Baraka planned on Oct. 25. Newark men will discuss civic engagement\, small business and government\, and property development at 6 p.m. at Central High School. \nFrom Newark City. \nThis information is accurate as of when it was published. Check with the event coordinator for the latest details.
URL:https://jerseybee.org/event/newark-mayor-ras-baraka-october-2024-mens-meeting/
CATEGORIES:Newark
ATTACH;FMTTYPE=image/jpeg:https://jerseybee.org/wp-content/uploads/2023/09/SingleBee_10.jpeg
END:VEVENT
END:VCALENDAR