BEGIN:VCALENDAR
VERSION:2.0
PRODID:-//The Jersey Bee - ECPv6.15.12.2//NONSGML v1.0//EN
CALSCALE:GREGORIAN
METHOD:PUBLISH
X-ORIGINAL-URL:https://jerseybee.org
X-WR-CALDESC:Events for The Jersey Bee
REFRESH-INTERVAL;VALUE=DURATION:PT1H
X-Robots-Tag:noindex
X-PUBLISHED-TTL:PT1H
BEGIN:VTIMEZONE
TZID:America/Toronto
BEGIN:DAYLIGHT
TZOFFSETFROM:-0500
TZOFFSETTO:-0400
TZNAME:EDT
DTSTART:20240310T070000
END:DAYLIGHT
BEGIN:STANDARD
TZOFFSETFROM:-0400
TZOFFSETTO:-0500
TZNAME:EST
DTSTART:20241103T060000
END:STANDARD
BEGIN:DAYLIGHT
TZOFFSETFROM:-0500
TZOFFSETTO:-0400
TZNAME:EDT
DTSTART:20250309T070000
END:DAYLIGHT
BEGIN:STANDARD
TZOFFSETFROM:-0400
TZOFFSETTO:-0500
TZNAME:EST
DTSTART:20251102T060000
END:STANDARD
BEGIN:DAYLIGHT
TZOFFSETFROM:-0500
TZOFFSETTO:-0400
TZNAME:EDT
DTSTART:20260308T070000
END:DAYLIGHT
BEGIN:STANDARD
TZOFFSETFROM:-0400
TZOFFSETTO:-0500
TZNAME:EST
DTSTART:20261101T060000
END:STANDARD
END:VTIMEZONE
BEGIN:VEVENT
DTSTART;VALUE=DATE:20250422
DTEND;VALUE=DATE:20250423
DTSTAMP:20260425T065819
CREATED:20250415T165721Z
LAST-MODIFIED:20250415T165721Z
UID:10006327-1745280000-1745366399@jerseybee.org
SUMMARY:West Orange 2025 Earth Day Yard Cleanup
DESCRIPTION:West Orange seeks volunteers for yard cleanup on Earth Day\, Apr. 22. It is from 8 a.m. to 3 p.m. and the meet-up location is West Orange Town Hall’s parking lot. Sign up by email. \nFrom West Orange Township. \nThis information is accurate as of when it was published. Check with the event coordinator for the latest details.
URL:https://jerseybee.org/event/west-orange-2025-earth-day-yard-cleanup/
CATEGORIES:West Orange
ATTACH;FMTTYPE=image/jpeg:https://jerseybee.org/wp-content/uploads/2023/09/SingleBee_10.jpeg
END:VEVENT
BEGIN:VEVENT
DTSTART;VALUE=DATE:20250422
DTEND;VALUE=DATE:20250423
DTSTAMP:20260425T065819
CREATED:20250415T165904Z
LAST-MODIFIED:20250415T165904Z
UID:10006329-1745280000-1745366399@jerseybee.org
SUMMARY:Montclair FIlm April 2025 "River" Screening\, Discussion
DESCRIPTION:Film screening and discussion of “River” planned with Montclair Film on Apr. 22. It begins at 7 p.m. at The Clairidge\, 486 Bloomfield Ave. A Q&A with The Nature Conservancy will follow. All attendees will receive a reusable bag. Tickets available online for purchase. \nFrom Montclair Film. \nThis information is accurate as of when it was published. Check with the event coordinator for the latest details.
URL:https://jerseybee.org/event/montclair-film-april-2025-river-screening-discussion/
CATEGORIES:Belleville,Bloomfield,Glen Ridge,Montclair,Nutley,West Orange
ATTACH;FMTTYPE=image/jpeg:https://jerseybee.org/wp-content/uploads/2023/09/Artboard-1_1.jpeg
END:VEVENT
BEGIN:VEVENT
DTSTART;VALUE=DATE:20250422
DTEND;VALUE=DATE:20250423
DTSTAMP:20260425T065819
CREATED:20250415T171518Z
LAST-MODIFIED:20250415T171518Z
UID:10006330-1745280000-1745366399@jerseybee.org
SUMMARY:PMCHNJ April 2025 DIY Pinwheel Craft
DESCRIPTION:DIY pinwheel craft for families planned with Partnership for Maternal and Child Health of Northern NJ on Apr. 22 in Irvington. It is from 3:30-4:30 p.m. at Unity Family Success Center\, 50 Union Ave. The free event is in recognition of Child Abuse Prevention Awareness Month. Registration required. \nFrom Partnership for Maternal and Child Health of Northern NJ. \nThis information is accurate as of when it was published. Check with the event coordinator for the latest details.
URL:https://jerseybee.org/event/pmchnj-april-2025-diy-pinwheel-craft/
CATEGORIES:Irvington
ATTACH;FMTTYPE=image/jpeg:https://jerseybee.org/wp-content/uploads/2023/09/Artboard-1_1.jpeg
END:VEVENT
BEGIN:VEVENT
DTSTART;VALUE=DATE:20250422
DTEND;VALUE=DATE:20250423
DTSTAMP:20260425T065819
CREATED:20250415T171519Z
LAST-MODIFIED:20250415T171519Z
UID:10006331-1745280000-1745366399@jerseybee.org
SUMMARY:Mountainside Medical Center April 2025 Blood Pressure\, Glucose Screenings
DESCRIPTION:Free blood pressure and glucose screenings planned with Mountainside Medical Center on Apr. 22 in Montclair. It is from 111 a.m. to 1 p.m. at Montclair library’s Main Branch. Registration not required. \nFrom Mountainside Medical Center. \nThis information is accurate as of when it was published. Check with the event coordinator for the latest details.
URL:https://jerseybee.org/event/mountainside-medical-center-april-2025-blood-pressure-glucose-screenings/
CATEGORIES:Belleville,Bloomfield,Glen Ridge,Montclair,Nutley
ATTACH;FMTTYPE=image/jpeg:https://jerseybee.org/wp-content/uploads/2023/09/SingleBee_2.jpeg
END:VEVENT
BEGIN:VEVENT
DTSTART;VALUE=DATE:20250422
DTEND;VALUE=DATE:20250423
DTSTAMP:20260425T065819
CREATED:20250415T171746Z
LAST-MODIFIED:20250415T171746Z
UID:10006332-1745280000-1745366399@jerseybee.org
SUMMARY:Nutley April 2025 Rabies Vaccination Clinic
DESCRIPTION:Nutley residents can bring their cats and dogs to a free rabies vaccination clinic planned on Apr. 22. It is from 4-7:30 p.m. at Chestnut Street Firehouse\, 228 Chestnut St. Preregistration required.  \nFrom Nutley Township. \nThis information is accurate as of when it was published. Check with the event coordinator for the latest details.
URL:https://jerseybee.org/event/nutley-april-2025-rabies-vaccination-clinic/
CATEGORIES:Nutley
ATTACH;FMTTYPE=image/jpeg:https://jerseybee.org/wp-content/uploads/2023/09/SingleBee_7.jpeg
END:VEVENT
BEGIN:VEVENT
DTSTART;VALUE=DATE:20250422
DTEND;VALUE=DATE:20250423
DTSTAMP:20260425T065819
CREATED:20250415T171748Z
LAST-MODIFIED:20250415T171748Z
UID:10006333-1745280000-1745366399@jerseybee.org
SUMMARY:Essex County Environmental Center April 2025 Garden Discovery Club Meeting
DESCRIPTION:Children ages 5+ can attend Essex County Environmental Center’s Garden Discovery Club meeting on Apr. 22 in Roseland. It is from 4-5 p.m. and meets monthly through Sep. 9. Participants will explore composting\, planting\, weeding\, and more. Sessions are $15. This is a drop-off event. Registration available online. \nFrom Essex County Parks. \nThis information is accurate as of when it was published. Check with the event coordinator for the latest details.
URL:https://jerseybee.org/event/essex-county-environmental-center-april-2025-garden-discovery-club-meeting/
CATEGORIES:Essex County
ATTACH;FMTTYPE=image/jpeg:https://jerseybee.org/wp-content/uploads/2023/09/SingleBee_6.jpeg
END:VEVENT
BEGIN:VEVENT
DTSTART;VALUE=DATE:20250422
DTEND;VALUE=DATE:20250423
DTSTAMP:20260425T065819
CREATED:20250415T173455Z
LAST-MODIFIED:20250415T173455Z
UID:10006334-1745280000-1745366399@jerseybee.org
SUMMARY:Nutley Library April 2025 Painting Session\, Fundraiser with Pinot's Palette
DESCRIPTION:Painting session and fundraiser supporting Nutley library planned with Pinot’s Palette on Apr. 22. It is from 7-9:30 p.m. at 510 Franklin Ave. Participants will paint a personalized wooden door hanging. Admission is $40. Register online. \nFrom Friends of the Nutley Public Library. \nThis information is accurate as of when it was published. Check with the event coordinator for the latest details.
URL:https://jerseybee.org/event/nutley-library-april-2025-painting-session-fundraiser-with-pinots-palette/
CATEGORIES:Belleville,Nutley
ATTACH;FMTTYPE=image/jpeg:https://jerseybee.org/wp-content/uploads/2023/09/Artboard-1_1.jpeg
END:VEVENT
BEGIN:VEVENT
DTSTART;VALUE=DATE:20250422
DTEND;VALUE=DATE:20250424
DTSTAMP:20260425T065819
CREATED:20250415T163841Z
LAST-MODIFIED:20250415T163841Z
UID:10006325-1745280000-1745452799@jerseybee.org
SUMMARY:Make The Road NJ 2025 "Spring Preview"
DESCRIPTION:High school students can attend Make The Road NJ’s “Spring Preview” event on Apr. 22-23 in Elizabeth. It is from 11 a.m. to 2 p.m. at 42 Broad St. There will be information about grade 12\, how to build transcripts for college applications\, and more. Food provided. Community service hours available. Registration required. \nFrom Make The Road NJ. \nThis information is accurate as of when it was published. Check with the event coordinator for the latest details.
URL:https://jerseybee.org/event/make-the-road-nj-2025-spring-preview/
CATEGORIES:Essex County
ATTACH;FMTTYPE=image/jpeg:https://jerseybee.org/wp-content/uploads/2023/09/SingleBee_5.jpeg
END:VEVENT
BEGIN:VEVENT
DTSTART;VALUE=DATE:20250423
DTEND;VALUE=DATE:20250424
DTSTAMP:20260425T065819
CREATED:20250416T215200Z
LAST-MODIFIED:20250416T215200Z
UID:10006342-1745366400-1745452799@jerseybee.org
SUMMARY:Out Montclair April 2025 "Spreed Friending"
DESCRIPTION:“Speed Friending” planned with Out Montclair on Apr. 23. It is from 7-9:30 p.m. at Just Jake’s\, 30 Park St. Admission is free\, but a $10 donation to Out Montclair is encouraged. Tickets required. \nFrom Out Montclair. \nThis information is accurate as of when it was published. Check with the event coordinator for the latest details.
URL:https://jerseybee.org/event/out-montclair-april-2025-spreed-friending/
CATEGORIES:Bloomfield,Glen Ridge,Montclair,Nutley
ATTACH;FMTTYPE=image/jpeg:https://jerseybee.org/wp-content/uploads/2023/09/SingleBee_6.jpeg
END:VEVENT
BEGIN:VEVENT
DTSTART;VALUE=DATE:20250423
DTEND;VALUE=DATE:20250424
DTSTAMP:20260425T065819
CREATED:20250416T215201Z
LAST-MODIFIED:20250416T215201Z
UID:10006341-1745366400-1745452799@jerseybee.org
SUMMARY:Newark April 2025 Denim Day: Art-Making Party
DESCRIPTION:Art-making party in recognition of Denim Day\, a sexual violence prevention and education campaign\, planned with Newark on Apr. 23. It is from 4-7 p.m. at Office of Violence Prevention and Trauma Recovery\, 10 17th Ave. Attendees can create posters\, signs\, and other messaging for Denim Day. Participants should bring old or new jeans for art. Register by email. \nFrom Newark City. \nThis information is accurate as of when it was published. Check with the event coordinator for the latest details.
URL:https://jerseybee.org/event/newark-april-2025-denim-day-art-making-party/
CATEGORIES:Newark
ATTACH;FMTTYPE=image/jpeg:https://jerseybee.org/wp-content/uploads/2023/09/SingleBee_8.jpeg
END:VEVENT
BEGIN:VEVENT
DTSTART;VALUE=DATE:20250423
DTEND;VALUE=DATE:20250424
DTSTAMP:20260425T065819
CREATED:20250416T215353Z
LAST-MODIFIED:20250416T215353Z
UID:10006344-1745366400-1745452799@jerseybee.org
SUMMARY:Nutley Recreation April 2025 Tackle Football Registration
DESCRIPTION:Nutley youth ages 8-15 can register for tackle football through the township’s recreation department on Apr. 23. Registration is from 6-8 p.m. at the recreation building. Fee is $200 per player.  \nFrom Nutley Township. \nThis information is accurate as of when it was published. Check with the event coordinator for the latest details.
URL:https://jerseybee.org/event/nutley-recreation-april-2025-tackle-football-registration/
CATEGORIES:Nutley
ATTACH;FMTTYPE=image/jpeg:https://jerseybee.org/wp-content/uploads/2023/09/SingleBee_4.jpeg
END:VEVENT
BEGIN:VEVENT
DTSTART;VALUE=DATE:20250423
DTEND;VALUE=DATE:20250424
DTSTAMP:20260425T065819
CREATED:20250416T215355Z
LAST-MODIFIED:20250416T215355Z
UID:10006346-1745366400-1745452799@jerseybee.org
SUMMARY:Bloomfield April 2025 Information Session: Municipal PILOTs
DESCRIPTION:Municipal PILOTs information session with Bloomfield Mayor Jenny Mundell planned virtually on Apr. 23. It begins at 7 p.m. on Zoom\, and will be live-streamed on Facebook. Attendees will learn how municipalities use Payment in Lieu of Taxes (PILOTs) for redevelopment. \nFrom Bloomfield Township. \nThis information is accurate as of when it was published. Check with the event coordinator for the latest details.
URL:https://jerseybee.org/event/bloomfield-april-2025-information-session-municipal-pilots/
CATEGORIES:Bloomfield
ATTACH;FMTTYPE=image/jpeg:https://jerseybee.org/wp-content/uploads/2023/09/SingleBee_7.jpeg
END:VEVENT
BEGIN:VEVENT
DTSTART;VALUE=DATE:20250423
DTEND;VALUE=DATE:20250424
DTSTAMP:20260425T065819
CREATED:20250416T215549Z
LAST-MODIFIED:20250416T215549Z
UID:10006347-1745366400-1745452799@jerseybee.org
SUMMARY:Newark Library April 2025 Author Talk\, Signing with William Peniston
DESCRIPTION:Author talk and signing with William Peniston planned at Newark library’s Main Branch on Apr. 23. Peniston will discuss his book “Newark Public Library” starting at 6 p.m. Signing will follow. Books will be available on site for purchase. \nFrom Newark Public Library. \nThis information is accurate as of when it was published. Check with the event coordinator for the latest details.
URL:https://jerseybee.org/event/newark-library-april-2025-author-talk-signing-with-william-peniston/
CATEGORIES:Newark
ATTACH;FMTTYPE=image/jpeg:https://jerseybee.org/wp-content/uploads/2023/09/SingleBee_2.jpeg
END:VEVENT
BEGIN:VEVENT
DTSTART;VALUE=DATE:20250423
DTEND;VALUE=DATE:20250424
DTSTAMP:20260425T065819
CREATED:20250416T215552Z
LAST-MODIFIED:20250416T215552Z
UID:10006349-1745366400-1745452799@jerseybee.org
SUMMARY:PMCHNJ April 2025 Nutrition Information Webinar
DESCRIPTION:Information webinar on nutrition planned with Partnership for Maternal and Child Health of Northern NJ on Apr. 23. It is from 4-5 p.m. and will discuss nutrients\, meal-planning\, and energizing snacks. Registration required. \nFrom Partnership for Maternal and Child Health of Northern NJ. \nThis information is accurate as of when it was published. Check with the event coordinator for the latest details.
URL:https://jerseybee.org/event/pmchnj-april-2025-nutrition-information-webinar/
CATEGORIES:Essex County
ATTACH;FMTTYPE=image/jpeg:https://jerseybee.org/wp-content/uploads/2023/09/Artboard-1_1.jpeg
END:VEVENT
BEGIN:VEVENT
DTSTART;VALUE=DATE:20250423
DTEND;VALUE=DATE:20250424
DTSTAMP:20260425T065819
CREATED:20250416T215944Z
LAST-MODIFIED:20250416T215944Z
UID:10006351-1745366400-1745452799@jerseybee.org
SUMMARY:East Orange Campus High School April 2025 "Career and Technical Education Open House"
DESCRIPTION:East Orange Campus High School to host “Career and Technical Education open house” for middle school families on Apr. 23. The event\, scheduled from 5:30-7:30 p.m.\, will feature a meet and greet with high school teachers and exploring CTE programs. There will be food and giveaways. Registration required. \nFrom East Orange Public Schools. \nThis information is accurate as of when it was published. Check with the event coordinator for the latest details.
URL:https://jerseybee.org/event/east-orange-campus-high-school-april-2025-career-and-technical-education-open-house/
CATEGORIES:East Orange
ATTACH;FMTTYPE=image/jpeg:https://jerseybee.org/wp-content/uploads/2023/09/SingleBee_6.jpeg
END:VEVENT
BEGIN:VEVENT
DTSTART;VALUE=DATE:20250423
DTEND;VALUE=DATE:20250424
DTSTAMP:20260425T065819
CREATED:20250416T221401Z
LAST-MODIFIED:20250416T221401Z
UID:10006352-1745366400-1745452799@jerseybee.org
SUMMARY:Irvington Library 2025 Spring Show
DESCRIPTION:Spring show for children planned at Irvington library on Apr. 23. It begins at 10 a.m. There will be a a puppet show\, music\, games\, and snacks. Registration not required. \nFrom Irvington Public Library. \nThis information is accurate as of when it was published. Check with the event coordinator for the latest details.
URL:https://jerseybee.org/event/irvington-library-2025-spring-show/
CATEGORIES:East Orange,Irvington,Maplewood,Orange
ATTACH;FMTTYPE=image/jpeg:https://jerseybee.org/wp-content/uploads/2023/09/SingleBee_8.jpeg
END:VEVENT
BEGIN:VEVENT
DTSTART;VALUE=DATE:20250423
DTEND;VALUE=DATE:20250424
DTSTAMP:20260425T065819
CREATED:20250416T221614Z
LAST-MODIFIED:20250416T221614Z
UID:10006353-1745366400-1745452799@jerseybee.org
SUMMARY:Belleville Library April 2025 "Teen Guitars Plus"
DESCRIPTION:Free basic guitar lesson for ages 12+ planned at Belleville library on Apr. 23. The class is from 3-4:30 p.m. Registration is required. \nFrom Belleville Public Library. \nThis information is accurate as of when it was published. Check with the event coordinator for the latest details.
URL:https://jerseybee.org/event/belleville-library-april-2025-teen-guitars-plus/
CATEGORIES:Belleville,Nutley
ATTACH;FMTTYPE=image/jpeg:https://jerseybee.org/wp-content/uploads/2023/09/SingleBee_7.jpeg
END:VEVENT
BEGIN:VEVENT
DTSTART;VALUE=DATE:20250423
DTEND;VALUE=DATE:20250424
DTSTAMP:20260425T065819
CREATED:20250417T185038Z
LAST-MODIFIED:20250417T185038Z
UID:10006383-1745366400-1745452799@jerseybee.org
SUMMARY:Essex County Board of County Commissioners 2025 "Essex County Celebrates Youth"
DESCRIPTION:High school students in West Orange\, Newark\, and Irvington will be honored at the “Essex County Celebrates Youth” on Apr. 23. It will begin at 6 p.m. at the MLK Justice Building. Honorees include Kyley Gary-Grayson\, Sahli Negassi\, Reynamia Soto\, and Irvington High School’s freshman boys’ basketball team. Free admission. \nFrom Carlos Pomares\, VP\, Essex County Commissioners. \nThis information is accurate as of when it was published. Check with the event coordinator for the latest details.
URL:https://jerseybee.org/event/essex-county-board-of-county-commissioners-2025-essex-county-celebrates-youth/
CATEGORIES:Essex County,Irvington,Newark,West Orange
ATTACH;FMTTYPE=image/jpeg:https://jerseybee.org/wp-content/uploads/2023/09/SingleBee_9.jpeg
END:VEVENT
BEGIN:VEVENT
DTSTART;VALUE=DATE:20250423
DTEND;VALUE=DATE:20250424
DTSTAMP:20260425T065819
CREATED:20250423T165303Z
LAST-MODIFIED:20250423T165303Z
UID:10006414-1745366400-1745452799@jerseybee.org
SUMMARY:Montclair Film 2025 Summer Academy Program Registration Open
DESCRIPTION:Students in grades 6-12 can register for Montclair Film’s summer academy program\, scheduled to start Jul. 7. Attendees will learn about the fundamentals of filmmaking and produce films together. The program ends Aug. 1. Tickets available online for purchase. \nFrom Montclair Film. \nThis information is accurate as of when it was published. Check with the event coordinator for the latest details.
URL:https://jerseybee.org/event/montclair-film-2025-summer-academy-program-registration-open/
CATEGORIES:Belleville,Glen Ridge,Montclair,Nutley,West Orange
ATTACH;FMTTYPE=image/jpeg:https://jerseybee.org/wp-content/uploads/2023/09/SingleBee_3.jpeg
END:VEVENT
BEGIN:VEVENT
DTSTART;VALUE=DATE:20250424
DTEND;VALUE=DATE:20250425
DTSTAMP:20260425T065819
CREATED:20250409T174847Z
LAST-MODIFIED:20250409T174847Z
UID:10006271-1745452800-1745539199@jerseybee.org
SUMMARY:East Orange Family Success Center April 2025 Prom Attire Donation Drive
DESCRIPTION:Family Success Center seeks donations of prom dresses\, suits\, and other formal attire by Apr. 24 in East Orange. Donations must be new or gently used. Drop off at 86 South Harrison St. \nFrom West Orange Patch. \nThis information is accurate as of when it was published. Check with the event coordinator for the latest details.
URL:https://jerseybee.org/event/east-orange-family-success-center-april-2025-prom-attire-donation-drive/
CATEGORIES:East Orange,Essex County
ATTACH;FMTTYPE=image/jpeg:https://jerseybee.org/wp-content/uploads/2023/09/SingleBee_6.jpeg
END:VEVENT
BEGIN:VEVENT
DTSTART;VALUE=DATE:20250424
DTEND;VALUE=DATE:20250425
DTSTAMP:20260425T065819
CREATED:20250414T181319Z
LAST-MODIFIED:20250414T181319Z
UID:10006316-1745452800-1745539199@jerseybee.org
SUMMARY:Nutley Family Service Bureau April 2025 "Inclusive Mental Health Symposium"
DESCRIPTION:“Inclusive Mental Health Symposium” planned virtually with Nutley Family Service Bureau on Apr. 24. It is from 9:30 a.m. to 5:30 p.m. Speakers will discuss unmet needs and access services for people with intellectual development disabilities\, blindness and low vision\, deafness and hearing loss. Registration available online. \nFrom Nutley Family Service Bureau. \nThis information is accurate as of when it was published. Check with the event coordinator for the latest details.
URL:https://jerseybee.org/event/nutley-family-service-bureau-april-2025-inclusive-mental-health-symposium/
CATEGORIES:Essex County,Nutley
ATTACH;FMTTYPE=image/jpeg:https://jerseybee.org/wp-content/uploads/2023/09/SingleBee_6.jpeg
END:VEVENT
BEGIN:VEVENT
DTSTART;VALUE=DATE:20250424
DTEND;VALUE=DATE:20250425
DTSTAMP:20260425T065819
CREATED:20250416T214021Z
LAST-MODIFIED:20250416T214021Z
UID:10006340-1745452800-1745539199@jerseybee.org
SUMMARY:Glen Ridge Library April 2025 Decluttering Workshop with Jamie Novak
DESCRIPTION:Free decluttering workshop for all ages planned virtually with Glen Ridge library on Apr. 24 on Zoom. Organizer and author Jamie Novak will lead the class at 7 p.m. There will be a Q&A session. Registration is required. Open to non-library cardholders. \nFrom Glen Ridge Public Library. \nThis information is accurate as of when it was published. Check with the event coordinator for the latest details.
URL:https://jerseybee.org/event/glen-ridge-library-april-2025-decluttering-workshop-with-jamie-novak/
CATEGORIES:Essex County,Glen Ridge
ATTACH;FMTTYPE=image/jpeg:https://jerseybee.org/wp-content/uploads/2023/09/SingleBee_5.jpeg
END:VEVENT
BEGIN:VEVENT
DTSTART;VALUE=DATE:20250424
DTEND;VALUE=DATE:20250425
DTSTAMP:20260425T065819
CREATED:20250417T170240Z
LAST-MODIFIED:20250417T170240Z
UID:10006355-1745452800-1745539199@jerseybee.org
SUMMARY:Newark Library LGBTQ+ Book Club April 2025 Meeting
DESCRIPTION:LGBTQ+ book club meeting for adults planned at Newark library on Apr. 24 in the Main Branch. Members will discuss “Sorrowland” by Rivers Solomon at 6 p.m. Registration is required. Open to non-library cardholders. \nFrom Newark Public Library. \nThis information is accurate as of when it was published. Check with the event coordinator for the latest details.
URL:https://jerseybee.org/event/newark-library-lgbtq-book-club-april-2025-meeting/
CATEGORIES:Newark
ATTACH;FMTTYPE=image/jpeg:https://jerseybee.org/wp-content/uploads/2023/09/SingleBee_8.jpeg
END:VEVENT
BEGIN:VEVENT
DTSTART;VALUE=DATE:20250424
DTEND;VALUE=DATE:20250425
DTSTAMP:20260425T065819
CREATED:20250417T171401Z
LAST-MODIFIED:20250417T171401Z
UID:10006365-1745452800-1745539199@jerseybee.org
SUMMARY:Nutley Health April 2025 Depression Screening
DESCRIPTION:Free depression screenings planned with Nutley health on Apr. 24. It is from 10 a.m. to 12 p.m. at the health department. Registration by phone required. \nFrom Nutley Health Department. \nThis information is accurate as of when it was published. Check with the event coordinator for the latest details.
URL:https://jerseybee.org/event/nutley-health-april-2025-depression-screening/
CATEGORIES:Nutley
ATTACH;FMTTYPE=image/jpeg:https://jerseybee.org/wp-content/uploads/2023/09/SingleBee_4.jpeg
END:VEVENT
BEGIN:VEVENT
DTSTART;VALUE=DATE:20250424
DTEND;VALUE=DATE:20250425
DTSTAMP:20260425T065819
CREATED:20250417T180731Z
LAST-MODIFIED:20250417T180731Z
UID:10006369-1745452800-1745539199@jerseybee.org
SUMMARY:Montclair April 2025 Fourth Ward Community Meeting
DESCRIPTION:Community meeting with Montclair’s Fourth Ward Councilor Aminah Toler planned on Apr. 24. It begins at 6:30 p.m. at Montclair Fire Headquarters\, 1 Pine St. and will discuss plans for a new pocket park at 399 Orange Rd. A Q&A session will follow. \nFrom Montclair Township. \nThis information is accurate as of when it was published. Check with the event coordinator for the latest details.
URL:https://jerseybee.org/event/montclair-april-2025-fourth-ward-community-meeting/
CATEGORIES:Montclair
ATTACH;FMTTYPE=image/jpeg:https://jerseybee.org/wp-content/uploads/2023/09/SingleBee_10.jpeg
END:VEVENT
BEGIN:VEVENT
DTSTART;VALUE=DATE:20250424
DTEND;VALUE=DATE:20250425
DTSTAMP:20260425T065819
CREATED:20250417T184437Z
LAST-MODIFIED:20250417T184437Z
UID:10006376-1745452800-1745539199@jerseybee.org
SUMMARY:Belleville Library April 2025 LEGO Lab
DESCRIPTION:Children in grades K-6 can visit Belleville library on Apr. 24 to play with LEGO blocks. There are weekly challenges\, but children are not required to participate. It is from 4-4:45 p.m. \nFrom Belleville Public Library. \nThis information is accurate as of when it was published. Check with the event coordinator for the latest details.
URL:https://jerseybee.org/event/belleville-library-april-2025-lego-lab/
CATEGORIES:Belleville,Nutley
ATTACH;FMTTYPE=image/jpeg:https://jerseybee.org/wp-content/uploads/2023/09/Artboard-1_1.jpeg
END:VEVENT
BEGIN:VEVENT
DTSTART;VALUE=DATE:20250424
DTEND;VALUE=DATE:20250425
DTSTAMP:20260425T065819
CREATED:20250417T184441Z
LAST-MODIFIED:20250417T184441Z
UID:10006377-1745452800-1745539199@jerseybee.org
SUMMARY:West Orange Arts Council 2025 "Reimagining Pain Through Art" Opening Reception
DESCRIPTION:Opening reception of “Reimagining Pain Through Art” exhibit planned with West Orange Arts Council on Apr. 24. It is from 5-8 p.m. at 551 Valley Rd. It will feature work by artists who cope with chronic pain through art. Donation of $15 is suggested. Register online. \nFrom West Orange Arts Council. \nThis information is accurate as of when it was published. Check with the event coordinator for the latest details.
URL:https://jerseybee.org/event/west-orange-arts-council-2025-reimagining-pain-through-art-opening-reception/
CATEGORIES:East Orange,Orange,South Orange,West Orange
ATTACH;FMTTYPE=image/jpeg:https://jerseybee.org/wp-content/uploads/2023/09/SingleBee_5.jpeg
END:VEVENT
BEGIN:VEVENT
DTSTART;VALUE=DATE:20250424
DTEND;VALUE=DATE:20250427
DTSTAMP:20260425T065819
CREATED:20250417T182519Z
LAST-MODIFIED:20250417T182519Z
UID:10006374-1745452800-1745711999@jerseybee.org
SUMMARY:Bloomfield Recreation Oakeside Book Club April 2025 Meeting
DESCRIPTION:Oakeside book club meeting planned by Bloomfield recreation on Apr. 24 and Apr. 26. Members will discuss “The God of the Woods” by Liz Moore during one of the two sessions at the Oakeside Cultural Center at 7 p.m. on Apr. 24 or 10 a.m. on Apr. 26. Registration available online. \nFrom Bloomfield Parks\, Recreation\, and Cultural Affairs Department. \nThis information is accurate as of when it was published. Check with the event coordinator for the latest details.
URL:https://jerseybee.org/event/bloomfield-recreation-oakeside-book-club-april-2025-meeting/
CATEGORIES:Bloomfield
ATTACH;FMTTYPE=image/jpeg:https://jerseybee.org/wp-content/uploads/2023/09/Artboard-1_1.jpeg
END:VEVENT
BEGIN:VEVENT
DTSTART;VALUE=DATE:20250425
DTEND;VALUE=DATE:20250426
DTSTAMP:20260425T065819
CREATED:20250331T162505Z
LAST-MODIFIED:20250331T162505Z
UID:10006158-1745539200-1745625599@jerseybee.org
SUMMARY:Maplewood Recreation Spring 2025 Youth Sports Registration Deadline
DESCRIPTION:Maplewood youth can register for spring 2025 sports programs\, scheduled to begin meeting Apr. 25. Offerings include track\, soccer\, T-ball\, and others. All practices are held at Memorial Park Amphitheater. Registration available online. \nFrom Maplewood Recreation Division. \nThis information is accurate as of when it was published. Check with the event coordinator for the latest details.
URL:https://jerseybee.org/event/maplewood-recreation-spring-2025-youth-sports-registration-deadline/
CATEGORIES:Maplewood
ATTACH;FMTTYPE=image/jpeg:https://jerseybee.org/wp-content/uploads/2023/09/Artboard-1_1.jpeg
END:VEVENT
BEGIN:VEVENT
DTSTART;VALUE=DATE:20250425
DTEND;VALUE=DATE:20250426
DTSTAMP:20260425T065819
CREATED:20250408T162611Z
LAST-MODIFIED:20250408T162611Z
UID:10006249-1745539200-1745625599@jerseybee.org
SUMMARY:Newark Affordable Housing April 2025 Preliminary Application Deadline: 64-68 Emmet St.
DESCRIPTION:Eligible Newark residents can submit a preliminary application for affordable housing at 64-68 Emmet St. by Apr. 25. Available affordable housing units include six one-bedrooms. Preliminary applications available online. \nFrom Newark City. \nThis information is accurate as of when it was published. Check with the event coordinator for the latest details.
URL:https://jerseybee.org/event/newark-affordable-housing-april-2025-preliminary-application-deadline-64-68-emmet-st/
CATEGORIES:Newark
ATTACH;FMTTYPE=image/jpeg:https://jerseybee.org/wp-content/uploads/2023/09/SingleBee_5.jpeg
END:VEVENT
END:VCALENDAR