BEGIN:VCALENDAR
VERSION:2.0
PRODID:-//The Jersey Bee - ECPv6.15.12.2//NONSGML v1.0//EN
CALSCALE:GREGORIAN
METHOD:PUBLISH
X-ORIGINAL-URL:https://jerseybee.org
X-WR-CALDESC:Events for The Jersey Bee
REFRESH-INTERVAL;VALUE=DURATION:PT1H
X-Robots-Tag:noindex
X-PUBLISHED-TTL:PT1H
BEGIN:VTIMEZONE
TZID:America/Toronto
BEGIN:DAYLIGHT
TZOFFSETFROM:-0500
TZOFFSETTO:-0400
TZNAME:EDT
DTSTART:20240310T070000
END:DAYLIGHT
BEGIN:STANDARD
TZOFFSETFROM:-0400
TZOFFSETTO:-0500
TZNAME:EST
DTSTART:20241103T060000
END:STANDARD
BEGIN:DAYLIGHT
TZOFFSETFROM:-0500
TZOFFSETTO:-0400
TZNAME:EDT
DTSTART:20250309T070000
END:DAYLIGHT
BEGIN:STANDARD
TZOFFSETFROM:-0400
TZOFFSETTO:-0500
TZNAME:EST
DTSTART:20251102T060000
END:STANDARD
BEGIN:DAYLIGHT
TZOFFSETFROM:-0500
TZOFFSETTO:-0400
TZNAME:EDT
DTSTART:20260308T070000
END:DAYLIGHT
BEGIN:STANDARD
TZOFFSETFROM:-0400
TZOFFSETTO:-0500
TZNAME:EST
DTSTART:20261101T060000
END:STANDARD
END:VTIMEZONE
BEGIN:VEVENT
DTSTART;VALUE=DATE:20250417
DTEND;VALUE=DATE:20250418
DTSTAMP:20260421T120032
CREATED:20250410T185630Z
LAST-MODIFIED:20250410T185630Z
UID:10006279-1744848000-1744934399@jerseybee.org
SUMMARY:Newark April 2025 Community E-Waste Collection
DESCRIPTION:Newark residents can recycle their electronics for free on Apr. 17 in the East Ward. Recycled items are collected at Peter Francisco Park from 7:30 a.m. to 2 p.m. Accepted items include televisions\, computers\, phones\, small household appliances\, and more. Items like mini fridges\, air conditioners\, and loose batteries are not accepted. A complete list of recyclable items is available online. \nFrom Newark City. \nThis information is accurate as of when it was published. Check with the event coordinator for the latest details.
URL:https://jerseybee.org/event/newark-april-2025-community-e-waste-collection/
CATEGORIES:Newark
ATTACH;FMTTYPE=image/jpeg:https://jerseybee.org/wp-content/uploads/2023/09/SingleBee_7.jpeg
END:VEVENT
BEGIN:VEVENT
DTSTART;VALUE=DATE:20250417
DTEND;VALUE=DATE:20250418
DTSTAMP:20260421T120032
CREATED:20250410T192236Z
LAST-MODIFIED:20250410T192236Z
UID:10006284-1744848000-1744934399@jerseybee.org
SUMMARY:Latinos of Montclair April 2025 "Marcello Hernandez Show Afterparty"
DESCRIPTION:“Marcello Hernandez Show Afterparty” planned with Latinos of Montclair on Apr. 17 in Montclair. The event\, scheduled from 6:30 p.m. to 12 a.m.\, follows Hernandez’s performance at the Wellmont Theater. The afterparty is at Porta Montclair\, 499 Bloomfield Ave. There will be Latin music\, specialty drinks and pizza\, and more. Admission is $25. \nFrom Latinos of Montclair. \nThis information is accurate as of when it was published. Check with the event coordinator for the latest details.
URL:https://jerseybee.org/event/latinos-of-montclair-april-2025-marcello-hernandez-show-afterparty/
CATEGORIES:Belleville,Bloomfield,Glen Ridge,Montclair,Nutley
ATTACH;FMTTYPE=image/jpeg:https://jerseybee.org/wp-content/uploads/2023/09/SingleBee_10.jpeg
END:VEVENT
BEGIN:VEVENT
DTSTART;VALUE=DATE:20250417
DTEND;VALUE=DATE:20250418
DTSTAMP:20260421T120032
CREATED:20250410T193637Z
LAST-MODIFIED:20250410T193637Z
UID:10006289-1744848000-1744934399@jerseybee.org
SUMMARY:Newark 2025 State of the City Address
DESCRIPTION:Newark Mayor Ras Baraka will present State of the City address on Apr. 17 at NJPAC. It will begin at 7 p.m. at Prudential Hall. Baraka will discuss Newark’s progress in workforce development\, public health\, and affordable housing\, among other areas. He will also share plans for the city’s future. Free admission. RSVP by calling ward representatives.  \nFrom Newark City. \nThis information is accurate as of when it was published. Check with the event coordinator for the latest details.
URL:https://jerseybee.org/event/newark-2025-state-of-the-city-address/
CATEGORIES:Newark
ATTACH;FMTTYPE=image/jpeg:https://jerseybee.org/wp-content/uploads/2023/09/SingleBee_5.jpeg
END:VEVENT
BEGIN:VEVENT
DTSTART;VALUE=DATE:20250417
DTEND;VALUE=DATE:20250418
DTSTAMP:20260421T120032
CREATED:20250410T195844Z
LAST-MODIFIED:20250410T195844Z
UID:10006291-1744848000-1744934399@jerseybee.org
SUMMARY:Bloomfield April 2025 "Mayor's Information Session: Municipal Budgeting"
DESCRIPTION:Municipal budgeting information session with Bloomfield Mayor Jenny Mundell planned virtually on Apr. 17. It begins at 7 p.m. on Zoom\, and will be live-streamed on Facebook. Attendees will learn about township budgeting and how tax dollars are used. \nFrom Bloomfield Township. \nThis information is accurate as of when it was published. Check with the event coordinator for the latest details.
URL:https://jerseybee.org/event/bloomfield-april-2025-mayors-information-session-municipal-budgeting/
CATEGORIES:Bloomfield
ATTACH;FMTTYPE=image/jpeg:https://jerseybee.org/wp-content/uploads/2023/09/SingleBee_6.jpeg
END:VEVENT
BEGIN:VEVENT
DTSTART;VALUE=DATE:20250417
DTEND;VALUE=DATE:20250418
DTSTAMP:20260421T120032
CREATED:20250410T200038Z
LAST-MODIFIED:20250410T200038Z
UID:10006292-1744848000-1744934399@jerseybee.org
SUMMARY:East Orange April 2025 Foreclosure Seminar with Wessex Mortgage Advocates
DESCRIPTION:Foreclosure seminar planned virtually with East Orange and Wessex Mortgage Advocates on Apr. 17. It is from 5:30-7:30 p.m. and will include ways to navigate the foreclosure process and how to prevent foreclosure. There will be information on legal rights\, financial assistance options\, and more. Registration is required. \nFrom East Orange City. \nThis information is accurate as of when it was published. Check with the event coordinator for the latest details.
URL:https://jerseybee.org/event/east-orange-april-2025-foreclosure-seminar-with-wessex-mortgage-advocates/
CATEGORIES:East Orange,Essex County
ATTACH;FMTTYPE=image/jpeg:https://jerseybee.org/wp-content/uploads/2023/09/SingleBee_6.jpeg
END:VEVENT
BEGIN:VEVENT
DTSTART;VALUE=DATE:20250417
DTEND;VALUE=DATE:20250418
DTSTAMP:20260421T120032
CREATED:20250410T200244Z
LAST-MODIFIED:20250410T200244Z
UID:10006296-1744848000-1744934399@jerseybee.org
SUMMARY:Newark April 2025 "Faith and Community Domestic Violence Workshop"
DESCRIPTION:“Faith and Community Domestic Violence Workshop” planned in Newark on Apr. 17. It is from 9 a.m. to 1 p.m. at 695 Bergen St. Attendees will learn how to recognize healthy and unhealthy relationships and use spiritual values to support survivors. Free admission. Registration is required. \nFrom Newark City. \nThis information is accurate as of when it was published. Check with the event coordinator for the latest details.
URL:https://jerseybee.org/event/newark-april-2025-faith-and-community-domestic-violence-workshop/
CATEGORIES:Newark
ATTACH;FMTTYPE=image/jpeg:https://jerseybee.org/wp-content/uploads/2023/09/SingleBee_6.jpeg
END:VEVENT
BEGIN:VEVENT
DTSTART;VALUE=DATE:20250417
DTEND;VALUE=DATE:20250418
DTSTAMP:20260421T120032
CREATED:20250410T201057Z
LAST-MODIFIED:20250410T201057Z
UID:10006305-1744848000-1744934399@jerseybee.org
SUMMARY:Nutley Chamber of Commerce April 2025 Networking Breakfast
DESCRIPTION:Networking breakfast planned by Nutley Chamber of Commerce on Apr. 17. The breakfast is from 8-9:30 a.m. at Nutley Diner\, 372 Centre St. Tickets available online for purchase. \nFrom Nutley Chamber of Commerce. \nThis information is accurate as of when it was published. Check with the event coordinator for the latest details.
URL:https://jerseybee.org/event/nutley-chamber-of-commerce-april-2025-networking-breakfast/
CATEGORIES:Belleville,Bloomfield,Glen Ridge,Montclair,Nutley
ATTACH;FMTTYPE=image/jpeg:https://jerseybee.org/wp-content/uploads/2023/09/SingleBee_3.jpeg
END:VEVENT
BEGIN:VEVENT
DTSTART;VALUE=DATE:20250417
DTEND;VALUE=DATE:20250418
DTSTAMP:20260421T120032
CREATED:20250414T161643Z
LAST-MODIFIED:20250414T161643Z
UID:10006307-1744848000-1744934399@jerseybee.org
SUMMARY:Hilton Neighborhood Association Meeting with Maplewood Health Department
DESCRIPTION:Maplewood health department will discuss services available through the department with the Hilton Neighborhood Association on Apr. 17. The meeting will begin at 7:30 p.m. at DeHart Community Center. Pizza will be provided. The meeting is open to all Maplewood residents.  \nFrom Hilton Neighborhood Association. \nThis information is accurate as of when it was published. Check with the event coordinator for the latest details.
URL:https://jerseybee.org/event/hilton-neighborhood-association-meeting-with-maplewood-health-department/
CATEGORIES:Maplewood
ATTACH;FMTTYPE=image/jpeg:https://jerseybee.org/wp-content/uploads/2023/09/SingleBee_6.jpeg
END:VEVENT
BEGIN:VEVENT
DTSTART;VALUE=DATE:20250417
DTEND;VALUE=DATE:20250418
DTSTAMP:20260421T120032
CREATED:20250414T162031Z
LAST-MODIFIED:20250414T162031Z
UID:10006308-1744848000-1744934399@jerseybee.org
SUMMARY:Nutley Library's "Sunshine and Good Times Show" Children's Concert
DESCRIPTION:“Sunshine and Good Times Show” concert for children age 2+ planned by Nutley library on Apr. 17. The concert starts at 11 a.m. and will include child-friendly rock and roll songs and comedy storytelling. No registration required. \nFrom Nutley Public Library. \nThis information is accurate as of when it was published. Check with the event coordinator for the latest details.
URL:https://jerseybee.org/event/nutley-librarys-sunshine-and-good-times-show-childrens-concert/
CATEGORIES:Belleville,Nutley
ATTACH;FMTTYPE=image/jpeg:https://jerseybee.org/wp-content/uploads/2023/09/SingleBee_2.jpeg
END:VEVENT
BEGIN:VEVENT
DTSTART;VALUE=DATE:20250417
DTEND;VALUE=DATE:20250418
DTSTAMP:20260421T120032
CREATED:20250414T162615Z
LAST-MODIFIED:20250414T162615Z
UID:10006309-1744848000-1744934399@jerseybee.org
SUMMARY:Ironbound Community Corporation's "Industrial Lift Truck Safety Training Class"
DESCRIPTION:“Industrial Lift Truck Safety Training Class” planned by Ironbound Community Corporation on Apr. 17 in Newark. The class will begin at 9:30 a.m. at 317 Elm St. and will certify participants in forklift safety. Applicants must be 18 years-old and have a government photo ID. Registration is required by email or phone. \nFrom Ironbound Community Corporation. \nThis information is accurate as of when it was published. Check with the event coordinator for the latest details.
URL:https://jerseybee.org/event/ironbound-community-corporations-industrial-lift-truck-safety-training-class/
CATEGORIES:East Orange,Irvington,Newark,Orange
ATTACH;FMTTYPE=image/jpeg:https://jerseybee.org/wp-content/uploads/2023/09/SingleBee_3.jpeg
END:VEVENT
BEGIN:VEVENT
DTSTART;VALUE=DATE:20250417
DTEND;VALUE=DATE:20250418
DTSTAMP:20260421T120032
CREATED:20250416T202252Z
LAST-MODIFIED:20250416T202252Z
UID:10006337-1744848000-1744934399@jerseybee.org
SUMMARY:City of Orange Township 2025 Easter Egg Hunt
DESCRIPTION:Easter egg hunt for children age 513 planned by Orange on Apr. 17. The event is scheduled for 4-6 p.m. at Central Field.  \nFrom City of Orange Township. \nThis information is accurate as of when it was published. Check with the event coordinator for the latest details.
URL:https://jerseybee.org/event/city-of-orange-township-2025-easter-egg-hunt/
CATEGORIES:Orange
ATTACH;FMTTYPE=image/jpeg:https://jerseybee.org/wp-content/uploads/2023/09/SingleBee_4.jpeg
END:VEVENT
BEGIN:VEVENT
DTSTART;VALUE=DATE:20250417
DTEND;VALUE=DATE:20250418
DTSTAMP:20260421T120032
CREATED:20250417T184851Z
LAST-MODIFIED:20250417T184851Z
UID:10006380-1744848000-1744934399@jerseybee.org
SUMMARY:Belleville Recreation 2025 Summer Camp Registration Open
DESCRIPTION:Children in grades K-5 can attend Belleville recreation’s summer camp\, scheduled from Jul. 1 to Aug. 15. It is from 8 a.m. to 4 p.m. with aftercare available from 4-6 p.m. at Belleville High School. Admission is $100 per week or $500 for the full program. Registration required. \nFrom Belleville Recreation Department. \nThis information is accurate as of when it was published. Check with the event coordinator for the latest details.
URL:https://jerseybee.org/event/belleville-recreation-2025-summer-camp-registration-open/
CATEGORIES:Belleville
ATTACH;FMTTYPE=image/jpeg:https://jerseybee.org/wp-content/uploads/2023/09/Artboard-1_1.jpeg
END:VEVENT
BEGIN:VEVENT
DTSTART;VALUE=DATE:20250418
DTEND;VALUE=DATE:20250419
DTSTAMP:20260421T120032
CREATED:20250410T172614Z
LAST-MODIFIED:20250410T172614Z
UID:10006277-1744934400-1745020799@jerseybee.org
SUMMARY:Newark's 4th Precinct 2025 Community Easter Egg Hunt
DESCRIPTION:Newark’s 4th Precinct plans free Easter egg hunt on Apr. 18 at West Side Park. The event will be from 12- 4 p.m. and will include food\, games\, and prizes. \nFrom Newark Public Safety. \nThis information is accurate as of when it was published. Check with the event coordinator for the latest details.
URL:https://jerseybee.org/event/newarks-4th-precinct-2025-community-easter-egg-hunt/
CATEGORIES:Newark
ATTACH;FMTTYPE=image/jpeg:https://jerseybee.org/wp-content/uploads/2023/09/SingleBee_4.jpeg
END:VEVENT
BEGIN:VEVENT
DTSTART;VALUE=DATE:20250418
DTEND;VALUE=DATE:20250419
DTSTAMP:20260421T120032
CREATED:20250410T185836Z
LAST-MODIFIED:20250410T185836Z
UID:10006281-1744934400-1745020799@jerseybee.org
SUMMARY:South Orange Library April 2025 "Virtual Visits"
DESCRIPTION:Video call workshop for adults planned with South Orange library on Apr. 18. It is from 11 a.m. to 12 p.m. at Baird Community Center. Attendees will learn how to join Zoom meetings and troubleshoot common audio and video issues. Registration is required online or by phone. Free admission. \nFrom South Orange Public Library. \nThis information is accurate as of when it was published. Check with the event coordinator for the latest details.
URL:https://jerseybee.org/event/south-orange-library-april-2025-virtual-visits/
CATEGORIES:Maplewood,South Orange
ATTACH;FMTTYPE=image/jpeg:https://jerseybee.org/wp-content/uploads/2023/09/SingleBee_8.jpeg
END:VEVENT
BEGIN:VEVENT
DTSTART;VALUE=DATE:20250418
DTEND;VALUE=DATE:20250419
DTSTAMP:20260421T120032
CREATED:20250410T200040Z
LAST-MODIFIED:20250410T200040Z
UID:10006293-1744934400-1745020799@jerseybee.org
SUMMARY:NJSDA April 2025 Improv Comedy Show with Nutty By Nature
DESCRIPTION:Improv comedy show with “Nutty By Nature” planned by N.J. School of Dramatic Arts on Apr. 18 in East Rutherford. It begins at 8 p.m. at Annabella’s House of Mozzarella\, 900 Paterson Plank Rd. Tickets are $15. \nFrom New Jersey School of Dramatic Arts. \nThis information is accurate as of when it was published. Check with the event coordinator for the latest details.
URL:https://jerseybee.org/event/njsda-april-2025-improv-comedy-show-with-nutty-by-nature/
CATEGORIES:Bloomfield,Glen Ridge,Montclair,Nutley
ATTACH;FMTTYPE=image/jpeg:https://jerseybee.org/wp-content/uploads/2023/09/SingleBee_8.jpeg
END:VEVENT
BEGIN:VEVENT
DTSTART;VALUE=DATE:20250419
DTEND;VALUE=DATE:20250420
DTSTAMP:20260421T120032
CREATED:20250410T185828Z
LAST-MODIFIED:20250410T185828Z
UID:10006280-1745020800-1745107199@jerseybee.org
SUMMARY:Montclair Community Farms 2025 Earth Day Celebration
DESCRIPTION:Earth Day celebration with Montclair Community Farms planned on Apr. 19 in Montclair. It is from 10 a.m. to 1 p.m. at 108 Orange Rd. There will be four stations to learn about bees and chickens. It will also include nature-related crafts and a mock farm stand. Admission is $5. Tickets available online for purchase. \nFrom Montclair Community Farms. \nThis information is accurate as of when it was published. Check with the event coordinator for the latest details.
URL:https://jerseybee.org/event/montclair-community-farms-2025-earth-day-celebration/
CATEGORIES:Bloomfield,Glen Ridge,Montclair
ATTACH;FMTTYPE=image/jpeg:https://jerseybee.org/wp-content/uploads/2023/09/SingleBee_5.jpeg
END:VEVENT
BEGIN:VEVENT
DTSTART;VALUE=DATE:20250419
DTEND;VALUE=DATE:20250420
DTSTAMP:20260421T120032
CREATED:20250410T192031Z
LAST-MODIFIED:20250410T192031Z
UID:10006283-1745020800-1745107199@jerseybee.org
SUMMARY:Nutley Recreation 2025 "Easter Eggstravaganza"
DESCRIPTION:“Easter Eggstravaganza” for residents ages 3-7 planned with Nutley recreation on Apr. 19. It is from 10 a.m. to 12 p.m. at Glotzbach Park. There will be face painting\, farm animals\, and the Easter Bunny. Registration is required. \nFrom Nutley Township. \nThis information is accurate as of when it was published. Check with the event coordinator for the latest details.
URL:https://jerseybee.org/event/nutley-recreation-2025-easter-eggstravaganza/
CATEGORIES:Nutley
ATTACH;FMTTYPE=image/jpeg:https://jerseybee.org/wp-content/uploads/2023/09/SingleBee_3.jpeg
END:VEVENT
BEGIN:VEVENT
DTSTART;VALUE=DATE:20250419
DTEND;VALUE=DATE:20250420
DTSTAMP:20260421T120032
CREATED:20250410T192447Z
LAST-MODIFIED:20250410T192447Z
UID:10006285-1745020800-1745107199@jerseybee.org
SUMMARY:Oranges and Maplewood-NAACP April 2025 "Freedom Fund Gala"
DESCRIPTION:“Freedom Fund Gala” fundraiser supporting Oranges and Maplewood-NAACP planned on Apr. 19 in Livingston. The event is from 6-11 p.m. at Cedar Hill Country Club. It will honor nine community leaders. All proceeds go towards the NAACP’s programmings. Tickets available online for purchase. \nFrom Oranges & Maplewood: NAACP. \nThis information is accurate as of when it was published. Check with the event coordinator for the latest details.
URL:https://jerseybee.org/event/oranges-and-maplewood-naacp-april-2025-freedom-fund-gala/
CATEGORIES:East Orange,Maplewood,Orange,South Orange,West Orange
ATTACH;FMTTYPE=image/jpeg:https://jerseybee.org/wp-content/uploads/2023/09/SingleBee_4.jpeg
END:VEVENT
BEGIN:VEVENT
DTSTART;VALUE=DATE:20250419
DTEND;VALUE=DATE:20250420
DTSTAMP:20260421T120032
CREATED:20250410T193226Z
LAST-MODIFIED:20250410T193226Z
UID:10006286-1745020800-1745107199@jerseybee.org
SUMMARY:East Side Mags April 2025 "L.A. Strong" Signing with Mario Candelaria\, Rich Douek\, Sean Von Gorman\, Scott Cohn
DESCRIPTION:“L.A. Strong” anthology comic signing planned at East Side Mags on Apr. 19 in Bloomfield. It is from 3-6 p.m. at 491 Bloomfield Ave. with contributors Mario Candelaria\, Rich Douek\, Sean Von Gorman\, Scott Cohn. Proceeds of the anthology will go towards victims of the California wildfires in Los Angeles. \nFrom East Side Mags. \nThis information is accurate as of when it was published. Check with the event coordinator for the latest details.
URL:https://jerseybee.org/event/east-side-mags-april-2025-l-a-strong-signing-with-mario-candelaria-rich-douek-sean-von-gorman-scott-cohn/
CATEGORIES:Essex County,Montclair
ATTACH;FMTTYPE=image/jpeg:https://jerseybee.org/wp-content/uploads/2023/09/SingleBee_2.jpeg
END:VEVENT
BEGIN:VEVENT
DTSTART;VALUE=DATE:20250419
DTEND;VALUE=DATE:20250420
DTSTAMP:20260421T120032
CREATED:20250410T193429Z
LAST-MODIFIED:20250410T193429Z
UID:10006287-1745020800-1745107199@jerseybee.org
SUMMARY:Bloomfield Recreation April 2025 "Spring Nature Photography Workshop"
DESCRIPTION:“Spring Nature Photography Workshop” for ages 18+ planned with Bloomfield recreation on Apr. 19. It is from 10 a.m. to 1 p.m. at Oakeside Bloomfield Cultural Center. Admission is $35. Registration available online. \nFrom Bloomfield Parks\, Recreation\, and Cultural Affairs Department. \nThis information is accurate as of when it was published. Check with the event coordinator for the latest details.
URL:https://jerseybee.org/event/bloomfield-recreation-april-2025-spring-nature-photography-workshop/
CATEGORIES:Bloomfield
ATTACH;FMTTYPE=image/jpeg:https://jerseybee.org/wp-content/uploads/2023/09/Artboard-1_1.jpeg
END:VEVENT
BEGIN:VEVENT
DTSTART;VALUE=DATE:20250419
DTEND;VALUE=DATE:20250420
DTSTAMP:20260421T120032
CREATED:20250410T193637Z
LAST-MODIFIED:20250410T193637Z
UID:10006288-1745020800-1745107199@jerseybee.org
SUMMARY:Belleville 2025 Shred Day: Recheduled
DESCRIPTION:Belleville rescheduled its paper shredding event from Apr. 12 to Apr. 19. It is from 9 a.m. to 1 p.m. at the Senior Citizen Recreation Center. Limited to two banker boxes per person. Participants must show proof of residency. Free admission. \nFrom Belleville Mayor Michael Melham. \nThis information is accurate as of when it was published. Check with the event coordinator for the latest details.
URL:https://jerseybee.org/event/belleville-2025-shred-day-recheduled/
CATEGORIES:Belleville
ATTACH;FMTTYPE=image/jpeg:https://jerseybee.org/wp-content/uploads/2023/09/SingleBee_5.jpeg
END:VEVENT
BEGIN:VEVENT
DTSTART;VALUE=DATE:20250419
DTEND;VALUE=DATE:20250420
DTSTAMP:20260421T120032
CREATED:20250410T193852Z
LAST-MODIFIED:20250410T193852Z
UID:10006290-1745020800-1745107199@jerseybee.org
SUMMARY:Toni's Kitchen 2025 "Music Against Hunger" Benefit Concert
DESCRIPTION:“Music Against Hunger” benefit concert planned with Toni’s Kitchen on Apr. 19 in Montclair. The concert begins at 8 p.m. at Tierney’s Tavern\, 138 Valley Rd. There will be performances from Doug Hall and Friends\, Big Mamou\, The Reticents\, and LoveBomb. A suggested $20 donation will support Toni’s Kitchen. \nFrom Toni’s Kitchen. \nThis information is accurate as of when it was published. Check with the event coordinator for the latest details.
URL:https://jerseybee.org/event/tonis-kitchen-2025-music-against-hunger-benefit-concert/
CATEGORIES:Belleville,Bloomfield,Glen Ridge,Montclair,Nutley,West Orange
ATTACH;FMTTYPE=image/jpeg:https://jerseybee.org/wp-content/uploads/2023/09/SingleBee_4.jpeg
END:VEVENT
BEGIN:VEVENT
DTSTART;VALUE=DATE:20250419
DTEND;VALUE=DATE:20250420
DTSTAMP:20260421T120032
CREATED:20250410T200243Z
LAST-MODIFIED:20250410T200243Z
UID:10006295-1745020800-1745107199@jerseybee.org
SUMMARY:Nutley April 2025 Compost Day
DESCRIPTION:Nutley residents can learn about composting and its environmental benefits on Apr. 19. It is from 9 a.m. to 1 p.m. at Municipal Parking Lot 9\, 537 Franklin Ave. Limited to five leaf bags or two garbage cans of compost per household. \nFrom Nutley Township. \nThis information is accurate as of when it was published. Check with the event coordinator for the latest details.
URL:https://jerseybee.org/event/nutley-april-2025-compost-day/
CATEGORIES:Nutley
ATTACH;FMTTYPE=image/jpeg:https://jerseybee.org/wp-content/uploads/2023/09/Artboard-1_1.jpeg
END:VEVENT
BEGIN:VEVENT
DTSTART;VALUE=DATE:20250419
DTEND;VALUE=DATE:20250420
DTSTAMP:20260421T120032
CREATED:20250410T200446Z
LAST-MODIFIED:20250410T200446Z
UID:10006297-1745020800-1745107199@jerseybee.org
SUMMARY:Urban League of Essex County April 2025 "Planting Seeds Day"
DESCRIPTION:“Planting Seeds Day” planned with Urban League of Essex County on Apr. 19 in Newark. It is from 10 a.m. to 12 p.m. at the Urban League’s MLK Garden at the corner of South 8th Street and Central Avenue. There will be refreshments and music. \nFrom Urban League of Essex County. \nThis information is accurate as of when it was published. Check with the event coordinator for the latest details.
URL:https://jerseybee.org/event/urban-league-of-essex-county-april-2025-planting-seeds-day/
CATEGORIES:Essex County,Newark
ATTACH;FMTTYPE=image/jpeg:https://jerseybee.org/wp-content/uploads/2023/09/SingleBee_8.jpeg
END:VEVENT
BEGIN:VEVENT
DTSTART;VALUE=DATE:20250419
DTEND;VALUE=DATE:20250420
DTSTAMP:20260421T120032
CREATED:20250410T200447Z
LAST-MODIFIED:20250410T200447Z
UID:10006298-1745020800-1745107199@jerseybee.org
SUMMARY:East Orange 2025 "Leap Into Spring" Celebration
DESCRIPTION:“Leap Into Spring” celebration planned with East Orange on Apr. 19. It is from 11 a.m. to 3:30 p.m. at City Hall Plaza. There will be an egg hunt\, train rides\, face painting\, food\, games\, and more. Free admission. \nFrom East Orange City. \nThis information is accurate as of when it was published. Check with the event coordinator for the latest details.
URL:https://jerseybee.org/event/east-orange-2025-leap-into-spring-celebration/
CATEGORIES:East Orange
ATTACH;FMTTYPE=image/jpeg:https://jerseybee.org/wp-content/uploads/2023/09/Artboard-1_1.jpeg
END:VEVENT
BEGIN:VEVENT
DTSTART;VALUE=DATE:20250419
DTEND;VALUE=DATE:20250420
DTSTAMP:20260421T120032
CREATED:20250410T200447Z
LAST-MODIFIED:20250410T200447Z
UID:10006299-1745020800-1745107199@jerseybee.org
SUMMARY:Orange April 2025 "Spring Cherry Blossom Spectacular"
DESCRIPTION:“Spring Cherry Blossom Spectacular” for families planned with Orange on Apr. 19. Lights will be wrapped around cherry blossom trees at Central Playground. The event is from 3-7 p.m. There will be music\, refreshments\, and games. \nFrom City of Orange Township. \nThis information is accurate as of when it was published. Check with the event coordinator for the latest details.
URL:https://jerseybee.org/event/orange-april-2025-spring-cherry-blossom-spectacular/
CATEGORIES:Orange
ATTACH;FMTTYPE=image/jpeg:https://jerseybee.org/wp-content/uploads/2023/09/SingleBee_6.jpeg
END:VEVENT
BEGIN:VEVENT
DTSTART;VALUE=DATE:20250419
DTEND;VALUE=DATE:20250420
DTSTAMP:20260421T120032
CREATED:20250410T200655Z
LAST-MODIFIED:20250410T200655Z
UID:10006300-1745020800-1745107199@jerseybee.org
SUMMARY:West Orange April 2025 "Anna Easter Brown Marker Re-Installation"
DESCRIPTION:West Orange will re-install a marker to commemorate the legacy of former resident Anna Easter Brown on Apr. 19. The marker was removed during the construction of the new senior building. Brown’s marker was the first in the series of downtown markers in 2016. The event begins at 4 p.m. at 46 Mt. Pleasant Ave. Registration required. \nFrom West Orange Township. \nThis information is accurate as of when it was published. Check with the event coordinator for the latest details.
URL:https://jerseybee.org/event/west-orange-april-2025-anna-easter-brown-marker-re-installation/
CATEGORIES:West Orange
ATTACH;FMTTYPE=image/jpeg:https://jerseybee.org/wp-content/uploads/2023/09/SingleBee_2.jpeg
END:VEVENT
BEGIN:VEVENT
DTSTART;VALUE=DATE:20250419
DTEND;VALUE=DATE:20250420
DTSTAMP:20260421T120032
CREATED:20250414T161244Z
LAST-MODIFIED:20250414T161244Z
UID:10006306-1745020800-1745107199@jerseybee.org
SUMMARY:Maplewood Township 2025 Spring Egg Hunt Rescheduled Date
DESCRIPTION:Spring egg hunt planned by Maplewood rescheduled for Apr. 19. It is from 12-2 p.m. at Memorial Park. There will also be crafts\, gardening activities\, and bubbles.  \nFrom Maplewood Township. \nThis information is accurate as of when it was published. Check with the event coordinator for the latest details.
URL:https://jerseybee.org/event/maplewood-township-2025-spring-egg-hunt-rescheduled-date/
CATEGORIES:Maplewood
ATTACH;FMTTYPE=image/jpeg:https://jerseybee.org/wp-content/uploads/2023/09/SingleBee_3.jpeg
END:VEVENT
BEGIN:VEVENT
DTSTART;VALUE=DATE:20250419
DTEND;VALUE=DATE:20250420
DTSTAMP:20260421T120032
CREATED:20250414T191156Z
LAST-MODIFIED:20250414T191156Z
UID:10006322-1745020800-1745107199@jerseybee.org
SUMMARY:Glen Ridge April 2025 Egg Hunt
DESCRIPTION:Egg hunt for children in grades pre-K-3 planned with Glen Ridge on Apr. 19. It begins at 9 a.m. at Carteret Park. Free for Glen Ridge residents. \nFrom Glen Ridge Borough. \nThis information is accurate as of when it was published. Check with the event coordinator for the latest details.
URL:https://jerseybee.org/event/glen-ridge-april-2025-egg-hunt/
CATEGORIES:Glen Ridge
ATTACH;FMTTYPE=image/jpeg:https://jerseybee.org/wp-content/uploads/2023/09/SingleBee_7.jpeg
END:VEVENT
BEGIN:VEVENT
DTSTART;VALUE=DATE:20250419
DTEND;VALUE=DATE:20250420
DTSTAMP:20260421T120032
CREATED:20250416T211428Z
LAST-MODIFIED:20250416T211428Z
UID:10006338-1745020800-1745107199@jerseybee.org
SUMMARY:Essex County Environmental Center's 2025 "Spring Forest Egg Hunt"
DESCRIPTION:“Spring Forest Egg Hunt” and story time for children age 1-6 planned by Essex County Environmental Center on Apr. 19 in Roseland. Egg hunts will begin at 9:30 a.m. and 11 a.m. There will also be spring themed crafts and light refreshments. Preregistration of $15 per child is required. \nFrom Essex County Environmental Center. \nThis information is accurate as of when it was published. Check with the event coordinator for the latest details.
URL:https://jerseybee.org/event/essex-county-environmental-centers-2025-spring-forest-egg-hunt/
CATEGORIES:Essex County
ATTACH;FMTTYPE=image/jpeg:https://jerseybee.org/wp-content/uploads/2023/09/SingleBee_6.jpeg
END:VEVENT
END:VCALENDAR