BEGIN:VCALENDAR
VERSION:2.0
PRODID:-//The Jersey Bee - ECPv6.15.12.2//NONSGML v1.0//EN
CALSCALE:GREGORIAN
METHOD:PUBLISH
X-ORIGINAL-URL:https://jerseybee.org
X-WR-CALDESC:Events for The Jersey Bee
REFRESH-INTERVAL;VALUE=DURATION:PT1H
X-Robots-Tag:noindex
X-PUBLISHED-TTL:PT1H
BEGIN:VTIMEZONE
TZID:America/Toronto
BEGIN:DAYLIGHT
TZOFFSETFROM:-0500
TZOFFSETTO:-0400
TZNAME:EDT
DTSTART:20230312T070000
END:DAYLIGHT
BEGIN:STANDARD
TZOFFSETFROM:-0400
TZOFFSETTO:-0500
TZNAME:EST
DTSTART:20231105T060000
END:STANDARD
BEGIN:DAYLIGHT
TZOFFSETFROM:-0500
TZOFFSETTO:-0400
TZNAME:EDT
DTSTART:20240310T070000
END:DAYLIGHT
BEGIN:STANDARD
TZOFFSETFROM:-0400
TZOFFSETTO:-0500
TZNAME:EST
DTSTART:20241103T060000
END:STANDARD
BEGIN:DAYLIGHT
TZOFFSETFROM:-0500
TZOFFSETTO:-0400
TZNAME:EDT
DTSTART:20250309T070000
END:DAYLIGHT
BEGIN:STANDARD
TZOFFSETFROM:-0400
TZOFFSETTO:-0500
TZNAME:EST
DTSTART:20251102T060000
END:STANDARD
END:VTIMEZONE
BEGIN:VEVENT
DTSTART;VALUE=DATE:20240612
DTEND;VALUE=DATE:20240613
DTSTAMP:20260423T141554
CREATED:20240610T204855Z
LAST-MODIFIED:20240610T204855Z
UID:10002561-1718150400-1718236799@jerseybee.org
SUMMARY:Newark Public Safety June 2024 Community Meeting
DESCRIPTION:Newark public safety plans a community council meeting on Jun. 12. Second precinct officers will host the meeting at 5:30 p.m. at St. Michael’s Church. \nFrom Newark Public Safety. \nThis information is accurate as of when it was published. Check with the event coordinator for the latest details.
URL:https://jerseybee.org/event/newark-public-safety-june-2024-community-meeting/
CATEGORIES:Newark
ATTACH;FMTTYPE=image/jpeg:https://jerseybee.org/wp-content/uploads/2023/09/SingleBee_3.jpeg
END:VEVENT
BEGIN:VEVENT
DTSTART;VALUE=DATE:20240612
DTEND;VALUE=DATE:20240613
DTSTAMP:20260423T141554
CREATED:20240610T210700Z
LAST-MODIFIED:20240610T210700Z
UID:10002563-1718150400-1718236799@jerseybee.org
SUMMARY:South Orange Maplewood Community Coalition on Race's June 2024 Integrated Art Circle: Opera Imitating Life
DESCRIPTION:“Integrated Art Circle: Opera Imitating Life” planned by South Orange Maplewood Community Coalition on Race on Jun. 12. Participants will explore  operas centered around the lives of marginalized people led by music educator Lori Mirabal. The art circle will meet at 6 p.m. at Prospect Presbyterian Church in Maplewood. Preregistration is required.  \nFrom South Orange-Maplewood Community Coalition on Race. \nThis information is accurate as of when it was published. Check with the event coordinator for the latest details.
URL:https://jerseybee.org/event/south-orange-maplewood-community-coalition-on-races-june-2024-integrated-art-circle-opera-imitating-life/
CATEGORIES:East Orange,Maplewood,Orange,South Orange,West Orange
ATTACH;FMTTYPE=image/jpeg:https://jerseybee.org/wp-content/uploads/2023/09/SingleBee_8.jpeg
END:VEVENT
BEGIN:VEVENT
DTSTART;VALUE=DATE:20240613
DTEND;VALUE=DATE:20240614
DTSTAMP:20260423T141554
CREATED:20240604T192128Z
LAST-MODIFIED:20240604T192128Z
UID:10002486-1718236800-1718323199@jerseybee.org
SUMMARY:Maplewood Library Books Now and Then Reading Group June 2024 Meeting
DESCRIPTION:Maplewood library’s Books Now and Then reading group will meet on Jun. 13 at the Hilton Branch. Members will discuss “Maurice” by E.M. Forster at 6:30 p.m. \nFrom Maplewood Public Library. \nThis information is accurate as of when it was published. Check with the event coordinator for the latest details.
URL:https://jerseybee.org/event/maplewood-library-books-now-and-then-reading-group-june-2024-meeting/
CATEGORIES:Irvington,Maplewood
ATTACH;FMTTYPE=image/jpeg:https://jerseybee.org/wp-content/uploads/2023/09/SingleBee_9.jpeg
END:VEVENT
BEGIN:VEVENT
DTSTART;VALUE=DATE:20240613
DTEND;VALUE=DATE:20240614
DTSTAMP:20260423T141554
CREATED:20240604T192336Z
LAST-MODIFIED:20240604T192336Z
UID:10002488-1718236800-1718323199@jerseybee.org
SUMMARY:Montclair Library Teen Book Club May 2024 Meeting
DESCRIPTION:Montclair library plans a teen book club meeting for ages 12-18 on Jun. 13 in the Main Branch. The meeting\, scheduled from 4-5 p.m.\, will discuss mystery-themed books. Preregistration is required. \nFrom Montclair Public Library. \nThis information is accurate as of when it was published. Check with the event coordinator for the latest details.
URL:https://jerseybee.org/event/montclair-library-teen-book-club-may-2024-meeting/
CATEGORIES:Montclair
ATTACH;FMTTYPE=image/jpeg:https://jerseybee.org/wp-content/uploads/2023/09/SingleBee_2.jpeg
END:VEVENT
BEGIN:VEVENT
DTSTART;VALUE=DATE:20240613
DTEND;VALUE=DATE:20240614
DTSTAMP:20260423T141554
CREATED:20240605T192322Z
LAST-MODIFIED:20240605T192322Z
UID:10002495-1718236800-1718323199@jerseybee.org
SUMMARY:NJSDA Adult Intro to Acting June 2024 Class
DESCRIPTION:NJSDA to host an adult intro to acting class starting Jun. 13 in Montclair. The six-week class meets Thursdays from 7:35-9:35 p.m. at St. John’s Episcopal Church. Registration available online. \nFrom New Jersey School of Dramatic Arts. \nThis information is accurate as of when it was published. Check with the event coordinator for the latest details.
URL:https://jerseybee.org/event/njsda-adult-intro-to-acting-june-2024-class/
CATEGORIES:Bloomfield,Glen Ridge,Montclair
ATTACH;FMTTYPE=image/jpeg:https://jerseybee.org/wp-content/uploads/2023/09/SingleBee_6.jpeg
END:VEVENT
BEGIN:VEVENT
DTSTART;VALUE=DATE:20240613
DTEND;VALUE=DATE:20240614
DTSTAMP:20260423T141554
CREATED:20240611T180111Z
LAST-MODIFIED:20240611T180111Z
UID:10002565-1718236800-1718323199@jerseybee.org
SUMMARY:East Orange YMCA Juneteenth 2024 Pop-Up Shop
DESCRIPTION:Juneteenth pop-up shop planned by East Orange YMCA on Jun. 13 in Maplewood. There will be Black-owned business vendors selling clothing\, jewelry\, food\, skin care\, and more from 5:30-7:30 p.m. at South Mountain YMCA\, 13 Jefferson Ave.  \nFrom East Orange YMCA. \nThis information is accurate as of when it was published. Check with the event coordinator for the latest details.
URL:https://jerseybee.org/event/east-orange-ymca-juneteenth-2024-pop-up-shop/
CATEGORIES:East Orange,Essex County,Maplewood
ATTACH;FMTTYPE=image/jpeg:https://jerseybee.org/wp-content/uploads/2023/09/SingleBee_4.jpeg
END:VEVENT
BEGIN:VEVENT
DTSTART;VALUE=DATE:20240613
DTEND;VALUE=DATE:20240614
DTSTAMP:20260423T141554
CREATED:20240611T180253Z
LAST-MODIFIED:20240611T180253Z
UID:10002566-1718236800-1718323199@jerseybee.org
SUMMARY:Mentor Newark June 2024 HBCU Reception
DESCRIPTION:HBCU reception for Newark high school students in grade 12 and alumni planned by Mentor Newark\, a youth mentoring organization\, on Jun. 13. The event begins at 4:30 p.m. at Heritage Hall. It will celebrate Newark youth who will attend an HBCU in the fall. RSVP is required. \nFrom Mentor Newark. \nThis information is accurate as of when it was published. Check with the event coordinator for the latest details.
URL:https://jerseybee.org/event/mentor-newark-june-2024-hbcu-reception/
CATEGORIES:Newark
ATTACH;FMTTYPE=image/jpeg:https://jerseybee.org/wp-content/uploads/2023/09/Artboard-1_1.jpeg
END:VEVENT
BEGIN:VEVENT
DTSTART;VALUE=DATE:20240613
DTEND;VALUE=DATE:20240614
DTSTAMP:20260423T141554
CREATED:20240611T181656Z
LAST-MODIFIED:20240611T181656Z
UID:10002568-1718236800-1718323199@jerseybee.org
SUMMARY:Mountainside Medical Center June 2024 Men's Health Lecture
DESCRIPTION:Free men’s health virtual lecture planned by Mountainside Medical Center on Jun. 13. The lecture is from 5-6 p.m. and will discuss the benefits of exercise. Registration is required. \nFrom Mountainside Medical Center. \nThis information is accurate as of when it was published. Check with the event coordinator for the latest details.
URL:https://jerseybee.org/event/mountainside-medical-center-june-2024-mens-health-lecture/
CATEGORIES:Belleville,Bloomfield,Glen Ridge,Montclair,Nutley
ATTACH;FMTTYPE=image/jpeg:https://jerseybee.org/wp-content/uploads/2023/09/SingleBee_2.jpeg
END:VEVENT
BEGIN:VEVENT
DTSTART;VALUE=DATE:20240613
DTEND;VALUE=DATE:20240614
DTSTAMP:20260423T141554
CREATED:20240611T183407Z
LAST-MODIFIED:20240611T183407Z
UID:10002569-1718236800-1718323199@jerseybee.org
SUMMARY:Glen Ridge Library June 2024 "Toddler Skills" Second Session
DESCRIPTION:Free skills-building session for toddlers planned by Glen Ridge library on Jun. 13. The program is from 9:30-11 a.m. Participants will trace patterns\, color\, and practice eye-hand coordination. Registration is not required. \nFrom Glen Ridge Public Library. \nThis information is accurate as of when it was published. Check with the event coordinator for the latest details.
URL:https://jerseybee.org/event/glen-ridge-library-june-2024-toddler-skills-second-session/
CATEGORIES:Glen Ridge
ATTACH;FMTTYPE=image/jpeg:https://jerseybee.org/wp-content/uploads/2023/09/SingleBee_2.jpeg
END:VEVENT
BEGIN:VEVENT
DTSTART;VALUE=DATE:20240613
DTEND;VALUE=DATE:20240614
DTSTAMP:20260423T141554
CREATED:20240611T184218Z
LAST-MODIFIED:20240611T184218Z
UID:10002571-1718236800-1718323199@jerseybee.org
SUMMARY:Glen Ridge Library June 2024 Crochet Workshop
DESCRIPTION:Crochet workshop for youth in grades 6-12 planned by Glen Ridge library on Jun. 13. The workshop\, scheduled from 3-4:45 p.m.\, is for all skill levels and people who want to work in a group to complete a project. Registration is required. \nFrom Glen Ridge Public Library. \nThis information is accurate as of when it was published. Check with the event coordinator for the latest details.
URL:https://jerseybee.org/event/glen-ridge-library-june-2024-crochet-workshop/
CATEGORIES:Glen Ridge
ATTACH;FMTTYPE=image/jpeg:https://jerseybee.org/wp-content/uploads/2023/09/SingleBee_3.jpeg
END:VEVENT
BEGIN:VEVENT
DTSTART;VALUE=DATE:20240613
DTEND;VALUE=DATE:20240614
DTSTAMP:20260423T141554
CREATED:20240611T184523Z
LAST-MODIFIED:20240611T184523Z
UID:10002572-1718236800-1718323199@jerseybee.org
SUMMARY:Glen Ridge Library June 2024 Author Talk with Freida McFadden
DESCRIPTION:Virtual author event with Freida McFadden planned by Glen Ridge library on Jun. 13. McFadden will discuss “The Housemaid” series and writing psychological thrillers at 8 p.m. Registration is required. \nFrom Glen Ridge Public Library. \nThis information is accurate as of when it was published. Check with the event coordinator for the latest details.
URL:https://jerseybee.org/event/glen-ridge-library-june-2024-author-talk-with-freida-mcfadden/
CATEGORIES:Glen Ridge
ATTACH;FMTTYPE=image/jpeg:https://jerseybee.org/wp-content/uploads/2023/09/SingleBee_8.jpeg
END:VEVENT
BEGIN:VEVENT
DTSTART;VALUE=DATE:20240613
DTEND;VALUE=DATE:20240614
DTSTAMP:20260423T141554
CREATED:20240611T184524Z
LAST-MODIFIED:20240611T184524Z
UID:10002573-1718236800-1718323199@jerseybee.org
SUMMARY:Glen Ridge Library June 2024 Pop-Up
DESCRIPTION:Glen Ridge library pop-up planned at the Glen Ridge Train Station on Jun. 13. The pop-up will be open Thursdays from 4-7 p.m. until Aug. 1. Librarians will offer summer reading registration and library program information.  \nFrom Glen Ridge Public Library. \nThis information is accurate as of when it was published. Check with the event coordinator for the latest details.
URL:https://jerseybee.org/event/glen-ridge-library-june-2024-pop-up/
CATEGORIES:Glen Ridge
ATTACH;FMTTYPE=image/jpeg:https://jerseybee.org/wp-content/uploads/2023/09/SingleBee_6.jpeg
END:VEVENT
BEGIN:VEVENT
DTSTART;VALUE=DATE:20240613
DTEND;VALUE=DATE:20240614
DTSTAMP:20260423T141554
CREATED:20240611T184637Z
LAST-MODIFIED:20240611T184637Z
UID:10002574-1718236800-1718323199@jerseybee.org
SUMMARY:Maplewood Library Fall 2024 ESOL Class Registration Session 2
DESCRIPTION:Maplewood library is accepting enrollment for its English for Speakers of Other Languages classes on Jun. 13 in the Hilton Branch. Registration is from 10 a.m. to 12 p.m. through Jun. 27 Classes are available for beginner and intermediate students online from July to September. Students must show two forms of ID and a Gmail account to register. Registration is $25. \nFrom Maplewood Public Library. \nThis information is accurate as of when it was published. Check with the event coordinator for the latest details.
URL:https://jerseybee.org/event/maplewood-library-fall-2024-esol-class-registration-session-2/
CATEGORIES:Irvington,Maplewood
ATTACH;FMTTYPE=image/jpeg:https://jerseybee.org/wp-content/uploads/2023/09/SingleBee_9.jpeg
END:VEVENT
BEGIN:VEVENT
DTSTART;VALUE=DATE:20240613
DTEND;VALUE=DATE:20240614
DTSTAMP:20260423T141554
CREATED:20240611T184843Z
LAST-MODIFIED:20240611T184843Z
UID:10002575-1718236800-1718323199@jerseybee.org
SUMMARY:Montclair Library June 2024 "Chess and Coffee"
DESCRIPTION:“Chess and Coffee” for adults planned by Montclair library on Jun. 13 in the Main Branch. The event is from 2-4 p.m. and boards are available. No guided instruction provided.  \nFrom Montclair Public Library. \nThis information is accurate as of when it was published. Check with the event coordinator for the latest details.
URL:https://jerseybee.org/event/montclair-library-june-2024-chess-and-coffee/
CATEGORIES:Montclair
ATTACH;FMTTYPE=image/jpeg:https://jerseybee.org/wp-content/uploads/2023/09/SingleBee_10.jpeg
END:VEVENT
BEGIN:VEVENT
DTSTART;VALUE=DATE:20240613
DTEND;VALUE=DATE:20240614
DTSTAMP:20260423T141554
CREATED:20240611T184843Z
LAST-MODIFIED:20240611T184843Z
UID:10002576-1718236800-1718323199@jerseybee.org
SUMMARY:Montclair Library June 2024 Music and Movement
DESCRIPTION:Music and movement session for ages 2-5 hosed by Montclair library on Jun. 13 in the Bellevue Branch. The free event is from 11-11:30 a.m. at the library’s lawn. Registration is not required. \nFrom Montclair Public Library. \nThis information is accurate as of when it was published. Check with the event coordinator for the latest details.
URL:https://jerseybee.org/event/montclair-library-june-2024-music-and-movement/
CATEGORIES:Montclair
ATTACH;FMTTYPE=image/jpeg:https://jerseybee.org/wp-content/uploads/2023/09/SingleBee_10.jpeg
END:VEVENT
BEGIN:VEVENT
DTSTART;VALUE=DATE:20240613
DTEND;VALUE=DATE:20240614
DTSTAMP:20260423T141554
CREATED:20240611T185232Z
LAST-MODIFIED:20240611T185232Z
UID:10002577-1718236800-1718323199@jerseybee.org
SUMMARY:East Orange Library June 2024 "In Stitches" Crochet\, Knitting Club Meeting
DESCRIPTION:“In Stitches” adult knit and crochet club meeting planned by East Orange library on Jun. 13 in the Main Branch. Members knit and crochet together from 2-4 p.m. Attendees must bring their own supplies. \nFrom East Orange Public Library. \nThis information is accurate as of when it was published. Check with the event coordinator for the latest details.
URL:https://jerseybee.org/event/east-orange-library-june-2024-in-stitches-crochet-knitting-club-meeting/
CATEGORIES:East Orange,Orange
ATTACH;FMTTYPE=image/jpeg:https://jerseybee.org/wp-content/uploads/2023/09/Artboard-1_1.jpeg
END:VEVENT
BEGIN:VEVENT
DTSTART;VALUE=DATE:20240613
DTEND;VALUE=DATE:20240614
DTSTAMP:20260423T141554
CREATED:20240611T185335Z
LAST-MODIFIED:20240611T185335Z
UID:10002579-1718236800-1718323199@jerseybee.org
SUMMARY:Montclair Library Anime Club June 2024 Meeting
DESCRIPTION:Anime club meeting for ages 18+ hosted by Montclair library on Jun. 13 in the Bellevue Branch. The meeting begins at 6 p.m. and will screen “Cowboy Bebop.” Registration is required. \nFrom Montclair Public Library. \nThis information is accurate as of when it was published. Check with the event coordinator for the latest details.
URL:https://jerseybee.org/event/montclair-library-anime-club-june-2024-meeting/
CATEGORIES:Montclair
ATTACH;FMTTYPE=image/jpeg:https://jerseybee.org/wp-content/uploads/2023/09/SingleBee_6.jpeg
END:VEVENT
BEGIN:VEVENT
DTSTART;VALUE=DATE:20240613
DTEND;VALUE=DATE:20240614
DTSTAMP:20260423T141554
CREATED:20240611T185335Z
LAST-MODIFIED:20240611T185335Z
UID:10002578-1718236800-1718323199@jerseybee.org
SUMMARY:Montclair Library June 2024 Author Talk with Claudia Cravens
DESCRIPTION:Free author talk with Claudia Cravens hosted by Montclair library on Jun. 13 in the Main Branch. The event is from 6:30-8 p.m. Cravens will discuss “Lucky Red” and answer questions during a Q&A session. A book signing and sale will follow. Registration is required. \nFrom Montclair Public Library. \nThis information is accurate as of when it was published. Check with the event coordinator for the latest details.
URL:https://jerseybee.org/event/montclair-library-june-2024-author-talk-with-claudia-cravens/
CATEGORIES:Bloomfield,Glen Ridge,Montclair,Nutley
ATTACH;FMTTYPE=image/jpeg:https://jerseybee.org/wp-content/uploads/2023/09/SingleBee_10.jpeg
END:VEVENT
BEGIN:VEVENT
DTSTART;VALUE=DATE:20240613
DTEND;VALUE=DATE:20240614
DTSTAMP:20260423T141554
CREATED:20240611T185433Z
LAST-MODIFIED:20240611T185433Z
UID:10002581-1718236800-1718323199@jerseybee.org
SUMMARY:East Orange Library June 2024 Community Gardening
DESCRIPTION:Community gardening event for youth and families planned by East Orange library on Jun. 13 in the Main Branch. Attendees will grow vegetables and herbs in the library’s community garden from 4-6 p.m. \nFrom East Orange Public Library. \nThis information is accurate as of when it was published. Check with the event coordinator for the latest details.
URL:https://jerseybee.org/event/east-orange-library-june-2024-community-gardening/
CATEGORIES:East Orange,Orange
ATTACH;FMTTYPE=image/jpeg:https://jerseybee.org/wp-content/uploads/2023/09/SingleBee_7.jpeg
END:VEVENT
BEGIN:VEVENT
DTSTART;VALUE=DATE:20240613
DTEND;VALUE=DATE:20240614
DTSTAMP:20260423T141554
CREATED:20240611T185639Z
LAST-MODIFIED:20240611T185639Z
UID:10002582-1718236800-1718323199@jerseybee.org
SUMMARY:Maplewood Library June 2024 "Digital Device Clinic"
DESCRIPTION:Free one-on-one electronic device support for adults hosted by Maplewood library on Jun. 13 in the Boyden Branch. The “digital device clinic” is open from 11 a.m. to 1 p.m.  \nFrom Maplewood Public Library. \nThis information is accurate as of when it was published. Check with the event coordinator for the latest details.
URL:https://jerseybee.org/event/maplewood-library-june-2024-digital-device-clinic/
CATEGORIES:Maplewood,South Orange
ATTACH;FMTTYPE=image/jpeg:https://jerseybee.org/wp-content/uploads/2023/09/SingleBee_7.jpeg
END:VEVENT
BEGIN:VEVENT
DTSTART;VALUE=DATE:20240613
DTEND;VALUE=DATE:20240614
DTSTAMP:20260423T141554
CREATED:20240611T190041Z
LAST-MODIFIED:20240611T190041Z
UID:10002583-1718236800-1718323199@jerseybee.org
SUMMARY:Belleville Library Anime and Manga Club June 2024 Meeting
DESCRIPTION:Anime and manga club meeting for youth hosted by Belleville library on Jun. 13. The meeting is from 3-5 p.m. Participants will watch anime\, discuss manga\, take quizzes\, and play games together. Preregistration is required.  \nFrom Belleville Public Library. \nThis information is accurate as of when it was published. Check with the event coordinator for the latest details.
URL:https://jerseybee.org/event/belleville-library-anime-and-manga-club-june-2024-meeting/
CATEGORIES:Belleville
ATTACH;FMTTYPE=image/jpeg:https://jerseybee.org/wp-content/uploads/2023/09/SingleBee_5.jpeg
END:VEVENT
BEGIN:VEVENT
DTSTART;VALUE=DATE:20240613
DTEND;VALUE=DATE:20240614
DTSTAMP:20260423T141554
CREATED:20240611T190043Z
LAST-MODIFIED:20240611T190043Z
UID:10002584-1718236800-1718323199@jerseybee.org
SUMMARY:Belleville Library June 2024 "Baby Bookworms"
DESCRIPTION:“Baby Bookworms” story time for ages 0-3 and their caregivers hosted by Belleville library on Jun. 13. The event\, scheduled from 10:30-11 a.m.\, will feature a story time session with books\, music\, and movement. \nFrom Belleville Public Library. \nThis information is accurate as of when it was published. Check with the event coordinator for the latest details.
URL:https://jerseybee.org/event/belleville-library-june-2024-baby-bookworms/
CATEGORIES:Belleville
ATTACH;FMTTYPE=image/jpeg:https://jerseybee.org/wp-content/uploads/2023/09/SingleBee_4.jpeg
END:VEVENT
BEGIN:VEVENT
DTSTART;VALUE=DATE:20240613
DTEND;VALUE=DATE:20240614
DTSTAMP:20260423T141554
CREATED:20240611T192405Z
LAST-MODIFIED:20240611T192405Z
UID:10002585-1718236800-1718323199@jerseybee.org
SUMMARY:Montclair Jazz Festival June 2024 Soundcheck Series: Winard Harper and Jeli Posse
DESCRIPTION:Free soundcheck concert with Winard Harper and Jeli Posse planned by Montclair Jazz Festival on Jun. 13. The event begins at 6 p.m. at The Wellmont Theater\, 5 Seymour St. Attendees are encouraged to bring a lawn chair. Tickets available online. \nFrom Jazz House Kids. \nThis information is accurate as of when it was published. Check with the event coordinator for the latest details.
URL:https://jerseybee.org/event/montclair-jazz-festival-june-2024-soundcheck-series-winard-harper-and-jeli-posse/
CATEGORIES:Essex County,Montclair
ATTACH;FMTTYPE=image/jpeg:https://jerseybee.org/wp-content/uploads/2023/09/SingleBee_6.jpeg
END:VEVENT
BEGIN:VEVENT
DTSTART;VALUE=DATE:20240613
DTEND;VALUE=DATE:20240614
DTSTAMP:20260423T141554
CREATED:20240611T192418Z
LAST-MODIFIED:20240611T192418Z
UID:10002586-1718236800-1718323199@jerseybee.org
SUMMARY:Essex County College 2024 "Henna Fest"
DESCRIPTION:“Henna Fest” hosted by Essex County College on Jun. 13 in Newark. Henna tattoos available from 12-4:30 at the Dasher Student Center. Prices are based on design and range from $10-20 per hand. \nFrom Essex County College. \nThis information is accurate as of when it was published. Check with the event coordinator for the latest details.
URL:https://jerseybee.org/event/essex-county-college-2024-henna-fest/
CATEGORIES:Irvington,Newark
ATTACH;FMTTYPE=image/jpeg:https://jerseybee.org/wp-content/uploads/2023/09/Artboard-1_1.jpeg
END:VEVENT
BEGIN:VEVENT
DTSTART;VALUE=DATE:20240613
DTEND;VALUE=DATE:20240614
DTSTAMP:20260423T141554
CREATED:20240611T193238Z
LAST-MODIFIED:20240611T193238Z
UID:10002587-1718236800-1718323199@jerseybee.org
SUMMARY:Branch Brook Park Alliance 2024 Jazz Luncheon
DESCRIPTION:Jazz luncheon planned by Branch Brook Park Alliance on Jun. 13 in Newark. The event is from 12:30-2:30 p.m. at the Barbara Bell Coleman Welcome Pavilion. Luncheon includes organist performance and lecture about the park’s architect Fredrick Law Olmstead. Tickets available online for purchase. \nFrom Branch Brook Park Alliance. \nThis information is accurate as of when it was published. Check with the event coordinator for the latest details.
URL:https://jerseybee.org/event/branch-brook-park-alliance-2024-jazz-luncheon/
CATEGORIES:Essex County,Newark
ATTACH;FMTTYPE=image/jpeg:https://jerseybee.org/wp-content/uploads/2023/09/SingleBee_9.jpeg
END:VEVENT
BEGIN:VEVENT
DTSTART;VALUE=DATE:20240613
DTEND;VALUE=DATE:20240614
DTSTAMP:20260423T141554
CREATED:20240612T205709Z
LAST-MODIFIED:20240612T205709Z
UID:10002602-1718236800-1718323199@jerseybee.org
SUMMARY:For the Many N.J. Rally to Fund N.J. Transit
DESCRIPTION:Rally to fund N.J. transit planned by For the Many N.J. on Jun. 13 in Newark. The rally is from 9:30-10:30 a.m. at Newark Penn Station. Demonstrators are in support of a proposed tax on wealthy corporations that will fund N.J. transit. \nFrom For the Many NJ. \nThis information is accurate as of when it was published. Check with the event coordinator for the latest details.
URL:https://jerseybee.org/event/for-the-many-n-j-rally-to-fund-n-j-transit/
CATEGORIES:Essex County
ATTACH;FMTTYPE=image/jpeg:https://jerseybee.org/wp-content/uploads/2023/09/Artboard-1_1.jpeg
END:VEVENT
BEGIN:VEVENT
DTSTART;VALUE=DATE:20240614
DTEND;VALUE=DATE:20240615
DTSTAMP:20260423T141554
CREATED:20240603T191453Z
LAST-MODIFIED:20240603T191453Z
UID:10002477-1718323200-1718409599@jerseybee.org
SUMMARY:Essex County Environmental Center June 2024 Upper Passaic River Canoe Trip
DESCRIPTION:Essex County Environmental Center to host “Upper Passaic River Canoe Trip” for ages 10+ on Jun. 14 in Roseland. The trip is from 6-8 p.m. Attendees should arrive at the Garibaldi Hall parking lot. Admission is $20 and preregistration is required in-person\, by mail\, or online. \nFrom Essex County Environmental Center. \nThis information is accurate as of when it was published. Check with the event coordinator for the latest details.
URL:https://jerseybee.org/event/essex-county-environmental-center-june-2024-upper-passaic-river-canoe-trip/
CATEGORIES:Essex County
ATTACH;FMTTYPE=image/jpeg:https://jerseybee.org/wp-content/uploads/2023/09/SingleBee_7.jpeg
END:VEVENT
BEGIN:VEVENT
DTSTART;VALUE=DATE:20240614
DTEND;VALUE=DATE:20240615
DTSTAMP:20260423T141554
CREATED:20240606T193428Z
LAST-MODIFIED:20240606T193428Z
UID:10002520-1718323200-1718409599@jerseybee.org
SUMMARY:Berkeley Elementary School HSA June 2024 "Designer Bag Bingo"
DESCRIPTION:Berkeley Elementary School’s Home and School Association to host “Designer Bag Bingo” for ages 18+ on Jun. 14 in Bloomfield. The doors open at 5 p.m. and will feature designer bag prizes such as Coach\, DKNY\, Kate Spade\, Michael Kors\, and Tory Burch. Tickets sold online and at the door. \nFrom Berkeley Elementary School Home and School Association. \nThis information is accurate as of when it was published. Check with the event coordinator for the latest details.
URL:https://jerseybee.org/event/berkeley-elementary-school-hsa-june-2024-designer-bag-bingo/
CATEGORIES:Bloomfield
ATTACH;FMTTYPE=image/jpeg:https://jerseybee.org/wp-content/uploads/2023/09/SingleBee_2.jpeg
END:VEVENT
BEGIN:VEVENT
DTSTART;VALUE=DATE:20240614
DTEND;VALUE=DATE:20240615
DTSTAMP:20260423T141554
CREATED:20240606T203706Z
LAST-MODIFIED:20240606T203706Z
UID:10002535-1718323200-1718409599@jerseybee.org
SUMMARY:Montclair Library "Queer Reads for Teens" Book Club June 2024 Meeting
DESCRIPTION:Montclair library plans “Queer Reads for Teens” book club meeting on Jun. 14 in the Main Branch. It will meet from 4:30-5:30 p.m. and discuss “Spell Bound” by F.T. Lukens. Registration is required. \nFrom Montclair Public Library. \nThis information is accurate as of when it was published. Check with the event coordinator for the latest details.
URL:https://jerseybee.org/event/montclair-library-queer-reads-for-teens-book-club-june-2024-meeting/
CATEGORIES:Montclair
ATTACH;FMTTYPE=image/jpeg:https://jerseybee.org/wp-content/uploads/2023/09/SingleBee_7.jpeg
END:VEVENT
BEGIN:VEVENT
DTSTART;VALUE=DATE:20240614
DTEND;VALUE=DATE:20240615
DTSTAMP:20260423T141554
CREATED:20240610T204853Z
LAST-MODIFIED:20240610T204853Z
UID:10002560-1718323200-1718409599@jerseybee.org
SUMMARY:BMS STEM 2024 Summer Camp Registration Deadline
DESCRIPTION:Bloomfield Middle School’s STEM 2024 summer camp is accepting enrollment until Jun. 14. Camp is from Jul. 1-18 at Bloomfield Middle School. It is designed for students in grades 6-8. Activities include coding\, kinetic sculpting\, claymation\, and more. Register online. \nFrom Bloomfield Middle School. \nThis information is accurate as of when it was published. Check with the event coordinator for the latest details.
URL:https://jerseybee.org/event/bms-stem-2024-summer-camp-registration-deadline/
CATEGORIES:Bloomfield
ATTACH;FMTTYPE=image/jpeg:https://jerseybee.org/wp-content/uploads/2023/09/SingleBee_10.jpeg
END:VEVENT
END:VCALENDAR