BEGIN:VCALENDAR
VERSION:2.0
PRODID:-//The Jersey Bee - ECPv6.15.12.2//NONSGML v1.0//EN
CALSCALE:GREGORIAN
METHOD:PUBLISH
X-ORIGINAL-URL:https://jerseybee.org
X-WR-CALDESC:Events for The Jersey Bee
REFRESH-INTERVAL;VALUE=DURATION:PT1H
X-Robots-Tag:noindex
X-PUBLISHED-TTL:PT1H
BEGIN:VTIMEZONE
TZID:America/Toronto
BEGIN:DAYLIGHT
TZOFFSETFROM:-0500
TZOFFSETTO:-0400
TZNAME:EDT
DTSTART:20240310T070000
END:DAYLIGHT
BEGIN:STANDARD
TZOFFSETFROM:-0400
TZOFFSETTO:-0500
TZNAME:EST
DTSTART:20241103T060000
END:STANDARD
BEGIN:DAYLIGHT
TZOFFSETFROM:-0500
TZOFFSETTO:-0400
TZNAME:EDT
DTSTART:20250309T070000
END:DAYLIGHT
BEGIN:STANDARD
TZOFFSETFROM:-0400
TZOFFSETTO:-0500
TZNAME:EST
DTSTART:20251102T060000
END:STANDARD
BEGIN:DAYLIGHT
TZOFFSETFROM:-0500
TZOFFSETTO:-0400
TZNAME:EDT
DTSTART:20260308T070000
END:DAYLIGHT
BEGIN:STANDARD
TZOFFSETFROM:-0400
TZOFFSETTO:-0500
TZNAME:EST
DTSTART:20261101T060000
END:STANDARD
END:VTIMEZONE
BEGIN:VEVENT
DTSTART;VALUE=DATE:20250108
DTEND;VALUE=DATE:20250109
DTSTAMP:20260419T131110
CREATED:20241224T152627Z
LAST-MODIFIED:20241224T152627Z
UID:10005212-1736294400-1736380799@jerseybee.org
SUMMARY:Perinatal Health Equity Initiative January 2025 Breastfeeding Class
DESCRIPTION:Prenatal breastfeeding class planned by Perinatal Health Equity Initiative on Jan. 8 in East Orange. The class is from 6-7:30 p.m. at 280 S. Harrison St. It is recommended for people who are at 32-26 weeks in their pregnancy. Attendees are encouraged to bring a support person. Fee is $50. \nFrom \nPerinatal Health Equity Initiative. \nThis information is accurate as of when it was published. Check with the event coordinator for the latest details.
URL:https://jerseybee.org/event/perinatal-health-equity-initiative-january-2025-breastfeeding-class/
CATEGORIES:East Orange,Irvington,Orange
ATTACH;FMTTYPE=image/jpeg:https://jerseybee.org/wp-content/uploads/2023/09/SingleBee_8.jpeg
END:VEVENT
BEGIN:VEVENT
DTSTART;VALUE=DATE:20250109
DTEND;VALUE=DATE:20250110
DTSTAMP:20260419T131110
CREATED:20241224T164642Z
LAST-MODIFIED:20241224T164642Z
UID:10005222-1736380800-1736467199@jerseybee.org
SUMMARY:Maplewood Library "Books Now and Then" Reading Group January 2025 Meeting
DESCRIPTION:“Books Now and Then” reading group meeting planned by Maplewood library on Jan. 9 in the Hilton Branch and virtually. Members will discuss “Flaubert’s Parrot”  by Julian Barnes at 6:30 p.m. Registration is required. \nFrom Maplewood Public Library. \nThis information is accurate as of when it was published. Check with the event coordinator for the latest details.
URL:https://jerseybee.org/event/maplewood-library-books-now-and-then-reading-group-january-2025-meeting/
CATEGORIES:Irvington,Maplewood
ATTACH;FMTTYPE=image/jpeg:https://jerseybee.org/wp-content/uploads/2023/09/SingleBee_10.jpeg
END:VEVENT
BEGIN:VEVENT
DTSTART;VALUE=DATE:20250110
DTEND;VALUE=DATE:20250111
DTSTAMP:20260419T131110
CREATED:20250106T160229Z
LAST-MODIFIED:20250106T160229Z
UID:10005228-1736467200-1736553599@jerseybee.org
SUMMARY:National Action Network-Irvington Winter 2025 Donation Drive
DESCRIPTION:National Action Network-Irvington extended its donations request to Jan. 10. Accepted items include new bedsheets\, pillow cases\, blankets\, socks\, gloves\, hats\, and shelf-stable snacks. All items go toward a women and children’s shelter. Request drop-off location by phone. \nFrom National Action Network (NAN) – Irvington Chapter. \nThis information is accurate as of when it was published. Check with the event coordinator for the latest details.
URL:https://jerseybee.org/event/national-action-network-irvington-winter-2025-donation-drive/
CATEGORIES:Essex County,Irvington
ATTACH;FMTTYPE=image/jpeg:https://jerseybee.org/wp-content/uploads/2023/09/SingleBee_10.jpeg
END:VEVENT
BEGIN:VEVENT
DTSTART;VALUE=DATE:20250113
DTEND;VALUE=DATE:20250114
DTSTAMP:20260419T131110
CREATED:20241218T174103Z
LAST-MODIFIED:20241218T174103Z
UID:10005161-1736726400-1736812799@jerseybee.org
SUMMARY:Irvington Library January 2025 Book Club Meeting
DESCRIPTION:Book club meeting planned by Irvington library on Jan. 13. Members will discuss “Bright Young Women” by Jessica Knoll at 5:30 p.m. \nFrom Irvington Public Library. \nThis information is accurate as of when it was published. Check with the event coordinator for the latest details.
URL:https://jerseybee.org/event/irvington-library-january-2025-book-club-meeting/
CATEGORIES:Irvington
ATTACH;FMTTYPE=image/jpeg:https://jerseybee.org/wp-content/uploads/2023/09/SingleBee_4.jpeg
END:VEVENT
BEGIN:VEVENT
DTSTART;VALUE=DATE:20250113
DTEND;VALUE=DATE:20250114
DTSTAMP:20260419T131110
CREATED:20250106T162905Z
LAST-MODIFIED:20250106T162905Z
UID:10005244-1736726400-1736812799@jerseybee.org
SUMMARY:East Orange Library January 2025 "Teen Party Games"
DESCRIPTION:Game afternoon for youth in grades 8-12 planed by East Orange library on Jan. 13. Youth can meet to play a variety of games like Superfight\, Werewords\, and Exploding Kittens from 4-5:30 p.m. Registration is not required. \nFrom East Orange Public Library. \nThis information is accurate as of when it was published. Check with the event coordinator for the latest details.
URL:https://jerseybee.org/event/east-orange-library-january-2025-teen-party-games/
CATEGORIES:East Orange,Irvington,Orange
ATTACH;FMTTYPE=image/jpeg:https://jerseybee.org/wp-content/uploads/2023/09/SingleBee_3.jpeg
END:VEVENT
BEGIN:VEVENT
DTSTART;VALUE=DATE:20250113
DTEND;VALUE=DATE:20250114
DTSTAMP:20260419T131110
CREATED:20250106T163121Z
LAST-MODIFIED:20250106T163121Z
UID:10005246-1736726400-1736812799@jerseybee.org
SUMMARY:Maplewood Library January 2025 "Toddler Story Time"
DESCRIPTION:Story time for ages 1-3 planned by Maplewood library on Jan. 13 at the Hilton Branch. The event is from 10:30-10:50 a.m. and includes stories\, rhymes\, and movement activities. An accompanying adult must be present. \nFrom Maplewood Public Library. \nThis information is accurate as of when it was published. Check with the event coordinator for the latest details.
URL:https://jerseybee.org/event/maplewood-library-january-2025-toddler-story-time/
CATEGORIES:Irvington,Maplewood
ATTACH;FMTTYPE=image/jpeg:https://jerseybee.org/wp-content/uploads/2023/09/SingleBee_2.jpeg
END:VEVENT
BEGIN:VEVENT
DTSTART;VALUE=DATE:20250113
DTEND;VALUE=DATE:20250114
DTSTAMP:20260419T131110
CREATED:20250108T181838Z
LAST-MODIFIED:20250108T181838Z
UID:10005269-1736726400-1736812799@jerseybee.org
SUMMARY:Jewish Vocational Services Winter 2025 Free Pharmacy Technician Training for English Language Learners
DESCRIPTION:Free pharmacy technician training for English language learners ages 18+ planned by Jewish Vocational Services starting Jan. 13 in East Orange. Applicants interested in the free 14-week training must have a GED or high school diploma\, pass a reading and math test\, compete a background check and drug test\, and speak English at an intermediate level. Classes meet at 7 Glenwood Ave. Registration available online. \nFrom Orange Public Schools. \nThis information is accurate as of when it was published. Check with the event coordinator for the latest details.
URL:https://jerseybee.org/event/jewish-vocational-services-winter-2025-free-pharmacy-technician-training-for-english-language-learners/
CATEGORIES:East Orange,Irvington,Newark,Orange,South Orange,West Orange
ATTACH;FMTTYPE=image/jpeg:https://jerseybee.org/wp-content/uploads/2023/09/SingleBee_9.jpeg
END:VEVENT
BEGIN:VEVENT
DTSTART;VALUE=DATE:20250114
DTEND;VALUE=DATE:20250115
DTSTAMP:20260419T131110
CREATED:20250107T154507Z
LAST-MODIFIED:20250107T154507Z
UID:10005253-1736812800-1736899199@jerseybee.org
SUMMARY:East Orange Library January 2025 Oak Street Health Medicare Information Session
DESCRIPTION:Oak Street Health will visit East Orange library on Jan. 14 to discuss information about Medicare. The event is from 10 a.m. to 12 p.m. \nFrom East Orange Public Library. \nThis information is accurate as of when it was published. Check with the event coordinator for the latest details.
URL:https://jerseybee.org/event/east-orange-library-january-2025-oak-street-health-medicare-information-session/
CATEGORIES:East Orange,Irvington,Orange
ATTACH;FMTTYPE=image/jpeg:https://jerseybee.org/wp-content/uploads/2023/09/SingleBee_10.jpeg
END:VEVENT
BEGIN:VEVENT
DTSTART;VALUE=DATE:20250114
DTEND;VALUE=DATE:20250115
DTSTAMP:20260419T131110
CREATED:20250107T154711Z
LAST-MODIFIED:20250107T154711Z
UID:10005254-1736812800-1736899199@jerseybee.org
SUMMARY:Maplewood Library January 2025 Water Safety Story Time
DESCRIPTION:Free story time about water safety for ages 3-8 planned by Maplewood library on Jan. 14 in the Hilton Branch. It is from 3:30-4 p.m. Attendees will receive a gift bag. Adults must accompany children. \nFrom Maplewood Public Library. \nThis information is accurate as of when it was published. Check with the event coordinator for the latest details.
URL:https://jerseybee.org/event/maplewood-library-january-2025-water-safety-story-time/
CATEGORIES:Irvington,Maplewood,South Orange,West Orange
ATTACH;FMTTYPE=image/jpeg:https://jerseybee.org/wp-content/uploads/2023/09/SingleBee_8.jpeg
END:VEVENT
BEGIN:VEVENT
DTSTART;VALUE=DATE:20250114
DTEND;VALUE=DATE:20250115
DTSTAMP:20260419T131110
CREATED:20250107T155051Z
LAST-MODIFIED:20250107T155051Z
UID:10005258-1736812800-1736899199@jerseybee.org
SUMMARY:Newark Library January 2025 "Make Your Own Snowy Owl" Craft
DESCRIPTION:DIY snowy owl craft for children planned by Newark library on Jan. 14 in the Springfield Branch. Attendees will use pine cones and cotton to make their craft from 3:30-4:30 p.m. Registration is not required. \nFrom Newark Public Library. \nThis information is accurate as of when it was published. Check with the event coordinator for the latest details.
URL:https://jerseybee.org/event/newark-library-january-2025-make-your-own-snowy-owl-craft/
CATEGORIES:Irvington,Newark
ATTACH;FMTTYPE=image/jpeg:https://jerseybee.org/wp-content/uploads/2023/09/SingleBee_10.jpeg
END:VEVENT
BEGIN:VEVENT
DTSTART;VALUE=DATE:20250115
DTEND;VALUE=DATE:20250116
DTSTAMP:20260419T131110
CREATED:20250108T192808Z
LAST-MODIFIED:20250108T192808Z
UID:10005285-1736899200-1736985599@jerseybee.org
SUMMARY:Newark Library January 2025 CPR Training
DESCRIPTION:Hands-on CPR training for ages 9+ planned by Newark library on Jan. 15 at the Weequahic Branch. It is from 5-7 p.m. and led by the American Heart Association. Open to non-Newark library cardholders.  \nFrom Newark Public Library. \nThis information is accurate as of when it was published. Check with the event coordinator for the latest details.
URL:https://jerseybee.org/event/newark-library-january-2025-cpr-training/
CATEGORIES:Irvington,Newark
ATTACH;FMTTYPE=image/jpeg:https://jerseybee.org/wp-content/uploads/2023/09/SingleBee_4.jpeg
END:VEVENT
BEGIN:VEVENT
DTSTART;VALUE=DATE:20250115
DTEND;VALUE=DATE:20250116
DTSTAMP:20260419T131110
CREATED:20250113T211926Z
LAST-MODIFIED:20250113T211926Z
UID:10005329-1736899200-1736985599@jerseybee.org
SUMMARY:Rep. LaMonica McIver January 2025 Mobile Office Hours: East Orange Library
DESCRIPTION:Mobile office hours with Rep. LaMonica McIver planned on Jan. 15 in East Orange. McIver and her team will be available from 11 a.m. to 4 p.m. at East Orange library to provide casework assistance\, share resources\, and answer questions.  \nFrom East Orange City. \nThis information is accurate as of when it was published. Check with the event coordinator for the latest details.
URL:https://jerseybee.org/event/rep-lamonica-mciver-january-2025-mobile-office-hours-east-orange-library/
CATEGORIES:East Orange,Irvington,Montclair,Newark,Orange,West Orange
ATTACH;FMTTYPE=image/jpeg:https://jerseybee.org/wp-content/uploads/2023/09/SingleBee_4.jpeg
END:VEVENT
BEGIN:VEVENT
DTSTART;VALUE=DATE:20250116
DTEND;VALUE=DATE:20250117
DTSTAMP:20260419T131110
CREATED:20250109T193730Z
LAST-MODIFIED:20250109T193730Z
UID:10005309-1736985600-1737071999@jerseybee.org
SUMMARY:La Casa de Don Pedro January 2025 "Healthy Relationships with Mental Health" Workshop
DESCRIPTION:Free workshop discussing ways to improve mental health planned by La Casa de Don Pedro on Jan. 16 in Newark. It is from 4-5:30 p.m. at 23 Broadway. Light refreshments served. Registration is required. \nFrom La Casa De Don Pedro. \nThis information is accurate as of when it was published. Check with the event coordinator for the latest details.
URL:https://jerseybee.org/event/la-casa-de-don-pedro-january-2025-healthy-relationships-with-mental-health-workshop/
CATEGORIES:East Orange,Irvington,Newark
ATTACH;FMTTYPE=image/jpeg:https://jerseybee.org/wp-content/uploads/2023/09/SingleBee_4.jpeg
END:VEVENT
BEGIN:VEVENT
DTSTART;VALUE=DATE:20250122
DTEND;VALUE=DATE:20250123
DTSTAMP:20260419T131110
CREATED:20250113T212535Z
LAST-MODIFIED:20250113T212535Z
UID:10005332-1737504000-1737590399@jerseybee.org
SUMMARY:Irvington January 2025 Women's Self-Defense Class
DESCRIPTION:Free self-defense class for women planned by Irvington on Jan. 22. It is from 5:30-6:30 p.m. at the Chris Gatling Recreation Center. On-site registration available. Open to all ages. \nFrom Irvington Township. \nThis information is accurate as of when it was published. Check with the event coordinator for the latest details.
URL:https://jerseybee.org/event/irvington-january-2025-womens-self-defense-class/
CATEGORIES:Irvington
ATTACH;FMTTYPE=image/jpeg:https://jerseybee.org/wp-content/uploads/2023/09/SingleBee_3.jpeg
END:VEVENT
BEGIN:VEVENT
DTSTART;VALUE=DATE:20250122
DTEND;VALUE=DATE:20250123
DTSTAMP:20260419T131110
CREATED:20250115T173439Z
LAST-MODIFIED:20250115T173439Z
UID:10005357-1737504000-1737590399@jerseybee.org
SUMMARY:Rep. LaMonica McIver January 2025 Mobile Office Hours: Montclair Fire Department
DESCRIPTION:Mobile office hours with Rep. LaMonica McIver planned on Jan. 22 in Montclair. McIver and her team will be available from 11 a.m. to 3 p.m. at Montclair fire department to provide casework assistance\, share resources\, and answer questions. \nFrom Rep. LaMonica McIver. \nThis information is accurate as of when it was published. Check with the event coordinator for the latest details.
URL:https://jerseybee.org/event/rep-lamonica-mciver-january-2025-mobile-office-hours-montclair-fire-department/
CATEGORIES:East Orange,Irvington,Montclair,Newark,Orange,West Orange
ATTACH;FMTTYPE=image/jpeg:https://jerseybee.org/wp-content/uploads/2023/09/SingleBee_9.jpeg
END:VEVENT
BEGIN:VEVENT
DTSTART;VALUE=DATE:20250123
DTEND;VALUE=DATE:20250124
DTSTAMP:20260419T131110
CREATED:20250115T174454Z
LAST-MODIFIED:20250115T174454Z
UID:10005360-1737590400-1737676799@jerseybee.org
SUMMARY:Newark Community Health Center January 2025 Maternal Health Awareness Day Workshop
DESCRIPTION:Free maternal health workshop planned by Newark Community Health Center on Jan. 23 in Newark. It is from 10 a.m. to 2 p.m. at 54 Halsey St. The workshop will discuss social determinants of health and ways to support maternal health. Registration is required. \nFrom Newark Community Health Center\, Inc. (NCHC). \nThis information is accurate as of when it was published. Check with the event coordinator for the latest details.
URL:https://jerseybee.org/event/newark-community-health-center-january-2025-maternal-health-awareness-day-workshop/
CATEGORIES:Belleville,East Orange,Irvington,Newark,Orange
ATTACH;FMTTYPE=image/jpeg:https://jerseybee.org/wp-content/uploads/2023/09/SingleBee_6.jpeg
END:VEVENT
BEGIN:VEVENT
DTSTART;VALUE=DATE:20250124
DTEND;VALUE=DATE:20250125
DTSTAMP:20260419T131110
CREATED:20250116T175854Z
LAST-MODIFIED:20250116T175854Z
UID:10005394-1737676800-1737763199@jerseybee.org
SUMMARY:La Casa de Don Pedro January 2025 Human Trafficking Awareness Presentation
DESCRIPTION:Free information session on human trafficking planned by La Casa de Don Pedro on Jan. 24 in Newark. Attendees will learn how to recognize the signs of human trafficking from 11 a.m. to 12:30 p.m. at 23 Broadway. Registration is required. \nFrom La Casa De Don Pedro. \nThis information is accurate as of when it was published. Check with the event coordinator for the latest details.
URL:https://jerseybee.org/event/la-casa-de-don-pedro-january-2025-human-trafficking-awareness-presentation/
CATEGORIES:Irvington,Newark
ATTACH;FMTTYPE=image/jpeg:https://jerseybee.org/wp-content/uploads/2023/09/SingleBee_3.jpeg
END:VEVENT
BEGIN:VEVENT
DTSTART;VALUE=DATE:20250125
DTEND;VALUE=DATE:20250126
DTSTAMP:20260419T131110
CREATED:20250115T235625Z
LAST-MODIFIED:20250115T235625Z
UID:10005378-1737763200-1737849599@jerseybee.org
SUMMARY:Mutual Morris January 2025 Mutual Aid 101 Meeting
DESCRIPTION:Mutual Aid 101 meeting planned by Mutual Morris on Jan. 25 in East Orange. The meeting is from 11 a.m. to 12:30 p.m. at East Orange library. Attendees will learn about ways to build networks of care in their communities. Registration is required. Attendees must wear a face mask. \nFrom Mutual Morris. \nThis information is accurate as of when it was published. Check with the event coordinator for the latest details.
URL:https://jerseybee.org/event/mutual-morris-january-2025-mutual-aid-101-meeting/
CATEGORIES:Bloomfield,East Orange,Irvington,Newark,Orange
ATTACH;FMTTYPE=image/jpeg:https://jerseybee.org/wp-content/uploads/2023/09/SingleBee_7.jpeg
END:VEVENT
BEGIN:VEVENT
DTSTART;VALUE=DATE:20250125
DTEND;VALUE=DATE:20250126
DTSTAMP:20260419T131110
CREATED:20250116T173859Z
LAST-MODIFIED:20250116T173859Z
UID:10005387-1737763200-1737849599@jerseybee.org
SUMMARY:Maplewood Library January 2025 Lunar New Year Lion Dance Performance
DESCRIPTION:Traditional lion dance performance for the Lunar New Year planned at Maplewood library’s HIlton Branch on Jan. 25. The free event begins at 11:30 a.m. There will be Lunar New Year crafts and a scavenger hunt for children. Registration is not required. \nFrom Maplewood Public Library. \nThis information is accurate as of when it was published. Check with the event coordinator for the latest details.
URL:https://jerseybee.org/event/maplewood-library-january-2025-lunar-new-year-lion-dance-performance/
CATEGORIES:Irvington,Maplewood,South Orange,West Orange
ATTACH;FMTTYPE=image/jpeg:https://jerseybee.org/wp-content/uploads/2023/09/SingleBee_4.jpeg
END:VEVENT
BEGIN:VEVENT
DTSTART;VALUE=DATE:20250125
DTEND;VALUE=DATE:20250126
DTSTAMP:20260419T131110
CREATED:20250116T174923Z
LAST-MODIFIED:20250116T174923Z
UID:10005391-1737763200-1737849599@jerseybee.org
SUMMARY:Unified Vailsburg Services Organization January 2025 Resource Fair
DESCRIPTION:Resource fair planned by Unified Vailsburg Services Organization on Jan. 25 in Newark. It is from 10 a.m. to 1 p.m. at 475 Irvington Ave. Local organizations will table at the event with resources\, including RWJBarnabas Health\, North Star Academy\, Newark health and community wellness\, Planned Parenthood of Metropolitan NJ\, New Community Corporation\, Bricks 4 Kidz\, Inspired by U\, and the Newark fire department. \nFrom Unified Vailsburg Services Organization. \nThis information is accurate as of when it was published. Check with the event coordinator for the latest details.
URL:https://jerseybee.org/event/unified-vailsburg-services-organization-january-2025-resource-fair/
CATEGORIES:East Orange,Irvington,Newark,Orange
ATTACH;FMTTYPE=image/jpeg:https://jerseybee.org/wp-content/uploads/2023/09/SingleBee_10.jpeg
END:VEVENT
BEGIN:VEVENT
DTSTART;VALUE=DATE:20250127
DTEND;VALUE=DATE:20250128
DTSTAMP:20260419T131110
CREATED:20250121T170507Z
LAST-MODIFIED:20250121T170507Z
UID:10005402-1737936000-1738022399@jerseybee.org
SUMMARY:Maplewood Library January 2025 Family Game Night
DESCRIPTION:Free family game night planned by Maplewood library on Jan. 27 in the Hilton Branch. The drop-in event is from 6-7:30 p.m. for families with children age 5+. \nFrom Maplewood Public Library. \nThis information is accurate as of when it was published. Check with the event coordinator for the latest details.
URL:https://jerseybee.org/event/maplewood-library-january-2025-family-game-night/
CATEGORIES:Irvington,Maplewood,South Orange
ATTACH;FMTTYPE=image/jpeg:https://jerseybee.org/wp-content/uploads/2023/09/SingleBee_9.jpeg
END:VEVENT
BEGIN:VEVENT
DTSTART;VALUE=DATE:20250127
DTEND;VALUE=DATE:20250128
DTSTAMP:20260419T131110
CREATED:20250121T173144Z
LAST-MODIFIED:20250121T173144Z
UID:10005406-1737936000-1738022399@jerseybee.org
SUMMARY:NJ Citizen Action January 2025 Fair Housing Workshop
DESCRIPTION:Fair housing workshop planned by NJ Citizen Action on Jan. 27 in Irvington. The workshop begins at 5 p.m. at Irvington library. Attendees will learn how to protect themselves against housing discrimination and their constitutional rights under the Fair Housing Act. \nFrom New Jersey Citizen Action. \nThis information is accurate as of when it was published. Check with the event coordinator for the latest details.
URL:https://jerseybee.org/event/nj-citizen-action-january-2025-fair-housing-workshop/
CATEGORIES:East Orange,Irvington,Maplewood,Newark,Orange
ATTACH;FMTTYPE=image/jpeg:https://jerseybee.org/wp-content/uploads/2023/09/SingleBee_6.jpeg
END:VEVENT
BEGIN:VEVENT
DTSTART;VALUE=DATE:20250129
DTEND;VALUE=DATE:20250130
DTSTAMP:20260419T131110
CREATED:20250122T175555Z
LAST-MODIFIED:20250122T175555Z
UID:10005421-1738108800-1738195199@jerseybee.org
SUMMARY:La Casa de Don Pedro January 2025 Maternal Health Workshop
DESCRIPTION:Free maternal health workshop planned by La Casa de Don Pedro on Jan. 29 in Newark. It is from 11 a.m. to 1 p.m. at 23 Broadway and will discuss the importance of proper prenatal care. Registration is required. \nFrom La Casa De Don Pedro. \nThis information is accurate as of when it was published. Check with the event coordinator for the latest details.
URL:https://jerseybee.org/event/la-casa-de-don-pedro-january-2025-maternal-health-workshop/
CATEGORIES:Irvington,Newark
ATTACH;FMTTYPE=image/jpeg:https://jerseybee.org/wp-content/uploads/2023/09/SingleBee_4.jpeg
END:VEVENT
BEGIN:VEVENT
DTSTART;VALUE=DATE:20250130
DTEND;VALUE=DATE:20250131
DTSTAMP:20260419T131110
CREATED:20250127T195325Z
LAST-MODIFIED:20250127T195325Z
UID:10005487-1738195200-1738281599@jerseybee.org
SUMMARY:United Way of Greater Newark's Young Professionals Network January 2025 "Bowl and Build"
DESCRIPTION:“Bowl and Build” networking event planned by United Way of Greater Newark’s Young Professionals Network on Jan. 30 in Belleville. It is from 6:30-9 p.m. at Bowlero Belleville\, 679 Washington Ave. Admission is $50. Attendees must be 21+. \nFrom United Way of Greater Newark. \nThis information is accurate as of when it was published. Check with the event coordinator for the latest details.
URL:https://jerseybee.org/event/united-way-of-greater-newarks-young-professionals-network-january-2025-bowl-and-build/
CATEGORIES:Belleville,Bloomfield,Glen Ridge,Irvington,Newark,Nutley
ATTACH;FMTTYPE=image/jpeg:https://jerseybee.org/wp-content/uploads/2023/09/SingleBee_7.jpeg
END:VEVENT
BEGIN:VEVENT
DTSTART;VALUE=DATE:20250131
DTEND;VALUE=DATE:20250201
DTSTAMP:20260419T131110
CREATED:20250123T192127Z
LAST-MODIFIED:20250123T192127Z
UID:10005458-1738281600-1738367999@jerseybee.org
SUMMARY:Irvington January 2025 Women's Self-Defense Class
DESCRIPTION:Free self-defense class for women planned by Irvington on Jan. 31. It is from 5:30-6:30 p.m. at the Chris Gatling Recreation Center. On-site registration available. Open to all ages. \nFrom Irvington Township. \nThis information is accurate as of when it was published. Check with the event coordinator for the latest details.
URL:https://jerseybee.org/event/irvington-january-2025-womens-self-defense-class-2/
CATEGORIES:Irvington
ATTACH;FMTTYPE=image/jpeg:https://jerseybee.org/wp-content/uploads/2023/09/SingleBee_3.jpeg
END:VEVENT
END:VCALENDAR